BEGIN:VCALENDAR
VERSION:2.0
PRODID:-//Kota Connections, Inc. - ECPv6.8.2.1//NONSGML v1.0//EN
CALSCALE:GREGORIAN
METHOD:PUBLISH
X-WR-CALNAME:Kota Connections, Inc.
X-ORIGINAL-URL:https://kotaconnections.net
X-WR-CALDESC:Events for Kota Connections, Inc.
REFRESH-INTERVAL;VALUE=DURATION:PT1H
X-Robots-Tag:noindex
X-PUBLISHED-TTL:PT1H
BEGIN:VTIMEZONE
TZID:UTC
BEGIN:STANDARD
TZOFFSETFROM:+0000
TZOFFSETTO:+0000
TZNAME:UTC
DTSTART:20250101T000000
END:STANDARD
END:VTIMEZONE
BEGIN:VEVENT
DTSTART;TZID=UTC:20251119T183000
DTEND;TZID=UTC:20251119T200000
DTSTAMP:20260426T004841
CREATED:20251020T203632Z
LAST-MODIFIED:20251020T203632Z
UID:514269-1763577000-1763582400@kotaconnections.net
SUMMARY:Virtual Bingo
DESCRIPTION:Kota Connections will be hosting a Virtual Bingo event tonight. The $10 cost will go towards the winners of each game and will be sent out as a bill after the event. Any winnings that individuals win\, will first go towards the $10 activity cost before being paid out\, unless the $10 is paid before the event.
URL:https://kotaconnections.net/activity/virtual-bingo-125/
LOCATION:Zoom
END:VEVENT
BEGIN:VEVENT
DTSTART;TZID=UTC:20251119T190000
DTEND;TZID=UTC:20251119T213000
DTSTAMP:20260426T004841
CREATED:20251020T154920Z
LAST-MODIFIED:20251020T154920Z
UID:514240-1763578800-1763587800@kotaconnections.net
SUMMARY:MN T-Wolves
DESCRIPTION:Kota Connections has 4 tickets to today’s MN Timberwolves game. 1 staff member will be able to bring 3 individuals to the game. Ticket price needs to be paid to Staff upon pick up. Spending money for concessions is extra and not included in the ticket price. Target Center does not accept cash so a credit or debit card will be needed to make purchases. *Kota Connections has posted all MN Timberwolves tickets for sale so there is a chance that we will not be able to send a group to this game.*
URL:https://kotaconnections.net/activity/mn-t-wolves-51/
LOCATION:Target Center\, 600 N 1st Ave\, Minneapolis\, MN\, 55403\, United States
END:VEVENT
BEGIN:VEVENT
DTSTART;TZID=UTC:20251119T203000
DTEND;TZID=UTC:20251119T220000
DTSTAMP:20260426T004841
CREATED:20251020T145639Z
LAST-MODIFIED:20251020T151859Z
UID:514213-1763584200-1763589600@kotaconnections.net
SUMMARY:MN Wild
DESCRIPTION:Kota Connections has 4 tickets\, 1 staff and 3 clients\, to attend the MN Wild game today. Ticket price needs to be paid to Staff upon pick up. Spending money for concessions is extra and not included in the ticket price.**Grand Casino Arena does not accept cash\, so a card is required for concessions purchases.** *Kota Connections has posted all MN Wild tickets for sale so there is a chance that we will not be able to send a group to this game.*
URL:https://kotaconnections.net/activity/mn-wild-91/
LOCATION:Grand Casino Arena\, 199 W Kellogg Blvd\, St Paul\, MN 55102\, United States
END:VEVENT
BEGIN:VEVENT
DTSTART;TZID=UTC:20251120T180000
DTEND;TZID=UTC:20251120T200000
DTSTAMP:20260426T004841
CREATED:20251020T203318Z
LAST-MODIFIED:20251020T203540Z
UID:514266-1763661600-1763668800@kotaconnections.net
SUMMARY:KC Meeting @ Doolittle's Eagan
DESCRIPTION:In the spirit of Thanksgiving\, Kota Connections always likes to gather with as many clients as possible for a meal. This event used to be at Old Country Buffet. Since that has closed\, this will be an event spread out between 2 different restaurants on 2 different nights. Every client will pay $40 for the dinner. If your meal is less than $40\, you will have a credit towards future events. If you go over $40\, you will get a bill for the amount you went over. Tonight’s restaurant is Doolittle’s.
URL:https://kotaconnections.net/activity/kc-meeting-doolittles-eagan/
LOCATION:Doolittles\, 2140 Cliff Rd\, Eagan\, MN 55122
END:VEVENT
BEGIN:VEVENT
DTSTART;TZID=UTC:20251122T110000
DTEND;TZID=UTC:20251122T160000
DTSTAMP:20260426T004841
CREATED:20251020T203905Z
LAST-MODIFIED:20251020T204009Z
UID:514271-1763809200-1763827200@kotaconnections.net
SUMMARY:Lunch & Science Museum
DESCRIPTION:Come join Kota Connections at the Science Museum in St. Paul. Enjoy the many different floors of the science museum. Cost will be $75 for the ticket to get in and for the cost of lunch.
URL:https://kotaconnections.net/activity/lunch-science-museum/
LOCATION:Science Museum of Minnesota\, 120 W Kellogg Blvd\, St Paul\, MN 55102
END:VEVENT
BEGIN:VEVENT
DTSTART;TZID=UTC:20251124T183000
DTEND;TZID=UTC:20251124T200000
DTSTAMP:20260426T004841
CREATED:20251020T204120Z
LAST-MODIFIED:20251020T204120Z
UID:514275-1764009000-1764014400@kotaconnections.net
SUMMARY:Open Office + Videogame Night
DESCRIPTION:Come to the office in Lakeville. Come play Videogames\, card games\, pool\, darts\, or a bunch of other games with your peers. Snacks available for purchase.
URL:https://kotaconnections.net/activity/open-office-videogame-night-6/
LOCATION:Kota Connections\, 8500 210th St W Suite 148\, Lakeville\, MN\, 55044\, United States
END:VEVENT
BEGIN:VEVENT
DTSTART;TZID=UTC:20251125T183000
DTEND;TZID=UTC:20251125T200000
DTSTAMP:20260426T004841
CREATED:20251020T204203Z
LAST-MODIFIED:20251020T204203Z
UID:514277-1764095400-1764100800@kotaconnections.net
SUMMARY:Open Office + Videogame Night
DESCRIPTION:Come to the office in Lakeville. Come play Videogames\, card games\, pool\, darts\, or a bunch of other games with your peers. Snacks available for purchase.
URL:https://kotaconnections.net/activity/open-office-videogame-night-7/
LOCATION:Kota Connections\, 8500 210th St W Suite 148\, Lakeville\, MN\, 55044\, United States
END:VEVENT
BEGIN:VEVENT
DTSTART;TZID=UTC:20251128T143000
DTEND;TZID=UTC:20251128T170000
DTSTAMP:20260426T004841
CREATED:20251020T145721Z
LAST-MODIFIED:20251020T151841Z
UID:514215-1764340200-1764349200@kotaconnections.net
SUMMARY:MN Wild
DESCRIPTION:Kota Connections has 4 tickets\, 1 staff and 3 clients\, to attend the MN Wild game today. Ticket price needs to be paid to Staff upon pick up. Spending money for concessions is extra and not included in the ticket price.**Grand Casino Arena does not accept cash\, so a card is required for concessions purchases.** *Kota Connections has posted all MN Wild tickets for sale so there is a chance that we will not be able to send a group to this game.*
URL:https://kotaconnections.net/activity/mn-wild-92/
LOCATION:Grand Casino Arena\, 199 W Kellogg Blvd\, St Paul\, MN 55102\, United States
END:VEVENT
BEGIN:VEVENT
DTSTART;TZID=UTC:20251129T160000
DTEND;TZID=UTC:20251129T183000
DTSTAMP:20260426T004841
CREATED:20251020T154958Z
LAST-MODIFIED:20251020T154958Z
UID:514242-1764432000-1764441000@kotaconnections.net
SUMMARY:MN T-Wolves
DESCRIPTION:Kota Connections has 4 tickets to today’s MN Timberwolves game. 1 staff member will be able to bring 3 individuals to the game. Ticket price needs to be paid to Staff upon pick up. Spending money for concessions is extra and not included in the ticket price. Target Center does not accept cash so a credit or debit card will be needed to make purchases. *Kota Connections has posted all MN Timberwolves tickets for sale so there is a chance that we will not be able to send a group to this game.*
URL:https://kotaconnections.net/activity/mn-t-wolves-52/
LOCATION:Target Center\, 600 N 1st Ave\, Minneapolis\, MN\, 55403\, United States
END:VEVENT
BEGIN:VEVENT
DTSTART;TZID=UTC:20251129T190000
DTEND;TZID=UTC:20251129T213000
DTSTAMP:20260426T004841
CREATED:20251020T145752Z
LAST-MODIFIED:20251020T151824Z
UID:514217-1764442800-1764451800@kotaconnections.net
SUMMARY:MN Wild
DESCRIPTION:Kota Connections has 4 tickets\, 1 staff and 3 clients\, to attend the MN Wild game today. Ticket price needs to be paid to Staff upon pick up. Spending money for concessions is extra and not included in the ticket price.**Grand Casino Arena does not accept cash\, so a card is required for concessions purchases.** *Kota Connections has posted all MN Wild tickets for sale so there is a chance that we will not be able to send a group to this game.*
URL:https://kotaconnections.net/activity/mn-wild-93/
LOCATION:Grand Casino Arena\, 199 W Kellogg Blvd\, St Paul\, MN 55102\, United States
END:VEVENT
BEGIN:VEVENT
DTSTART;TZID=UTC:20251130T180000
DTEND;TZID=UTC:20251130T203000
DTSTAMP:20260426T004841
CREATED:20251020T155034Z
LAST-MODIFIED:20251020T155034Z
UID:514244-1764525600-1764534600@kotaconnections.net
SUMMARY:MN T-Wolves
DESCRIPTION:Kota Connections has 4 tickets to today’s MN Timberwolves game. 1 staff member will be able to bring 3 individuals to the game. Ticket price needs to be paid to Staff upon pick up. Spending money for concessions is extra and not included in the ticket price. Target Center does not accept cash so a credit or debit card will be needed to make purchases. *Kota Connections has posted all MN Timberwolves tickets for sale so there is a chance that we will not be able to send a group to this game.*
URL:https://kotaconnections.net/activity/mn-t-wolves-53/
LOCATION:Target Center\, 600 N 1st Ave\, Minneapolis\, MN\, 55403\, United States
END:VEVENT
BEGIN:VEVENT
DTSTART;TZID=UTC:20251203T183000
DTEND;TZID=UTC:20251203T200000
DTSTAMP:20260426T004841
CREATED:20251125T213956Z
LAST-MODIFIED:20251125T213956Z
UID:514280-1764786600-1764792000@kotaconnections.net
SUMMARY:*LYFT Only or Own* AV Buffalo Wild Wings
DESCRIPTION:Come join Kota Connections at your local Buffalo Wild Wings in Apple Valley for Dinner. Cost is $25 for food and pop. *LYFT or Own only for this activity* Staff will be there to help schedule Lyft rides home.
URL:https://kotaconnections.net/activity/lyft-only-or-own-av-buffalo-wild-wings/
LOCATION:AV Buffalo Wild Wings\, 14658 Cedar Ave\, Apple Valley\, MN 55124
END:VEVENT
BEGIN:VEVENT
DTSTART;TZID=UTC:20251204T183000
DTEND;TZID=UTC:20251204T200000
DTSTAMP:20260426T004841
CREATED:20251125T214150Z
LAST-MODIFIED:20251125T214150Z
UID:514283-1764873000-1764878400@kotaconnections.net
SUMMARY:Buck Hill
DESCRIPTION:Join a Kota Connections group for either Tubing or Skiing at Buck Hill. Ticket price may vary depending on if equipment rental is needed for skiing. There will also be a snack in the chalet at the end of the event. $40 for Tubing and $75 for Skiing.
URL:https://kotaconnections.net/activity/buck-hill-10/
LOCATION:Buck Hill\, 15400 Buck Hill Rd\, Burnsville\, MN 55306
END:VEVENT
BEGIN:VEVENT
DTSTART;TZID=UTC:20251205T183000
DTEND;TZID=UTC:20251205T210000
DTSTAMP:20260426T004841
CREATED:20251125T214410Z
LAST-MODIFIED:20251125T214410Z
UID:514286-1764959400-1764968400@kotaconnections.net
SUMMARY:PE Holiday Dance
DESCRIPTION:Come join us at the Project Explore Holiday dance at Valley Middle School. Enjoy being with your peers\, dancing\, and cookies. Dress warm for the weather. Snacks and drinks are provided. Cost is $8.
URL:https://kotaconnections.net/activity/pe-holiday-dance-2/
LOCATION:Apple Valley Middle School\, 900 Garden View Drive\, Apple Valley\, Minnesota\, 55124
END:VEVENT
BEGIN:VEVENT
DTSTART;TZID=UTC:20251206T120000
DTEND;TZID=UTC:20251206T150000
DTSTAMP:20260426T004841
CREATED:20251125T214506Z
LAST-MODIFIED:20251125T214506Z
UID:514289-1765022400-1765033200@kotaconnections.net
SUMMARY:Movie Day
DESCRIPTION:Kota Connections will be going to a Movie Theater today with a group of interested individuals. The theater will be chosen closer to the date of the event. Movie choices will be given out the day prior the event. Ticket price is $15 and then extra money is suggested for snacks or beverages.
URL:https://kotaconnections.net/activity/movie-day/
LOCATION:MN
END:VEVENT
BEGIN:VEVENT
DTSTART;TZID=UTC:20251208T183000
DTEND;TZID=UTC:20251208T200000
DTSTAMP:20260426T004841
CREATED:20251125T215024Z
LAST-MODIFIED:20251125T215024Z
UID:514293-1765218600-1765224000@kotaconnections.net
SUMMARY:Nickelodeon at MOA
DESCRIPTION:Join the group at Mall of America to go on rides at Nickelodeon Universe. The nation’s first indoor Nickelodeon theme park. Whether you are a roller coaster enthusiast or just along for the ride\, we have something for everyone. Cost is $50
URL:https://kotaconnections.net/activity/nickelodeon-at-moa-2/
LOCATION:Mall of America\, 60 E Broadway\, Bloomington\, MN\, 55425\, United States
END:VEVENT
BEGIN:VEVENT
DTSTART;TZID=UTC:20251208T190000
DTEND;TZID=UTC:20251208T213000
DTSTAMP:20260426T004841
CREATED:20251202T183128Z
LAST-MODIFIED:20251202T183128Z
UID:514310-1765220400-1765229400@kotaconnections.net
SUMMARY:MN T-Wolves
DESCRIPTION:Kota Connections has 4 tickets to today’s MN Timberwolves game. 1 staff member will be able to bring 3 individuals to the game. Ticket price needs to be paid to Staff upon pick up. Spending money for concessions is extra and not included in the ticket price. Target Center does not accept cash so a credit or debit card will be needed to make purchases. *Kota Connections has posted all MN Timberwolves tickets for sale so there is a chance that we will not be able to send a group to this game.*
URL:https://kotaconnections.net/activity/mn-t-wolves-54/
LOCATION:Target Center\, 600 N 1st Ave\, Minneapolis\, MN\, 55403\, United States
END:VEVENT
BEGIN:VEVENT
DTSTART;TZID=UTC:20251209T180000
DTEND;TZID=UTC:20251209T200000
DTSTAMP:20260426T004841
CREATED:20251125T215220Z
LAST-MODIFIED:20251125T215324Z
UID:514297-1765303200-1765310400@kotaconnections.net
SUMMARY:Christmas Shopping & Holiday Lights
DESCRIPTION:Get a head start on your Christmas Shopping and also go through a Christmas Light Display.  $25 should be enough for the snack and light display. Shopping money will need to be brought with. *The location for both shopping and the light display have not been decided yet.*
URL:https://kotaconnections.net/activity/christmas-shopping-holiday-lights-3/
LOCATION:MN
END:VEVENT
BEGIN:VEVENT
DTSTART;TZID=UTC:20251210T180000
DTEND;TZID=UTC:20251210T200000
DTSTAMP:20260426T004841
CREATED:20251125T215304Z
LAST-MODIFIED:20251125T215304Z
UID:514299-1765389600-1765396800@kotaconnections.net
SUMMARY:Christmas Shopping & Holiday Lights
DESCRIPTION:Get a head start on your Christmas Shopping and also go through a Christmas Light Display.  $25 should be enough for the snack and light display. Shopping money will need to be brought with. *The location for both shopping and the light display have not been decided yet.*
URL:https://kotaconnections.net/activity/christmas-shopping-holiday-lights-4/
LOCATION:MN
END:VEVENT
BEGIN:VEVENT
DTSTART;TZID=UTC:20251211T183000
DTEND;TZID=UTC:20251211T200000
DTSTAMP:20260426T004841
CREATED:20251125T215058Z
LAST-MODIFIED:20251125T215058Z
UID:514295-1765477800-1765483200@kotaconnections.net
SUMMARY:Nickelodeon at MOA
DESCRIPTION:Join the group at Mall of America to go on rides at Nickelodeon Universe. The nation’s first indoor Nickelodeon theme park. Whether you are a roller coaster enthusiast or just along for the ride\, we have something for everyone. Cost is $50
URL:https://kotaconnections.net/activity/nickelodeon-at-moa-3/
LOCATION:Mall of America\, 60 E Broadway\, Bloomington\, MN\, 55425\, United States
END:VEVENT
BEGIN:VEVENT
DTSTART;TZID=UTC:20251211T190000
DTEND;TZID=UTC:20251211T213000
DTSTAMP:20260426T004841
CREATED:20251202T183827Z
LAST-MODIFIED:20251202T183827Z
UID:514316-1765479600-1765488600@kotaconnections.net
SUMMARY:MN Wild
DESCRIPTION:Kota Connections has 4 tickets\, 1 staff and 3 clients\, to attend the MN Wild game today. Ticket price needs to be paid to Staff upon pick up. Spending money for concessions is extra and not included in the ticket price.**Grand Casino Arena does not accept cash\, so a card is required for concessions purchases.** *Kota Connections has posted all MN Wild tickets for sale so there is a chance that we will not be able to send a group to this game.*
URL:https://kotaconnections.net/activity/mn-wild-83/
LOCATION:Grand Casino Arena\, 199 W Kellogg Blvd\, St Paul\, MN 55102\, United States
END:VEVENT
BEGIN:VEVENT
DTSTART;TZID=UTC:20251212T113000
DTEND;TZID=UTC:20251212T200000
DTSTAMP:20260426T004841
CREATED:20251125T215859Z
LAST-MODIFIED:20251125T215859Z
UID:514301-1765539000-1765569600@kotaconnections.net
SUMMARY:KC Christmas Luncheon – PRE-PAID AND REGISTERED EVENT
DESCRIPTION:Thanks to the KC Fund for the support of hosting this years annual Kota Connections Christmas Luncheon. Lunch will be at Brackett’s Crossing followed by event/s unknown to all staff and clients besides David. There will be another meal included in the evening as well. This event is pre-paid and pre-registered.
URL:https://kotaconnections.net/activity/kc-christmas-luncheon-pre-paid-and-registered-event-3/
LOCATION:Bracketts Crossing\, 17976 Judicial Rd\, Lakeville\, MN\, 55044\, United States
END:VEVENT
BEGIN:VEVENT
DTSTART;TZID=UTC:20251213T130000
DTEND;TZID=UTC:20251213T153000
DTSTAMP:20260426T004841
CREATED:20251202T183951Z
LAST-MODIFIED:20251202T183951Z
UID:514318-1765630800-1765639800@kotaconnections.net
SUMMARY:MN Wild
DESCRIPTION:Kota Connections has 4 tickets\, 1 staff and 3 clients\, to attend the MN Wild game today. Ticket price needs to be paid to Staff upon pick up. Spending money for concessions is extra and not included in the ticket price.**Grand Casino Arena does not accept cash\, so a card is required for concessions purchases.** *Kota Connections has posted all MN Wild tickets for sale so there is a chance that we will not be able to send a group to this game.*
URL:https://kotaconnections.net/activity/mn-wild-94/
LOCATION:Grand Casino Arena\, 199 W Kellogg Blvd\, St Paul\, MN 55102\, United States
END:VEVENT
BEGIN:VEVENT
DTSTART;TZID=UTC:20251214T170000
DTEND;TZID=UTC:20251214T193000
DTSTAMP:20260426T004841
CREATED:20251202T184045Z
LAST-MODIFIED:20251202T184045Z
UID:514320-1765731600-1765740600@kotaconnections.net
SUMMARY:MN Wild
DESCRIPTION:Kota Connections has 4 tickets\, 1 staff and 3 clients\, to attend the MN Wild game today. Ticket price needs to be paid to Staff upon pick up. Spending money for concessions is extra and not included in the ticket price.**Grand Casino Arena does not accept cash\, so a card is required for concessions purchases.** *Kota Connections has posted all MN Wild tickets for sale so there is a chance that we will not be able to send a group to this game.*
URL:https://kotaconnections.net/activity/mn-wild-95/
LOCATION:Grand Casino Arena\, 199 W Kellogg Blvd\, St Paul\, MN 55102\, United States
END:VEVENT
BEGIN:VEVENT
DTSTART;TZID=UTC:20251215T183000
DTEND;TZID=UTC:20251215T200000
DTSTAMP:20260426T004841
CREATED:20251125T220118Z
LAST-MODIFIED:20251125T220147Z
UID:514303-1765823400-1765828800@kotaconnections.net
SUMMARY:Christmas Cookie Bake
DESCRIPTION:Get in the spirit of Christmas and join the group making cookies. Frost the cookie and eat some warm cookies. You will be able to take some of the cookies home at the end of the evening. This is 1 of the 2 offerings of this event this month.
URL:https://kotaconnections.net/activity/christmas-cookie-bake-3/
LOCATION:Kota Connections\, 8500 210th St W Suite 148\, Lakeville\, MN\, 55044\, United States
END:VEVENT
BEGIN:VEVENT
DTSTART;TZID=UTC:20251216T183000
DTEND;TZID=UTC:20251216T200000
DTSTAMP:20260426T004841
CREATED:20251125T220226Z
LAST-MODIFIED:20251125T220226Z
UID:514306-1765909800-1765915200@kotaconnections.net
SUMMARY:Christmas Cookie Bake
DESCRIPTION:Get in the spirit of Christmas and join the group making cookies. Frost the cookie and eat some warm cookies. You will be able to take some of the cookies home at the end of the evening. This is 1 of the 2 offerings of this event this month.
URL:https://kotaconnections.net/activity/christmas-cookie-bake-4/
LOCATION:Kota Connections\, 8500 210th St W Suite 148\, Lakeville\, MN\, 55044\, United States
END:VEVENT
BEGIN:VEVENT
DTSTART;TZID=UTC:20251216T190000
DTEND;TZID=UTC:20251216T213000
DTSTAMP:20260426T004841
CREATED:20251202T184211Z
LAST-MODIFIED:20251202T184211Z
UID:514322-1765911600-1765920600@kotaconnections.net
SUMMARY:MN Wild
DESCRIPTION:Kota Connections has 4 tickets\, 1 staff and 3 clients\, to attend the MN Wild game today. Ticket price needs to be paid to Staff upon pick up. Spending money for concessions is extra and not included in the ticket price.**Grand Casino Arena does not accept cash\, so a card is required for concessions purchases.** *Kota Connections has posted all MN Wild tickets for sale so there is a chance that we will not be able to send a group to this game.*
URL:https://kotaconnections.net/activity/mn-wild-96/
LOCATION:Grand Casino Arena\, 199 W Kellogg Blvd\, St Paul\, MN 55102\, United States
END:VEVENT
BEGIN:VEVENT
DTSTART;TZID=UTC:20251217T183000
DTEND;TZID=UTC:20251217T200000
DTSTAMP:20260426T004841
CREATED:20251125T220519Z
LAST-MODIFIED:20251125T220519Z
UID:514308-1765996200-1766001600@kotaconnections.net
SUMMARY:Virtual Bingo
DESCRIPTION:Kota Connections will be hosting a Virtual Bingo event tonight. The $10 cost will go towards the winners of each game and will be sent out as a bill after the event. Any winnings that individuals win\, will first go towards the $10 activity cost before being paid out\, unless the $10 is paid before the event.
URL:https://kotaconnections.net/activity/virtual-bingo-126/
LOCATION:MN
END:VEVENT
BEGIN:VEVENT
DTSTART;TZID=UTC:20251217T190000
DTEND;TZID=UTC:20251217T213000
DTSTAMP:20260426T004841
CREATED:20251202T183611Z
LAST-MODIFIED:20251202T183611Z
UID:514312-1765998000-1766007000@kotaconnections.net
SUMMARY:MN T-Wolves
DESCRIPTION:Kota Connections has 4 tickets to today’s MN Timberwolves game. 1 staff member will be able to bring 3 individuals to the game. Ticket price needs to be paid to Staff upon pick up. Spending money for concessions is extra and not included in the ticket price. Target Center does not accept cash so a credit or debit card will be needed to make purchases. *Kota Connections has posted all MN Timberwolves tickets for sale so there is a chance that we will not be able to send a group to this game.*
URL:https://kotaconnections.net/activity/mn-t-wolves-55/
LOCATION:Target Center\, 600 N 1st Ave\, Minneapolis\, MN\, 55403\, United States
END:VEVENT
BEGIN:VEVENT
DTSTART;TZID=UTC:20251218T110000
DTEND;TZID=UTC:20251218T120000
DTSTAMP:20260426T004841
CREATED:20251202T184735Z
LAST-MODIFIED:20251202T184735Z
UID:514330-1766055600-1766059200@kotaconnections.net
SUMMARY:PE Lunch Bunch Carbone's Rosemount
DESCRIPTION:Come join us at Carbone’s in Rosemount with Project Explore. This activity is Lyft only to help clients practice Lyft. Staff will be at Carbone’s to help clients order Lyft rides home.
URL:https://kotaconnections.net/activity/pe-lunch-bunch-carbones-rosemount/
LOCATION:MN
END:VEVENT
END:VCALENDAR