BEGIN:VCALENDAR
VERSION:2.0
PRODID:-//Kota Connections, Inc. - ECPv6.8.2.1//NONSGML v1.0//EN
CALSCALE:GREGORIAN
METHOD:PUBLISH
X-WR-CALNAME:Kota Connections, Inc.
X-ORIGINAL-URL:https://kotaconnections.net
X-WR-CALDESC:Events for Kota Connections, Inc.
REFRESH-INTERVAL;VALUE=DURATION:PT1H
X-Robots-Tag:noindex
X-PUBLISHED-TTL:PT1H
BEGIN:VTIMEZONE
TZID:UTC
BEGIN:STANDARD
TZOFFSETFROM:+0000
TZOFFSETTO:+0000
TZNAME:UTC
DTSTART:20250101T000000
END:STANDARD
END:VTIMEZONE
BEGIN:VEVENT
DTSTART;TZID=UTC:20251101T083000
DTEND;TZID=UTC:20251101T093000
DTSTAMP:20260426T005018
CREATED:20251020T144329Z
LAST-MODIFIED:20251020T144329Z
UID:514198-1761985800-1761989400@kotaconnections.net
SUMMARY:MOA Walk
DESCRIPTION:Join the group on a walk around the Mall of America before the stores open up. This is a fitness walk activity\, not a window shopping activity. Clients will be able to track how many steps/miles they walk on this event.
URL:https://kotaconnections.net/activity/moa-walk-16/
LOCATION:Mall of America\, 60 E Broadway\, Bloomington\, MN\, 55425\, United States
END:VEVENT
BEGIN:VEVENT
DTSTART;TZID=UTC:20251101T180000
DTEND;TZID=UTC:20251101T203000
DTSTAMP:20260426T005018
CREATED:20251020T144603Z
LAST-MODIFIED:20251020T152911Z
UID:514200-1762020000-1762029000@kotaconnections.net
SUMMARY:MN Wild
DESCRIPTION:Kota Connections has 4 tickets\, 1 staff and 3 clients\, to attend the MN Wild game today. Ticket price needs to be paid to Staff upon pick up. Spending money for concessions is extra and not included in the ticket price.**Grand Casino Arena does not accept cash\, so a card is required for concessions purchases.** *Kota Connections has posted all MN Wild tickets for sale so there is a chance that we will not be able to send a group to this game.*
URL:https://kotaconnections.net/activity/mn-wild-85/
LOCATION:Grand Casino Arena\, 199 W Kellogg Blvd\, St Paul\, MN 55102\, United States
END:VEVENT
BEGIN:VEVENT
DTSTART;TZID=UTC:20251103T183000
DTEND;TZID=UTC:20251103T200000
DTSTAMP:20260426T005018
CREATED:20251020T201037Z
LAST-MODIFIED:20251020T201037Z
UID:514248-1762194600-1762200000@kotaconnections.net
SUMMARY:Bowlero's Bowling
DESCRIPTION:Come join us for Bowling @ Bowlero in Lakeville. Enjoy all you can eat Pizza and pop. Bowl for an hour and half and enjoy spending time with your peers. Cost is $30. **Need to buy tickets in advance if clients drop out too late may still be charged the $30**
URL:https://kotaconnections.net/activity/bowleros-bowling-2/
LOCATION:Lucky Strike\, 11129 162nd St W\, Lakeville\, MN 55044
END:VEVENT
BEGIN:VEVENT
DTSTART;TZID=UTC:20251104T183000
DTEND;TZID=UTC:20251104T203000
DTSTAMP:20260426T005018
CREATED:20251020T201213Z
LAST-MODIFIED:20251020T201213Z
UID:514250-1762281000-1762288200@kotaconnections.net
SUMMARY:KC Movie Night at LV Office
DESCRIPTION:Come to the Kota Connections for an indoor movie if the weather permits. If the weather does not permit\, the movie will be inside. Snacks will be available for purchase.
URL:https://kotaconnections.net/activity/kc-movie-night-at-lv-office/
LOCATION:Kota Connections\, 8500 210th St W Suite 148\, Lakeville\, MN\, 55044\, United States
END:VEVENT
BEGIN:VEVENT
DTSTART;TZID=UTC:20251104T190000
DTEND;TZID=UTC:20251104T213000
DTSTAMP:20260426T005018
CREATED:20251020T144813Z
LAST-MODIFIED:20251020T152848Z
UID:514203-1762282800-1762291800@kotaconnections.net
SUMMARY:MN Wild
DESCRIPTION:Kota Connections has 4 tickets\, 1 staff and 3 clients\, to attend the MN Wild game today. Ticket price needs to be paid to Staff upon pick up. Spending money for concessions is extra and not included in the ticket price.**Grand Casino Arena does not accept cash\, so a card is required for concessions purchases.** *Kota Connections has posted all MN Wild tickets for sale so there is a chance that we will not be able to send a group to this game.*
URL:https://kotaconnections.net/activity/mn-wild-86/
LOCATION:Grand Casino Arena\, 199 W Kellogg Blvd\, St Paul\, MN 55102\, United States
END:VEVENT
BEGIN:VEVENT
DTSTART;TZID=UTC:20251105T183000
DTEND;TZID=UTC:20251105T200000
DTSTAMP:20260426T005018
CREATED:20251020T201306Z
LAST-MODIFIED:20251020T201404Z
UID:514252-1762367400-1762372800@kotaconnections.net
SUMMARY:KC Movie Night @ LV Office
DESCRIPTION:Come to the Kota Connections for an indoor movie if the weather permits. If the weather does not permit\, the movie will be inside. Snacks will be available for purchase.
URL:https://kotaconnections.net/activity/kc-movie-night-lv-office/
LOCATION:Kota Connections\, 8500 210th St W Suite 148\, Lakeville\, MN\, 55044\, United States
END:VEVENT
BEGIN:VEVENT
DTSTART;TZID=UTC:20251107T190000
DTEND;TZID=UTC:20251107T213000
DTSTAMP:20260426T005018
CREATED:20251020T154423Z
LAST-MODIFIED:20251020T154423Z
UID:514232-1762542000-1762551000@kotaconnections.net
SUMMARY:MN T-Wolves
DESCRIPTION:Kota Connections has 4 tickets to today’s MN Timberwolves game. 1 staff member will be able to bring 3 individuals to the game. Ticket price needs to be paid to Staff upon pick up. Spending money for concessions is extra and not included in the ticket price. Target Center does not accept cash so a credit or debit card will be needed to make purchases. *Kota Connections has posted all MN Timberwolves tickets for sale so there is a chance that we will not be able to send a group to this game.*
URL:https://kotaconnections.net/activity/mn-t-wolves-47/
LOCATION:MN
END:VEVENT
BEGIN:VEVENT
DTSTART;TZID=UTC:20251108T090000
DTEND;TZID=UTC:20251108T103000
DTSTAMP:20260426T005019
CREATED:20251020T201503Z
LAST-MODIFIED:20251020T201503Z
UID:514254-1762592400-1762597800@kotaconnections.net
SUMMARY:Target Shop AV
DESCRIPTION:Come get your Target needs with your peers on this event. Then get Coffee only. Cost of this event is $15 for Coffee / Beverage and  a snack. The extra money is for shopping.
URL:https://kotaconnections.net/activity/target-shop-av-2/
LOCATION:Target Cedar AV
END:VEVENT
BEGIN:VEVENT
DTSTART;TZID=UTC:20251109T190000
DTEND;TZID=UTC:20251109T213000
DTSTAMP:20260426T005019
CREATED:20251020T144853Z
LAST-MODIFIED:20251020T152724Z
UID:514205-1762714800-1762723800@kotaconnections.net
SUMMARY:MN Wild
DESCRIPTION:Kota Connections has 4 tickets\, 1 staff and 3 clients\, to attend the MN Wild game today. Ticket price needs to be paid to Staff upon pick up. Spending money for concessions is extra and not included in the ticket price.**Grand Casino Arena does not accept cash\, so a card is required for concessions purchases.** *Kota Connections has posted all MN Wild tickets for sale so there is a chance that we will not be able to send a group to this game.*
URL:https://kotaconnections.net/activity/mn-wild-87/
LOCATION:Grand Casino Arena\, 199 W Kellogg Blvd\, St Paul\, MN 55102\, United States
END:VEVENT
BEGIN:VEVENT
DTSTART;TZID=UTC:20251110T183000
DTEND;TZID=UTC:20251110T200000
DTSTAMP:20260426T005019
CREATED:20251020T200927Z
LAST-MODIFIED:20251020T200955Z
UID:514246-1762799400-1762804800@kotaconnections.net
SUMMARY:Bowlero's Bowling
DESCRIPTION:Come join us for Bowling @ Bowlero in Lakeville. Enjoy all you can eat Pizza and pop. Bowl for an hour and half and enjoy spending time with your peers. Cost is $30. **Need to buy tickets in advance if clients drop out too late may still be charged the $30**
URL:https://kotaconnections.net/activity/bowleros-bowling/
LOCATION:MN
END:VEVENT
BEGIN:VEVENT
DTSTART;TZID=UTC:20251111T190000
DTEND;TZID=UTC:20251111T213000
DTSTAMP:20260426T005019
CREATED:20251020T145033Z
LAST-MODIFIED:20251020T151958Z
UID:514209-1762887600-1762896600@kotaconnections.net
SUMMARY:MN Wild
DESCRIPTION:Kota Connections has 4 tickets\, 1 staff and 3 clients\, to attend the MN Wild game today. Ticket price needs to be paid to Staff upon pick up. Spending money for concessions is extra and not included in the ticket price.**Grand Casino Arena does not accept cash\, so a card is required for concessions purchases.** *Kota Connections has posted all MN Wild tickets for sale so there is a chance that we will not be able to send a group to this game.*
URL:https://kotaconnections.net/activity/mn-wild-89/
LOCATION:Grand Casino Arena\, 199 W Kellogg Blvd\, St Paul\, MN 55102\, United States
END:VEVENT
BEGIN:VEVENT
DTSTART;TZID=UTC:20251112T180000
DTEND;TZID=UTC:20251112T193000
DTSTAMP:20260426T005019
CREATED:20251020T201755Z
LAST-MODIFIED:20251020T202715Z
UID:514256-1762970400-1762975800@kotaconnections.net
SUMMARY:Bowlero's Arcade *LYFT or OWN ONLY*
DESCRIPTION:Come join Kota Connections at Bowlero in Lakeville to enjoy their arcade games for the night. Cost is $25 for arcade games. This activity is Lyft only to help clients practice Lyft. Staff will be at Bowlero to help clients order Lyft rides home.
URL:https://kotaconnections.net/activity/bowleros-arcade-lyft-or-own-only/
LOCATION:Lucky Strike\, 11129 162nd St W\, Lakeville\, MN 55044
END:VEVENT
BEGIN:VEVENT
DTSTART;TZID=UTC:20251114T190000
DTEND;TZID=UTC:20251114T213000
DTSTAMP:20260426T005019
CREATED:20251020T154510Z
LAST-MODIFIED:20251020T154510Z
UID:514234-1763146800-1763155800@kotaconnections.net
SUMMARY:MN T-Wolves
DESCRIPTION:Kota Connections has 4 tickets to today’s MN Timberwolves game. 1 staff member will be able to bring 3 individuals to the game. Ticket price needs to be paid to Staff upon pick up. Spending money for concessions is extra and not included in the ticket price. Target Center does not accept cash so a credit or debit card will be needed to make purchases. *Kota Connections has posted all MN Timberwolves tickets for sale so there is a chance that we will not be able to send a group to this game.*
URL:https://kotaconnections.net/activity/mn-t-wolves-48/
LOCATION:Target Center\, 600 N 1st Ave\, Minneapolis\, MN\, 55403\, United States
END:VEVENT
BEGIN:VEVENT
DTSTART;TZID=UTC:20251115T100000
DTEND;TZID=UTC:20251115T120000
DTSTAMP:20260426T005019
CREATED:20251020T202129Z
LAST-MODIFIED:20251020T202129Z
UID:514258-1763200800-1763208000@kotaconnections.net
SUMMARY:Arts and Crafts Festival Canterbury
DESCRIPTION:Join us November 15 at Canterbury Park in Shakopee\, MN for the Autumn Festival\, An Arts & Crafts Affair. Hundreds of the nation’s finest artists and crafters display and sell their handcrafted works. Our Arts & Crafts tour of shows are consistently ranked in the Top 100 Shows in the Country by Sunshine Artist Magazine. An hourly gift certificate winner\, plenty of food & drink\, lots of family fun\, and free parking!
URL:https://kotaconnections.net/activity/arts-and-crafts-festival-canterbury/
LOCATION:Canterbury Park\, 1100 Canterbury Road\, Shakopee\, MN\, 55379\, United States
END:VEVENT
BEGIN:VEVENT
DTSTART;TZID=UTC:20251115T170000
DTEND;TZID=UTC:20251115T193000
DTSTAMP:20260426T005019
CREATED:20251020T145118Z
LAST-MODIFIED:20251020T151939Z
UID:514211-1763226000-1763235000@kotaconnections.net
SUMMARY:MN Wild
DESCRIPTION:Kota Connections has 4 tickets\, 1 staff and 3 clients\, to attend the MN Wild game today. Ticket price needs to be paid to Staff upon pick up. Spending money for concessions is extra and not included in the ticket price.**Grand Casino Arena does not accept cash\, so a card is required for concessions purchases.** *Kota Connections has posted all MN Wild tickets for sale so there is a chance that we will not be able to send a group to this game.*
URL:https://kotaconnections.net/activity/mn-wild-90/
LOCATION:Grand Casino Arena\, 199 W Kellogg Blvd\, St Paul\, MN 55102\, United States
END:VEVENT
BEGIN:VEVENT
DTSTART;TZID=UTC:20251115T190000
DTEND;TZID=UTC:20251115T213000
DTSTAMP:20260426T005019
CREATED:20251020T154632Z
LAST-MODIFIED:20251020T154632Z
UID:514236-1763233200-1763242200@kotaconnections.net
SUMMARY:MN T-Wolves
DESCRIPTION:Kota Connections has 4 tickets to today’s MN Timberwolves game. 1 staff member will be able to bring 3 individuals to the game. Ticket price needs to be paid to Staff upon pick up. Spending money for concessions is extra and not included in the ticket price. Target Center does not accept cash so a credit or debit card will be needed to make purchases. *Kota Connections has posted all MN Timberwolves tickets for sale so there is a chance that we will not be able to send a group to this game.*
URL:https://kotaconnections.net/activity/mn-t-wolves-49/
LOCATION:Target Center\, 600 N 1st Ave\, Minneapolis\, MN\, 55403\, United States
END:VEVENT
BEGIN:VEVENT
DTSTART;TZID=UTC:20251116T170000
DTEND;TZID=UTC:20251116T193000
DTSTAMP:20260426T005019
CREATED:20251020T144946Z
LAST-MODIFIED:20251020T151923Z
UID:514207-1763312400-1763321400@kotaconnections.net
SUMMARY:MN Wild
DESCRIPTION:Kota Connections has 4 tickets\, 1 staff and 3 clients\, to attend the MN Wild game today. Ticket price needs to be paid to Staff upon pick up. Spending money for concessions is extra and not included in the ticket price.**Grand Casino Arena does not accept cash\, so a card is required for concessions purchases.** *Kota Connections has posted all MN Wild tickets for sale so there is a chance that we will not be able to send a group to this game.*
URL:https://kotaconnections.net/activity/mn-wild-88/
LOCATION:Grand Casino Arena\, 199 W Kellogg Blvd\, St Paul\, MN 55102\, United States
END:VEVENT
BEGIN:VEVENT
DTSTART;TZID=UTC:20251117T190000
DTEND;TZID=UTC:20251117T213000
DTSTAMP:20260426T005019
CREATED:20251020T154740Z
LAST-MODIFIED:20251020T154740Z
UID:514238-1763406000-1763415000@kotaconnections.net
SUMMARY:MN T-Wolves
DESCRIPTION:Kota Connections has 4 tickets to today’s MN Timberwolves game. 1 staff member will be able to bring 3 individuals to the game. Ticket price needs to be paid to Staff upon pick up. Spending money for concessions is extra and not included in the ticket price. Target Center does not accept cash so a credit or debit card will be needed to make purchases. *Kota Connections has posted all MN Timberwolves tickets for sale so there is a chance that we will not be able to send a group to this game.*
URL:https://kotaconnections.net/activity/mn-t-wolves-50/
LOCATION:Target Center\, 600 N 1st Ave\, Minneapolis\, MN\, 55403\, United States
END:VEVENT
BEGIN:VEVENT
DTSTART;TZID=UTC:20251118T110000
DTEND;TZID=UTC:20251118T120000
DTSTAMP:20260426T005019
CREATED:20251020T202637Z
LAST-MODIFIED:20251020T202637Z
UID:514260-1763463600-1763467200@kotaconnections.net
SUMMARY:PE Lunch QDOBA AV *LYFT or OWN ONLY*
DESCRIPTION:Come join us at QDOBA in Apple Valley with Project Explore. This activity is Lyft only to help clients practice Lyft. Staff will be at QDOBA to help clients order Lyft rides home.
URL:https://kotaconnections.net/activity/pe-lunch-qdoba-av-lyft-or-own-only/
LOCATION:MN
END:VEVENT
BEGIN:VEVENT
DTSTART;TZID=UTC:20251118T180000
DTEND;TZID=UTC:20251118T200000
DTSTAMP:20260426T005019
CREATED:20251020T203205Z
LAST-MODIFIED:20251020T203205Z
UID:514263-1763488800-1763496000@kotaconnections.net
SUMMARY:KC Meeting @ Olive Garden
DESCRIPTION:In the spirit of Thanksgiving\, Kota Connections always likes to gather with as many clients as possible for a meal. Come celebrate the Fall season. This event used to be at Old Country Buffet. Since that has closed\, this will be an event spread out between 2 different restaurants on 2 different nights. *Clients can only attend one of these events.* Every client will pay $40 for the dinner. If your meal is less than $40\, you will have a credit towards future events. If you go over $40\, you will get a bill for the amount you went over. Tonight’s restaurant is Olive Garden.
URL:https://kotaconnections.net/activity/kc-meeting-olive-garden/
LOCATION:Olive Garden\, 1451 County Rd 42 W\, Burnsville\, MN 55306
END:VEVENT
BEGIN:VEVENT
DTSTART;TZID=UTC:20251119T183000
DTEND;TZID=UTC:20251119T200000
DTSTAMP:20260426T005019
CREATED:20251020T203632Z
LAST-MODIFIED:20251020T203632Z
UID:514269-1763577000-1763582400@kotaconnections.net
SUMMARY:Virtual Bingo
DESCRIPTION:Kota Connections will be hosting a Virtual Bingo event tonight. The $10 cost will go towards the winners of each game and will be sent out as a bill after the event. Any winnings that individuals win\, will first go towards the $10 activity cost before being paid out\, unless the $10 is paid before the event.
URL:https://kotaconnections.net/activity/virtual-bingo-125/
LOCATION:Zoom
END:VEVENT
BEGIN:VEVENT
DTSTART;TZID=UTC:20251119T190000
DTEND;TZID=UTC:20251119T213000
DTSTAMP:20260426T005019
CREATED:20251020T154920Z
LAST-MODIFIED:20251020T154920Z
UID:514240-1763578800-1763587800@kotaconnections.net
SUMMARY:MN T-Wolves
DESCRIPTION:Kota Connections has 4 tickets to today’s MN Timberwolves game. 1 staff member will be able to bring 3 individuals to the game. Ticket price needs to be paid to Staff upon pick up. Spending money for concessions is extra and not included in the ticket price. Target Center does not accept cash so a credit or debit card will be needed to make purchases. *Kota Connections has posted all MN Timberwolves tickets for sale so there is a chance that we will not be able to send a group to this game.*
URL:https://kotaconnections.net/activity/mn-t-wolves-51/
LOCATION:Target Center\, 600 N 1st Ave\, Minneapolis\, MN\, 55403\, United States
END:VEVENT
BEGIN:VEVENT
DTSTART;TZID=UTC:20251119T203000
DTEND;TZID=UTC:20251119T220000
DTSTAMP:20260426T005019
CREATED:20251020T145639Z
LAST-MODIFIED:20251020T151859Z
UID:514213-1763584200-1763589600@kotaconnections.net
SUMMARY:MN Wild
DESCRIPTION:Kota Connections has 4 tickets\, 1 staff and 3 clients\, to attend the MN Wild game today. Ticket price needs to be paid to Staff upon pick up. Spending money for concessions is extra and not included in the ticket price.**Grand Casino Arena does not accept cash\, so a card is required for concessions purchases.** *Kota Connections has posted all MN Wild tickets for sale so there is a chance that we will not be able to send a group to this game.*
URL:https://kotaconnections.net/activity/mn-wild-91/
LOCATION:Grand Casino Arena\, 199 W Kellogg Blvd\, St Paul\, MN 55102\, United States
END:VEVENT
BEGIN:VEVENT
DTSTART;TZID=UTC:20251120T180000
DTEND;TZID=UTC:20251120T200000
DTSTAMP:20260426T005019
CREATED:20251020T203318Z
LAST-MODIFIED:20251020T203540Z
UID:514266-1763661600-1763668800@kotaconnections.net
SUMMARY:KC Meeting @ Doolittle's Eagan
DESCRIPTION:In the spirit of Thanksgiving\, Kota Connections always likes to gather with as many clients as possible for a meal. This event used to be at Old Country Buffet. Since that has closed\, this will be an event spread out between 2 different restaurants on 2 different nights. Every client will pay $40 for the dinner. If your meal is less than $40\, you will have a credit towards future events. If you go over $40\, you will get a bill for the amount you went over. Tonight’s restaurant is Doolittle’s.
URL:https://kotaconnections.net/activity/kc-meeting-doolittles-eagan/
LOCATION:Doolittles\, 2140 Cliff Rd\, Eagan\, MN 55122
END:VEVENT
BEGIN:VEVENT
DTSTART;TZID=UTC:20251122T110000
DTEND;TZID=UTC:20251122T160000
DTSTAMP:20260426T005019
CREATED:20251020T203905Z
LAST-MODIFIED:20251020T204009Z
UID:514271-1763809200-1763827200@kotaconnections.net
SUMMARY:Lunch & Science Museum
DESCRIPTION:Come join Kota Connections at the Science Museum in St. Paul. Enjoy the many different floors of the science museum. Cost will be $75 for the ticket to get in and for the cost of lunch.
URL:https://kotaconnections.net/activity/lunch-science-museum/
LOCATION:Science Museum of Minnesota\, 120 W Kellogg Blvd\, St Paul\, MN 55102
END:VEVENT
BEGIN:VEVENT
DTSTART;TZID=UTC:20251124T183000
DTEND;TZID=UTC:20251124T200000
DTSTAMP:20260426T005019
CREATED:20251020T204120Z
LAST-MODIFIED:20251020T204120Z
UID:514275-1764009000-1764014400@kotaconnections.net
SUMMARY:Open Office + Videogame Night
DESCRIPTION:Come to the office in Lakeville. Come play Videogames\, card games\, pool\, darts\, or a bunch of other games with your peers. Snacks available for purchase.
URL:https://kotaconnections.net/activity/open-office-videogame-night-6/
LOCATION:Kota Connections\, 8500 210th St W Suite 148\, Lakeville\, MN\, 55044\, United States
END:VEVENT
BEGIN:VEVENT
DTSTART;TZID=UTC:20251125T183000
DTEND;TZID=UTC:20251125T200000
DTSTAMP:20260426T005019
CREATED:20251020T204203Z
LAST-MODIFIED:20251020T204203Z
UID:514277-1764095400-1764100800@kotaconnections.net
SUMMARY:Open Office + Videogame Night
DESCRIPTION:Come to the office in Lakeville. Come play Videogames\, card games\, pool\, darts\, or a bunch of other games with your peers. Snacks available for purchase.
URL:https://kotaconnections.net/activity/open-office-videogame-night-7/
LOCATION:Kota Connections\, 8500 210th St W Suite 148\, Lakeville\, MN\, 55044\, United States
END:VEVENT
BEGIN:VEVENT
DTSTART;TZID=UTC:20251128T143000
DTEND;TZID=UTC:20251128T170000
DTSTAMP:20260426T005019
CREATED:20251020T145721Z
LAST-MODIFIED:20251020T151841Z
UID:514215-1764340200-1764349200@kotaconnections.net
SUMMARY:MN Wild
DESCRIPTION:Kota Connections has 4 tickets\, 1 staff and 3 clients\, to attend the MN Wild game today. Ticket price needs to be paid to Staff upon pick up. Spending money for concessions is extra and not included in the ticket price.**Grand Casino Arena does not accept cash\, so a card is required for concessions purchases.** *Kota Connections has posted all MN Wild tickets for sale so there is a chance that we will not be able to send a group to this game.*
URL:https://kotaconnections.net/activity/mn-wild-92/
LOCATION:Grand Casino Arena\, 199 W Kellogg Blvd\, St Paul\, MN 55102\, United States
END:VEVENT
BEGIN:VEVENT
DTSTART;TZID=UTC:20251129T160000
DTEND;TZID=UTC:20251129T183000
DTSTAMP:20260426T005019
CREATED:20251020T154958Z
LAST-MODIFIED:20251020T154958Z
UID:514242-1764432000-1764441000@kotaconnections.net
SUMMARY:MN T-Wolves
DESCRIPTION:Kota Connections has 4 tickets to today’s MN Timberwolves game. 1 staff member will be able to bring 3 individuals to the game. Ticket price needs to be paid to Staff upon pick up. Spending money for concessions is extra and not included in the ticket price. Target Center does not accept cash so a credit or debit card will be needed to make purchases. *Kota Connections has posted all MN Timberwolves tickets for sale so there is a chance that we will not be able to send a group to this game.*
URL:https://kotaconnections.net/activity/mn-t-wolves-52/
LOCATION:Target Center\, 600 N 1st Ave\, Minneapolis\, MN\, 55403\, United States
END:VEVENT
BEGIN:VEVENT
DTSTART;TZID=UTC:20251129T190000
DTEND;TZID=UTC:20251129T213000
DTSTAMP:20260426T005019
CREATED:20251020T145752Z
LAST-MODIFIED:20251020T151824Z
UID:514217-1764442800-1764451800@kotaconnections.net
SUMMARY:MN Wild
DESCRIPTION:Kota Connections has 4 tickets\, 1 staff and 3 clients\, to attend the MN Wild game today. Ticket price needs to be paid to Staff upon pick up. Spending money for concessions is extra and not included in the ticket price.**Grand Casino Arena does not accept cash\, so a card is required for concessions purchases.** *Kota Connections has posted all MN Wild tickets for sale so there is a chance that we will not be able to send a group to this game.*
URL:https://kotaconnections.net/activity/mn-wild-93/
LOCATION:Grand Casino Arena\, 199 W Kellogg Blvd\, St Paul\, MN 55102\, United States
END:VEVENT
END:VCALENDAR