BEGIN:VCALENDAR
VERSION:2.0
PRODID:-//Kota Connections, Inc. - ECPv6.8.2.1//NONSGML v1.0//EN
CALSCALE:GREGORIAN
METHOD:PUBLISH
X-WR-CALNAME:Kota Connections, Inc.
X-ORIGINAL-URL:https://kotaconnections.net
X-WR-CALDESC:Events for Kota Connections, Inc.
REFRESH-INTERVAL;VALUE=DURATION:PT1H
X-Robots-Tag:noindex
X-PUBLISHED-TTL:PT1H
BEGIN:VTIMEZONE
TZID:UTC
BEGIN:STANDARD
TZOFFSETFROM:+0000
TZOFFSETTO:+0000
TZNAME:UTC
DTSTART:20250101T000000
END:STANDARD
END:VTIMEZONE
BEGIN:VEVENT
DTSTART;TZID=UTC:20250913T083000
DTEND;TZID=UTC:20250913T093000
DTSTAMP:20260426T022945
CREATED:20250820T200221Z
LAST-MODIFIED:20250820T200221Z
UID:514117-1757752200-1757755800@kotaconnections.net
SUMMARY:Target Shop
DESCRIPTION:Come get your Target needs with your peers on this event. Then get Coffee only. Cost of this event is $15 for Coffee / Beverage and  a snack. The extra money is for shopping.
URL:https://kotaconnections.net/activity/target-shop-20/
LOCATION:Target Cedar AV
END:VEVENT
BEGIN:VEVENT
DTSTART;TZID=UTC:20250913T180000
DTEND;TZID=UTC:20250913T210000
DTSTAMP:20260426T022945
CREATED:20250819T205927Z
LAST-MODIFIED:20250819T205927Z
UID:514091-1757786400-1757797200@kotaconnections.net
SUMMARY:MN Twins
DESCRIPTION:Kota Connections has 4 tickets\, 1 staff and 3 clients\, to attend the MN Twins game today. **Target field does not accept cash\, so a card is required for concessions purchases.**
URL:https://kotaconnections.net/activity/mn-twins-113/
LOCATION:Target Field\, 1 Twins Way\, Minneapolis\, MN\, 55403\, United States
END:VEVENT
BEGIN:VEVENT
DTSTART;TZID=UTC:20250915T183000
DTEND;TZID=UTC:20250915T213000
DTSTAMP:20260426T022945
CREATED:20250819T210011Z
LAST-MODIFIED:20250819T210011Z
UID:514093-1757961000-1757971800@kotaconnections.net
SUMMARY:MN Twins
DESCRIPTION:Kota Connections has 4 tickets\, 1 staff and 3 clients\, to attend the MN Twins game today. **Target field does not accept cash\, so a card is required for concessions purchases.**
URL:https://kotaconnections.net/activity/mn-twins-114/
LOCATION:Target Field\, 1 Twins Way\, Minneapolis\, MN\, 55403\, United States
END:VEVENT
BEGIN:VEVENT
DTSTART;TZID=UTC:20250916T183000
DTEND;TZID=UTC:20250916T210000
DTSTAMP:20260426T022945
CREATED:20250820T200803Z
LAST-MODIFIED:20250820T200811Z
UID:514119-1758047400-1758056400@kotaconnections.net
SUMMARY:KC Meeting + Dinner + Bingo @ Carbones
DESCRIPTION:Come join us at Carbones in Lakeville for the KC Meeting! Enjoy dinner and then play Bingo! Activity calendars will be handed out at this event. \nCost is$20 for bingo and $25 for food.
URL:https://kotaconnections.net/activity/kc-meeting-dinner-bingo-carbones/
END:VEVENT
BEGIN:VEVENT
DTSTART;TZID=UTC:20250917T183000
DTEND;TZID=UTC:20250917T200000
DTSTAMP:20260426T022945
CREATED:20250820T200936Z
LAST-MODIFIED:20250820T200949Z
UID:514121-1758133800-1758139200@kotaconnections.net
SUMMARY:Virtual Bingo
DESCRIPTION:Kota Connections will be hosting a Virtual Bingo event tonight. The $10 cost will go towards the winners of each game and will be sent out as a bill after the event. Any winnings that individuals win\, will first go towards the $10 activity cost before being paid out\, unless the $10 is paid before the event.
URL:https://kotaconnections.net/activity/virtual-bingo-123/
LOCATION:Zoom
END:VEVENT
BEGIN:VEVENT
DTSTART;TZID=UTC:20250917T183000
DTEND;TZID=UTC:20250917T213000
DTSTAMP:20260426T022945
CREATED:20250819T210058Z
LAST-MODIFIED:20250819T210058Z
UID:514095-1758133800-1758144600@kotaconnections.net
SUMMARY:MN Twins
DESCRIPTION:Kota Connections has 4 tickets\, 1 staff and 3 clients\, to attend the MN Twins game today. **Target field does not accept cash\, so a card is required for concessions purchases.**
URL:https://kotaconnections.net/activity/mn-twins-115/
LOCATION:Target Field\, 1 Twins Way\, Minneapolis\, MN\, 55403\, United States
END:VEVENT
BEGIN:VEVENT
DTSTART;TZID=UTC:20250918T180000
DTEND;TZID=UTC:20250918T210000
DTSTAMP:20260426T022945
CREATED:20250820T203928Z
LAST-MODIFIED:20250820T203928Z
UID:514123-1758218400-1758229200@kotaconnections.net
SUMMARY:KC Meeting + Dinner + Bingo @ Celt's Craft Pub
DESCRIPTION:Come join us for the KC meeting at Celt’s Craft Pub in Apple Valley! Enjoy dinner and Bingo! Activity calendars will be handed out at this activity. \nCost is $15 for bingo and $25 for food.
URL:https://kotaconnections.net/activity/kc-meeting-dinner-bingo-celts-craft-pub/
LOCATION:Celt’s Craft House
END:VEVENT
BEGIN:VEVENT
DTSTART;TZID=UTC:20250919T183000
DTEND;TZID=UTC:20250919T210000
DTSTAMP:20260426T022945
CREATED:20250820T204340Z
LAST-MODIFIED:20250820T204340Z
UID:514126-1758306600-1758315600@kotaconnections.net
SUMMARY:PE Fall Kick Off Dance
DESCRIPTION:Come join us for the first dance of the Fall with Project Explore! Cost is $8 for ticket at Valley Middle School.
URL:https://kotaconnections.net/activity/pe-fall-kick-off-dance/
LOCATION:Apple Valley Middle School\, 900 Garden View Drive\, Apple Valley\, Minnesota\, 55124
END:VEVENT
BEGIN:VEVENT
DTSTART;TZID=UTC:20250920T110000
DTEND;TZID=UTC:20250920T150000
DTSTAMP:20260426T022945
CREATED:20250820T204517Z
LAST-MODIFIED:20250820T204517Z
UID:514128-1758366000-1758380400@kotaconnections.net
SUMMARY:ValleyFair
DESCRIPTION:Take the day and head out to Valleyfair to go on some rides or just walk around the park. **Valleyfair does not accept cash. Card is required to make purchases. Can use Cash Kiosk there to turn cash into cards.**
URL:https://kotaconnections.net/activity/valleyfair-20/
LOCATION:Valleyfair\, 1 Walley Fair Drive\, Shakopee\, MN\, 55379\, United States
END:VEVENT
BEGIN:VEVENT
DTSTART;TZID=UTC:20250921T130000
DTEND;TZID=UTC:20250921T160000
DTSTAMP:20260426T022945
CREATED:20250819T210134Z
LAST-MODIFIED:20250819T210134Z
UID:514097-1758459600-1758470400@kotaconnections.net
SUMMARY:MN Twins
DESCRIPTION:Kota Connections has 4 tickets\, 1 staff and 3 clients\, to attend the MN Twins game today. **Target field does not accept cash\, so a card is required for concessions purchases.**
URL:https://kotaconnections.net/activity/mn-twins-116/
LOCATION:Target Field\, 1 Twins Way\, Minneapolis\, MN\, 55403\, United States
END:VEVENT
BEGIN:VEVENT
DTSTART;TZID=UTC:20250923T183000
DTEND;TZID=UTC:20250923T210000
DTSTAMP:20260426T022945
CREATED:20250819T221029Z
LAST-MODIFIED:20250819T221029Z
UID:514109-1758652200-1758661200@kotaconnections.net
SUMMARY:Movie Night
DESCRIPTION:Kota Connections will be going to a Movie Theater tonight with a group of interested individuals. The theater will be chosen closer to the date of the event. Movie choices will be given out the day prior the event. Ticket price is $15 and then extra money is suggested for snacks or beverages.
URL:https://kotaconnections.net/activity/movie-night-48/
END:VEVENT
BEGIN:VEVENT
DTSTART;TZID=UTC:20250925T183000
DTEND;TZID=UTC:20250925T210000
DTSTAMP:20260426T022945
CREATED:20250820T205202Z
LAST-MODIFIED:20250820T205247Z
UID:514130-1758825000-1758834000@kotaconnections.net
SUMMARY:Mini Golf at Puttshack + McDonalds Snack
DESCRIPTION:Come join us at Puttshack in Edina. Adult mini golf with a full 18 hole  custom course.  Then head to McDonalds for a small snack. Cost is $30.
URL:https://kotaconnections.net/activity/mini-golf-at-puttshack-mcdonalds-snack/
LOCATION:Puttshack\, 330 Southdale Ctr\, Edina\, MN 55435
END:VEVENT
BEGIN:VEVENT
DTSTART;TZID=UTC:20250927T133000
DTEND;TZID=UTC:20250927T160000
DTSTAMP:20260426T022945
CREATED:20250820T205520Z
LAST-MODIFIED:20250820T205520Z
UID:514134-1758979800-1758988800@kotaconnections.net
SUMMARY:Gals' Day Color Me Mine
DESCRIPTION:Come join us for Gals’ Day at Color Me Mine! Enjoy spending time with all of your friends at this girl’s night out activity! Cost is $50
URL:https://kotaconnections.net/activity/gals-day-color-me-mine/
END:VEVENT
BEGIN:VEVENT
DTSTART;TZID=UTC:20250930T183000
DTEND;TZID=UTC:20250930T200000
DTSTAMP:20260426T022945
CREATED:20250820T200027Z
LAST-MODIFIED:20250820T200027Z
UID:514115-1759257000-1759262400@kotaconnections.net
SUMMARY:Grand Slam
DESCRIPTION:Come play some mini golf\, videogames\, hit the batting cages\, and even get some food at Grand Slam tonight! Recommended to bring $30 for everything.
URL:https://kotaconnections.net/activity/grand-slam-15/
END:VEVENT
BEGIN:VEVENT
DTSTART;TZID=UTC:20251004T090000
DTEND;TZID=UTC:20251004T110000
DTSTAMP:20260426T022945
CREATED:20250922T141321Z
LAST-MODIFIED:20250922T141321Z
UID:514138-1759568400-1759575600@kotaconnections.net
SUMMARY:McDonalds Breakfast + PE Craft Fair
DESCRIPTION:Come join us at McDonalds for Breakfast and then make our way to the Project Explore Craft Fair at Valley Middle School! 9-11 am cost is $15 for breakfast + spending for anything you want at the Craft Fair.
URL:https://kotaconnections.net/activity/mcdonalds-breakfast-pe-craft-fair/
LOCATION:Apple Valley Middle School\, 900 Garden View Drive\, Apple Valley\, Minnesota\, 55124
END:VEVENT
BEGIN:VEVENT
DTSTART;TZID=UTC:20251006T183000
DTEND;TZID=UTC:20251006T203000
DTSTAMP:20260426T022945
CREATED:20250922T142838Z
LAST-MODIFIED:20250922T142838Z
UID:514140-1759775400-1759782600@kotaconnections.net
SUMMARY:MOA Mini Golf + snack
DESCRIPTION:Come join Kota Connections for mini golf at Moose Mountain for mini golf at the Mall of America! Enjoy a snack after mini golf. Mini Golf is about $13 remaining money is for a snack.
URL:https://kotaconnections.net/activity/moa-mini-golf-snack-5/
LOCATION:Mall of America\, 60 E Broadway\, Bloomington\, MN\, 55425\, United States
END:VEVENT
BEGIN:VEVENT
DTSTART;TZID=UTC:20251007T183000
DTEND;TZID=UTC:20251007T210000
DTSTAMP:20260426T022945
CREATED:20250922T143017Z
LAST-MODIFIED:20250922T143017Z
UID:514144-1759861800-1759870800@kotaconnections.net
SUMMARY:Movie Night
DESCRIPTION:Kota Connections will be going to a Movie Theater tonight with a group of interested individuals. The theater will be chosen closer to the date of the event. Movie choices will be given out the day prior the event. Ticket price is $15 and then extra money is suggested for snacks or beverages.
URL:https://kotaconnections.net/activity/movie-night-49/
END:VEVENT
BEGIN:VEVENT
DTSTART;TZID=UTC:20251008T183000
DTEND;TZID=UTC:20251008T200000
DTSTAMP:20260426T022945
CREATED:20250922T143144Z
LAST-MODIFIED:20250922T143144Z
UID:514148-1759948200-1759953600@kotaconnections.net
SUMMARY:Virtual Bingo
DESCRIPTION:Kota Connections will be hosting a Virtual Bingo event tonight. The $10 cost will go towards the winners of each game and will be sent out as a bill after the event. Any winnings that individuals win\, will first go towards the $10 activity cost before being paid out\, unless the $10 is paid before the event.
URL:https://kotaconnections.net/activity/virtual-bingo-124/
LOCATION:Zoom
END:VEVENT
BEGIN:VEVENT
DTSTART;TZID=UTC:20251009T183000
DTEND;TZID=UTC:20251009T203000
DTSTAMP:20260426T022945
CREATED:20250922T142925Z
LAST-MODIFIED:20250922T142925Z
UID:514142-1760034600-1760041800@kotaconnections.net
SUMMARY:MOA Mini Golf + snack
DESCRIPTION:Come join Kota Connections for mini golf at Moose Mountain for mini golf at the Mall of America! Enjoy a snack after mini golf. Mini Golf is about $13 remaining money is for a snack.
URL:https://kotaconnections.net/activity/moa-mini-golf-snack-6/
LOCATION:Mall of America\, 60 E Broadway\, Bloomington\, MN\, 55425\, United States
END:VEVENT
BEGIN:VEVENT
DTSTART;TZID=UTC:20251010T190000
DTEND;TZID=UTC:20251010T220000
DTSTAMP:20260426T022945
CREATED:20250922T145541Z
LAST-MODIFIED:20250922T145541Z
UID:514150-1760122800-1760133600@kotaconnections.net
SUMMARY:Haunted Rivertown Terror Tour/Trolley Stillwater
DESCRIPTION:Come join us in Stillwater for the Haunted Rivertown Terror Tour/Trolley! Cost is $55 + spending for food.
URL:https://kotaconnections.net/activity/haunted-rivertown-terror-tour-trolley-stillwater/
END:VEVENT
BEGIN:VEVENT
DTSTART;TZID=UTC:20251011T100000
DTEND;TZID=UTC:20251011T130000
DTSTAMP:20260426T022945
CREATED:20250922T145914Z
LAST-MODIFIED:20250922T145914Z
UID:514152-1760176800-1760187600@kotaconnections.net
SUMMARY:Sever's
DESCRIPTION:Come join Kota Connections at Sever’s! Enjoy the corn maze and fall theme. Also see farm animals and other farm related things. Cost is $25 to get in and $25 for lunch
URL:https://kotaconnections.net/activity/severs/
LOCATION:Sever’s\, 3121 W 150th St\, Shakopee\, MN 55379
END:VEVENT
BEGIN:VEVENT
DTSTART;TZID=UTC:20251013T183000
DTEND;TZID=UTC:20251013T203000
DTSTAMP:20260426T022945
CREATED:20250922T150753Z
LAST-MODIFIED:20250922T150753Z
UID:514155-1760380200-1760387400@kotaconnections.net
SUMMARY:Cooking Class
DESCRIPTION:Come join us for cooking class at the office in Lakeville. Learn how to cook an affordable meal and enjoy it after with your peers! Cost is $10 for the meal.
URL:https://kotaconnections.net/activity/cooking-class/
LOCATION:Kota Connections\, 8500 210th St W Suite 148\, Lakeville\, MN\, 55044\, United States
END:VEVENT
BEGIN:VEVENT
DTSTART;TZID=UTC:20251013T190000
DTEND;TZID=UTC:20251013T213000
DTSTAMP:20260426T022945
CREATED:20250922T151257Z
LAST-MODIFIED:20250922T151257Z
UID:514159-1760382000-1760391000@kotaconnections.net
SUMMARY:MN Wild
DESCRIPTION:Kota Connections has 4 tickets\, 1 staff and 3 clients\, to attend the MN Wild game today. **Xcel Energy Center does not accept cash\, so a card is required for concessions purchases.**
URL:https://kotaconnections.net/activity/mn-wild-79/
LOCATION:Xcel Center\, 199 W Kellogg Blvd\, St. Paul\, MN\, 55102\, United States
END:VEVENT
BEGIN:VEVENT
DTSTART;TZID=UTC:20251014T183000
DTEND;TZID=UTC:20251014T203000
DTSTAMP:20260426T022945
CREATED:20250922T150901Z
LAST-MODIFIED:20250922T150901Z
UID:514157-1760466600-1760473800@kotaconnections.net
SUMMARY:Cooking Class
DESCRIPTION:Come join us for cooking class at the office in Lakeville. Learn how to cook an affordable meal and enjoy it after with your peers! Cost is $10 for the meal.
URL:https://kotaconnections.net/activity/cooking-class-2/
LOCATION:Kota Connections\, 8500 210th St W Suite 148\, Lakeville\, MN\, 55044\, United States
END:VEVENT
BEGIN:VEVENT
DTSTART;TZID=UTC:20251015T183000
DTEND;TZID=UTC:20251015T200000
DTSTAMP:20260426T022945
CREATED:20250922T152323Z
LAST-MODIFIED:20250922T152323Z
UID:514169-1760553000-1760558400@kotaconnections.net
SUMMARY:KC Meeting Lakeville Office
DESCRIPTION:Come to the office in Lakeville for the KC Meeting. November activity calendars and sign up cards will be handed out tonight. If you have any ideas for future activities\, this would be a great place to bring that up. Cost is $5\, snack card stamp\, or free(no snack).
URL:https://kotaconnections.net/activity/kc-meeting-lakeville-office-3/
LOCATION:Kota Connections\, 8500 210th St W Suite 148\, Lakeville\, MN\, 55044\, United States
END:VEVENT
BEGIN:VEVENT
DTSTART;TZID=UTC:20251016T110000
DTEND;TZID=UTC:20251016T120000
DTSTAMP:20260426T022945
CREATED:20250922T152811Z
LAST-MODIFIED:20250922T152811Z
UID:514173-1760612400-1760616000@kotaconnections.net
SUMMARY:*LYFT ONLY* or Own PE Lunch Pizza Ranch
DESCRIPTION:Come join Kota Connections and Project Explore at Pizza Ranch in Lakeville. Cost is $20 dollars for an all you can eat lunch and pop. \n*This is a LYFT ONLY or Own activity. Staff will meet clients there but won’t be driving anyone. Staff will help setup Lyft rides back home.
URL:https://kotaconnections.net/activity/lyft-only-or-own-pe-lunch-pizza-ranch/
LOCATION:Pizza Ranch\, 16995 Kenyon Ave\, Lakeville\, MN 55044
END:VEVENT
BEGIN:VEVENT
DTSTART;TZID=UTC:20251016T183000
DTEND;TZID=UTC:20251016T200000
DTSTAMP:20260426T022945
CREATED:20250922T152440Z
LAST-MODIFIED:20250922T152440Z
UID:514171-1760639400-1760644800@kotaconnections.net
SUMMARY:KC Meeting Lakeville Office
DESCRIPTION:Come to the office in Lakeville for the KC Meeting. November activity calendars and sign up cards will be handed out tonight. If you have any ideas for future activities\, this would be a great place to bring that up. Cost is $5\, snack card stamp\, or free(no snack).
URL:https://kotaconnections.net/activity/kc-meeting-lakeville-office-4/
LOCATION:Kota Connections\, 8500 210th St W Suite 148\, Lakeville\, MN\, 55044\, United States
END:VEVENT
BEGIN:VEVENT
DTSTART;TZID=UTC:20251017T183000
DTEND;TZID=UTC:20251017T210000
DTSTAMP:20260426T022945
CREATED:20250922T153629Z
LAST-MODIFIED:20250922T153629Z
UID:514175-1760725800-1760734800@kotaconnections.net
SUMMARY:PE Halloween Dance
DESCRIPTION:Come join us for the Project Explore Halloween Dance at Farmington Highschool. Hang out with your peers and feel free to dress up for Halloween. Cost of the dance is $8 total.
URL:https://kotaconnections.net/activity/pe-halloween-dance-4/
LOCATION:Farmington High School\, 20655 Flagstaff Ave\, Farmington\, MN\, 55024\, United States
END:VEVENT
BEGIN:VEVENT
DTSTART;TZID=UTC:20251018T083000
DTEND;TZID=UTC:20251018T100000
DTSTAMP:20260426T022945
CREATED:20250922T153737Z
LAST-MODIFIED:20250922T153737Z
UID:514177-1760776200-1760781600@kotaconnections.net
SUMMARY:Target Shop AV
DESCRIPTION:Come get your Target needs with your peers on this event. Then get Coffee only. Cost of this event is $15 for Coffee / Beverage and  a snack. The extra money is for shopping.
URL:https://kotaconnections.net/activity/target-shop-av/
LOCATION:Target Cedar AV
END:VEVENT
BEGIN:VEVENT
DTSTART;TZID=UTC:20251020T183000
DTEND;TZID=UTC:20251020T200000
DTSTAMP:20260426T022945
CREATED:20250922T153830Z
LAST-MODIFIED:20250922T153830Z
UID:514179-1760985000-1760990400@kotaconnections.net
SUMMARY:Open Office
DESCRIPTION:Come to the office in Lakeville. Come play Videogames\, card games\, pool\, darts\, or a bunch of other games with your peers. Snacks available for purchase.
URL:https://kotaconnections.net/activity/open-office-15/
LOCATION:Kota Connections\, 8500 210th St W Suite 148\, Lakeville\, MN\, 55044\, United States
END:VEVENT
END:VCALENDAR