BEGIN:VCALENDAR
VERSION:2.0
PRODID:-//Kota Connections, Inc. - ECPv6.8.2.1//NONSGML v1.0//EN
CALSCALE:GREGORIAN
METHOD:PUBLISH
X-WR-CALNAME:Kota Connections, Inc.
X-ORIGINAL-URL:https://kotaconnections.net
X-WR-CALDESC:Events for Kota Connections, Inc.
REFRESH-INTERVAL;VALUE=DURATION:PT1H
X-Robots-Tag:noindex
X-PUBLISHED-TTL:PT1H
BEGIN:VTIMEZONE
TZID:UTC
BEGIN:STANDARD
TZOFFSETFROM:+0000
TZOFFSETTO:+0000
TZNAME:UTC
DTSTART:20250101T000000
END:STANDARD
END:VTIMEZONE
BEGIN:VEVENT
DTSTART;TZID=UTC:20250724T183000
DTEND;TZID=UTC:20250724T210000
DTSTAMP:20260425T141255
CREATED:20250630T204837Z
LAST-MODIFIED:20250630T204837Z
UID:513988-1753381800-1753390800@kotaconnections.net
SUMMARY:Movie Night
DESCRIPTION:Kota Connections will be going to a Movie Theater tonight with a group of interested individuals. The theater will be chosen closer to the date of the event. Movie choices will be given out the day prior the event. Ticket price is $15 and then extra money is suggested for snacks or beverages.
URL:https://kotaconnections.net/activity/movie-night-46/
END:VEVENT
BEGIN:VEVENT
DTSTART;TZID=UTC:20250725T120000
DTEND;TZID=UTC:20250725T130000
DTSTAMP:20260425T141255
CREATED:20250708T183452Z
LAST-MODIFIED:20250708T183452Z
UID:514021-1753444800-1753448400@kotaconnections.net
SUMMARY:Mini Golf Centennial Lakes
DESCRIPTION:Come join Kota Connections for Mini Golf at Centennial Lakes and then enjoy some food / beverage. Cost is $15 for mini golf and $15 for food and Beverage.
URL:https://kotaconnections.net/activity/mini-golf-centennial-lakes/
LOCATION:Centennial Lakes\, 7499 France Ave S\, Edina\, MN 55435
END:VEVENT
BEGIN:VEVENT
DTSTART;TZID=UTC:20250725T190000
DTEND;TZID=UTC:20250725T213000
DTSTAMP:20260425T141255
CREATED:20250708T183543Z
LAST-MODIFIED:20250708T183543Z
UID:514024-1753470000-1753479000@kotaconnections.net
SUMMARY:MN Twins
DESCRIPTION:Kota Connections has 4 tickets\, 1 staff and 3 clients\, to attend the MN Twins game today. **Target field does not accept cash\, so a card is required for concessions purchases.**
URL:https://kotaconnections.net/activity/mn-twins-103/
LOCATION:Target Field\, 1 Twins Way\, Minneapolis\, MN\, 55403\, United States
END:VEVENT
BEGIN:VEVENT
DTSTART;TZID=UTC:20250726T083000
DTEND;TZID=UTC:20250726T100000
DTSTAMP:20260425T141255
CREATED:20250708T183745Z
LAST-MODIFIED:20250708T183807Z
UID:514030-1753518600-1753524000@kotaconnections.net
SUMMARY:Target Shop + Coffee Only
DESCRIPTION:Come get your Target needs with your peers on this event. Then get Coffee only. Cost of this event is $10 for Coffee / Beverage and then extra money for Shopping.
URL:https://kotaconnections.net/activity/target-shop-coffee-only-3/
LOCATION:Target Cedar AV
END:VEVENT
BEGIN:VEVENT
DTSTART;TZID=UTC:20250727T130000
DTEND;TZID=UTC:20250727T153000
DTSTAMP:20260425T141255
CREATED:20250708T183616Z
LAST-MODIFIED:20250708T183616Z
UID:514026-1753621200-1753630200@kotaconnections.net
SUMMARY:MN Twins
DESCRIPTION:Kota Connections has 4 tickets\, 1 staff and 3 clients\, to attend the MN Twins game today. **Target field does not accept cash\, so a card is required for concessions purchases.**
URL:https://kotaconnections.net/activity/mn-twins-104/
LOCATION:Target Field\, 1 Twins Way\, Minneapolis\, MN\, 55403\, United States
END:VEVENT
BEGIN:VEVENT
DTSTART;TZID=UTC:20250728T183000
DTEND;TZID=UTC:20250728T200000
DTSTAMP:20260425T141255
CREATED:20250630T212534Z
LAST-MODIFIED:20250630T212534Z
UID:514005-1753727400-1753732800@kotaconnections.net
SUMMARY:Bowling @ Bowlero
DESCRIPTION:Come join us for Bowling @ Bowlero in Lakeville. Enjoy all you can eat Pizza and pop. Bowl for an hour and half and enjoy spending time with your peers. Cost is $30.
URL:https://kotaconnections.net/activity/bowling-bowlero-4/
END:VEVENT
BEGIN:VEVENT
DTSTART;TZID=UTC:20250729T180000
DTEND;TZID=UTC:20250729T203000
DTSTAMP:20260425T141255
CREATED:20250630T204613Z
LAST-MODIFIED:20250630T205011Z
UID:513984-1753812000-1753821000@kotaconnections.net
SUMMARY:KC Softball Playoffs
DESCRIPTION:Spring is here and Softball Games will be held tonight at Aronson Park in Lakeville. *Weather Pending*
URL:https://kotaconnections.net/activity/kc-softball-playoffs/
LOCATION:Aronson Park\, 8250 202nd St W\, Lakeville\, MN\, 55044\, United States
CATEGORIES:Softball Games,Softball League
END:VEVENT
BEGIN:VEVENT
DTSTART;TZID=UTC:20250730T120000
DTEND;TZID=UTC:20250730T143000
DTSTAMP:20260425T141255
CREATED:20250708T183647Z
LAST-MODIFIED:20250708T183647Z
UID:514028-1753876800-1753885800@kotaconnections.net
SUMMARY:MN Twins
DESCRIPTION:Kota Connections has 4 tickets\, 1 staff and 3 clients\, to attend the MN Twins game today. **Target field does not accept cash\, so a card is required for concessions purchases.**
URL:https://kotaconnections.net/activity/mn-twins-105/
LOCATION:Target Field\, 1 Twins Way\, Minneapolis\, MN\, 55403\, United States
END:VEVENT
BEGIN:VEVENT
DTSTART;TZID=UTC:20250730T173000
DTEND;TZID=UTC:20250730T193000
DTSTAMP:20260425T141255
CREATED:20250708T181102Z
LAST-MODIFIED:20250708T181102Z
UID:514009-1753896600-1753903800@kotaconnections.net
SUMMARY:Red Barn Pizza
DESCRIPTION:A group will be heading to Northfield to go to the Red Barn Pizza farm for a dinner of pizza. Pizza’s will most likely be shared by 2 people each.
URL:https://kotaconnections.net/activity/red-barn-pizza-11/
LOCATION:Red Barn Farm\, 110th St E\, Northfield\, MN 55057
END:VEVENT
BEGIN:VEVENT
DTSTART;TZID=UTC:20250805T170000
DTEND;TZID=UTC:20250805T200000
DTSTAMP:20260425T141256
CREATED:20250721T183533Z
LAST-MODIFIED:20250721T183533Z
UID:514034-1754413200-1754424000@kotaconnections.net
SUMMARY:Championship Softball Picnic
DESCRIPTION:Come down to Aronson Park in Lakeville to celebrate the last night of the softball season. KFC dinner will be offered for $10 a meal. There will be limited meals available on the night of softball.
URL:https://kotaconnections.net/activity/championship-softball-picnic-4/
LOCATION:Aronson Park\, 8250 202nd St W\, Lakeville\, MN\, 55044\, United States
END:VEVENT
BEGIN:VEVENT
DTSTART;TZID=UTC:20250806T183000
DTEND;TZID=UTC:20250806T193000
DTSTAMP:20260425T141256
CREATED:20250721T184456Z
LAST-MODIFIED:20250721T184456Z
UID:514036-1754505000-1754508600@kotaconnections.net
SUMMARY:Virtual Bingo
DESCRIPTION:Kota Connections will be hosting a Virtual Bingo event tonight. The $10 cost will go towards the winners of each game and will be sent out as a bill after the event. Any winnings that individuals win\, will first go towards the $10 activity cost before being paid out\, unless the $10 is paid before the event.
URL:https://kotaconnections.net/activity/virtual-bingo-122/
END:VEVENT
BEGIN:VEVENT
DTSTART;TZID=UTC:20250807T180000
DTEND;TZID=UTC:20250807T220000
DTSTAMP:20260425T141256
CREATED:20250721T184908Z
LAST-MODIFIED:20250721T184908Z
UID:514039-1754589600-1754604000@kotaconnections.net
SUMMARY:Dakota County Fair  + Demo Derby
DESCRIPTION:Kota Connections will be taking clients to the Dakota County fair and Demo Derby tonight. The cost is for parking and the demo derby as there is no entrance fee to get in. Extra money is suggested for food and other purchases that could be made.
URL:https://kotaconnections.net/activity/dakota-county-fair-demo-derby-4/
LOCATION:Dakota County Fairgrounds\, 4008 220th St W\, Farmington\, MN\, 55024\, United States
END:VEVENT
BEGIN:VEVENT
DTSTART;TZID=UTC:20250808T120000
DTEND;TZID=UTC:20250808T160000
DTSTAMP:20260425T141256
CREATED:20250721T185159Z
LAST-MODIFIED:20250721T185159Z
UID:514041-1754654400-1754668800@kotaconnections.net
SUMMARY:Apple Valley Water Park
DESCRIPTION:Come join Kota Connections for fun in the sun at the Apple Valley Water Park! This activity takes place at 12-4 pm for the cost of $14 for the ticket and addition spending money for food.
URL:https://kotaconnections.net/activity/apple-valley-water-park/
END:VEVENT
BEGIN:VEVENT
DTSTART;TZID=UTC:20250809T083000
DTEND;TZID=UTC:20250809T100000
DTSTAMP:20260425T141256
CREATED:20250721T185308Z
LAST-MODIFIED:20250721T185308Z
UID:514043-1754728200-1754733600@kotaconnections.net
SUMMARY:Target Shop
DESCRIPTION:Come get your Target needs with your peers on this event. Then get Coffee only. Cost of this event is $15 for Coffee / Beverage and  a snack. The extra money is for shopping.
URL:https://kotaconnections.net/activity/target-shop-19/
LOCATION:Target Cedar AV
END:VEVENT
BEGIN:VEVENT
DTSTART;TZID=UTC:20250809T180000
DTEND;TZID=UTC:20250809T203000
DTSTAMP:20260425T141256
CREATED:20250721T185421Z
LAST-MODIFIED:20250721T185421Z
UID:514045-1754762400-1754771400@kotaconnections.net
SUMMARY:MN Twins
DESCRIPTION:Kota Connections has 4 tickets\, 1 staff and 3 clients\, to attend the MN Twins game today. **Target field does not accept cash\, so a card is required for concessions purchases.**
URL:https://kotaconnections.net/activity/mn-twins-106/
LOCATION:Target Field\, 1 Twins Way\, Minneapolis\, MN\, 55403\, United States
END:VEVENT
BEGIN:VEVENT
DTSTART;TZID=UTC:20250811T183000
DTEND;TZID=UTC:20250811T200000
DTSTAMP:20260425T141256
CREATED:20250721T185721Z
LAST-MODIFIED:20250721T185721Z
UID:514053-1754937000-1754942400@kotaconnections.net
SUMMARY:Bowling @ Bowlero
DESCRIPTION:Come join us for Bowling @ Bowlero in Lakeville. Enjoy all you can eat Pizza and pop. Bowl for an hour and half and enjoy spending time with your peers. Cost is $30.
URL:https://kotaconnections.net/activity/bowling-bowlero-5/
LOCATION:Lucky Strike\, 11129 162nd St W\, Lakeville\, MN 55044
END:VEVENT
BEGIN:VEVENT
DTSTART;TZID=UTC:20250812T180000
DTEND;TZID=UTC:20250812T200000
DTSTAMP:20260425T141256
CREATED:20250721T190829Z
LAST-MODIFIED:20250721T190829Z
UID:514057-1755021600-1755028800@kotaconnections.net
SUMMARY:KC Meeting at Farm
DESCRIPTION:Tonight’s KC Meeting will be at a client’s family farm. They have miniature horses\, bunnies\, and other things at the farm. The cost of this event is $5 or a Snack Card.
URL:https://kotaconnections.net/activity/kc-meeting-at-farm/
END:VEVENT
BEGIN:VEVENT
DTSTART;TZID=UTC:20250813T180000
DTEND;TZID=UTC:20250813T200000
DTSTAMP:20260425T141256
CREATED:20250721T190911Z
LAST-MODIFIED:20250721T190911Z
UID:514059-1755108000-1755115200@kotaconnections.net
SUMMARY:KC Meeting at Farm
DESCRIPTION:Tonight’s KC Meeting will be at a client’s family farm. They have miniature horses\, bunnies\, and other things at the farm. The cost of this event is $5 or a Snack Card.
URL:https://kotaconnections.net/activity/kc-meeting-at-farm-2/
END:VEVENT
BEGIN:VEVENT
DTSTART;TZID=UTC:20250814T110000
DTEND;TZID=UTC:20250814T120000
DTSTAMP:20260425T141256
CREATED:20250721T191629Z
LAST-MODIFIED:20250721T191629Z
UID:514065-1755169200-1755172800@kotaconnections.net
SUMMARY:PE Lunch Bunch Pizza Ranch
DESCRIPTION:Come join Kota Connections and Project Explore at Pizza Ranch in Lakeville. Cost is $20 dollars for an all you can eat lunch and pop.
URL:https://kotaconnections.net/activity/pe-lunch-bunch-pizza-ranch-2/
LOCATION:Pizza Ranch\, 16995 Kenyon Ave\, Lakeville\, MN 55044
END:VEVENT
BEGIN:VEVENT
DTSTART;TZID=UTC:20250814T170000
DTEND;TZID=UTC:20250814T200000
DTSTAMP:20260425T141256
CREATED:20250721T191221Z
LAST-MODIFIED:20250721T191457Z
UID:514061-1755190800-1755201600@kotaconnections.net
SUMMARY:Taste of Lakeville
DESCRIPTION:Downtown Lakeville will have a bunch of different food vendors giving out samplings of food and alcohol. This is a 21+ event and an ID or license is required. Cost is $50 but sometimes Kota Connections is given free tickets. \n$50 in Advance | $60 at the Gate
URL:https://kotaconnections.net/activity/taste-of-lakeville-5/
LOCATION:Downtown Lakeville\, Holyoke Avenue\, Lakeville\, 55044\, United States
END:VEVENT
BEGIN:VEVENT
DTSTART;TZID=UTC:20250815T180000
DTEND;TZID=UTC:20250815T210000
DTSTAMP:20260425T141256
CREATED:20250721T191949Z
LAST-MODIFIED:20250721T191949Z
UID:514067-1755280800-1755291600@kotaconnections.net
SUMMARY:ValleyFair
DESCRIPTION:Take the day and head out to Valleyfair to go on some rides or just walk around the park. **Valleyfair does not accept cash. Card is required to make purchases. Can use Cash Kiosk there to turn cash into cards.**
URL:https://kotaconnections.net/activity/valleyfair-19/
LOCATION:Valleyfair\, 1 Walley Fair Drive\, Shakopee\, MN\, 55379\, United States
END:VEVENT
BEGIN:VEVENT
DTSTART;TZID=UTC:20250816T180000
DTEND;TZID=UTC:20250816T203000
DTSTAMP:20260425T141256
CREATED:20250721T185455Z
LAST-MODIFIED:20250721T185455Z
UID:514047-1755367200-1755376200@kotaconnections.net
SUMMARY:MN Twins
DESCRIPTION:Kota Connections has 4 tickets\, 1 staff and 3 clients\, to attend the MN Twins game today. **Target field does not accept cash\, so a card is required for concessions purchases.**
URL:https://kotaconnections.net/activity/mn-twins-107/
LOCATION:Target Field\, 1 Twins Way\, Minneapolis\, MN\, 55403\, United States
END:VEVENT
BEGIN:VEVENT
DTSTART;TZID=UTC:20250818T183000
DTEND;TZID=UTC:20250818T200000
DTSTAMP:20260425T141256
CREATED:20250721T185752Z
LAST-MODIFIED:20250721T185752Z
UID:514055-1755541800-1755547200@kotaconnections.net
SUMMARY:Bowling @ Bowlero
DESCRIPTION:Come join us for Bowling @ Bowlero in Lakeville. Enjoy all you can eat Pizza and pop. Bowl for an hour and half and enjoy spending time with your peers. Cost is $30.
URL:https://kotaconnections.net/activity/bowling-bowlero-6/
LOCATION:Lucky Strike\, 11129 162nd St W\, Lakeville\, MN 55044
END:VEVENT
BEGIN:VEVENT
DTSTART;TZID=UTC:20250819T183000
DTEND;TZID=UTC:20250819T210000
DTSTAMP:20260425T141256
CREATED:20250721T193907Z
LAST-MODIFIED:20250721T193907Z
UID:514069-1755628200-1755637200@kotaconnections.net
SUMMARY:KC Softball Night MN Twins
DESCRIPTION:Tonight’s MN Twins game is an event put on by the KC Fund Softball League. Tickets have already been purchased and there are no more tickets available for this game.
URL:https://kotaconnections.net/activity/kc-softball-night-mn-twins-2/
LOCATION:Target Field\, 1 Twins Way\, Minneapolis\, MN\, 55403\, United States
END:VEVENT
BEGIN:VEVENT
DTSTART;TZID=UTC:20250820T183000
DTEND;TZID=UTC:20250820T200000
DTSTAMP:20260425T141256
CREATED:20250721T194225Z
LAST-MODIFIED:20250721T194225Z
UID:514071-1755714600-1755720000@kotaconnections.net
SUMMARY:*LYFT ONLY* Dessert's at Red Robin
DESCRIPTION:**LYFT ONLY or OWN** Come have Desserts at Red Robin in Apple Valley. Price is $15.
URL:https://kotaconnections.net/activity/lyft-only-desserts-at-red-robin/
END:VEVENT
BEGIN:VEVENT
DTSTART;TZID=UTC:20250821T180000
DTEND;TZID=UTC:20250821T210000
DTSTAMP:20260425T141256
CREATED:20250721T195057Z
LAST-MODIFIED:20250721T195704Z
UID:514073-1755799200-1755810000@kotaconnections.net
SUMMARY:MN State Fair Night
DESCRIPTION:Kota Connections will be taking individuals to the State Fair this evening. Cost if $20 to get in and extra money is suggested for any purchases at the fair. Kota Connections suggests $40 for this event.
URL:https://kotaconnections.net/activity/mn-state-fair-night-2/
LOCATION:MN State Fairgrounds\, 1265 Snelling Ave N\, St. Paul\, MN\, 55108\, United States
END:VEVENT
BEGIN:VEVENT
DTSTART;TZID=UTC:20250823T110000
DTEND;TZID=UTC:20250823T160000
DTSTAMP:20260425T141256
CREATED:20250721T195249Z
LAST-MODIFIED:20250721T195249Z
UID:514075-1755946800-1755964800@kotaconnections.net
SUMMARY:Coon Rapids Water Park
DESCRIPTION:Come join Kota Connections for more fun in the sun this summer at Coon Rapids Water Park. 11 am to 4 pm. Cost is $20 to get in and spending for food and beverages.
URL:https://kotaconnections.net/activity/coon-rapids-water-park/
END:VEVENT
BEGIN:VEVENT
DTSTART;TZID=UTC:20250827T183000
DTEND;TZID=UTC:20250827T210000
DTSTAMP:20260425T141256
CREATED:20250721T195543Z
LAST-MODIFIED:20250721T195543Z
UID:514077-1756319400-1756328400@kotaconnections.net
SUMMARY:Canterbury Park
DESCRIPTION:Come join Kota Connections at Canterbury Park to watch the horse races. Cost is $5 to get in. Spending for food\, beverages and bets.
URL:https://kotaconnections.net/activity/canterbury-park/
LOCATION:Canterbury Park\, 1100 Canterbury Road\, Shakopee\, MN\, 55379\, United States
END:VEVENT
BEGIN:VEVENT
DTSTART;TZID=UTC:20250828T090000
DTEND;TZID=UTC:20250828T170000
DTSTAMP:20260425T141256
CREATED:20250721T195954Z
LAST-MODIFIED:20250721T200139Z
UID:514079-1756371600-1756400400@kotaconnections.net
SUMMARY:MN State Fair Day
DESCRIPTION:Kota Connections will be taking individuals to the State Fair for today 9 am – 5 pm. Cost if $20 to get in and extra money is suggested for any purchases at the fair. Kota Connections suggests $50 for this event.
URL:https://kotaconnections.net/activity/mn-state-fair-day-2/
LOCATION:MN State Fairgrounds\, 1265 Snelling Ave N\, St. Paul\, MN\, 55108\, United States
END:VEVENT
BEGIN:VEVENT
DTSTART;TZID=UTC:20250829T190000
DTEND;TZID=UTC:20250829T213000
DTSTAMP:20260425T141256
CREATED:20250721T185550Z
LAST-MODIFIED:20250721T185550Z
UID:514049-1756494000-1756503000@kotaconnections.net
SUMMARY:MN Twins
DESCRIPTION:Kota Connections has 4 tickets\, 1 staff and 3 clients\, to attend the MN Twins game today. **Target field does not accept cash\, so a card is required for concessions purchases.**
URL:https://kotaconnections.net/activity/mn-twins-108/
LOCATION:Target Field\, 1 Twins Way\, Minneapolis\, MN\, 55403\, United States
END:VEVENT
END:VCALENDAR