BEGIN:VCALENDAR
VERSION:2.0
PRODID:-//Kota Connections, Inc. - ECPv6.8.2.1//NONSGML v1.0//EN
CALSCALE:GREGORIAN
METHOD:PUBLISH
X-WR-CALNAME:Kota Connections, Inc.
X-ORIGINAL-URL:https://kotaconnections.net
X-WR-CALDESC:Events for Kota Connections, Inc.
REFRESH-INTERVAL;VALUE=DURATION:PT1H
X-Robots-Tag:noindex
X-PUBLISHED-TTL:PT1H
BEGIN:VTIMEZONE
TZID:UTC
BEGIN:STANDARD
TZOFFSETFROM:+0000
TZOFFSETTO:+0000
TZNAME:UTC
DTSTART:20250101T000000
END:STANDARD
END:VTIMEZONE
BEGIN:VEVENT
DTSTART;TZID=UTC:20250521T120000
DTEND;TZID=UTC:20250521T150000
DTSTAMP:20260425T154714
CREATED:20250430T151141Z
LAST-MODIFIED:20250430T151141Z
UID:513901-1747828800-1747839600@kotaconnections.net
SUMMARY:MN Twins
DESCRIPTION:Kota Connections has 4 tickets\, 1 staff and 3 clients\, to attend the MN Twins game today. **Target field does not accept cash\, so a card is required for concessions purchases.**
URL:https://kotaconnections.net/activity/mn-twins-96/
LOCATION:Target Field\, 1 Twins Way\, Minneapolis\, MN\, 55403\, United States
END:VEVENT
BEGIN:VEVENT
DTSTART;TZID=UTC:20250521T180000
DTEND;TZID=UTC:20250521T200000
DTSTAMP:20260425T154714
CREATED:20250430T154033Z
LAST-MODIFIED:20250430T154033Z
UID:513917-1747850400-1747857600@kotaconnections.net
SUMMARY:Dred Scott Mini Golf + Dairy Queen
DESCRIPTION:Come join us for Mini Golf at the Links at Dred Scott then Dairy Queen after for ice cream! $25 for mini golf and then ice cream after.
URL:https://kotaconnections.net/activity/dred-scott-mini-golf-dairy-queen-2/
LOCATION:MN
END:VEVENT
BEGIN:VEVENT
DTSTART;TZID=UTC:20250522T180000
DTEND;TZID=UTC:20250522T200000
DTSTAMP:20260425T154714
CREATED:20250430T154130Z
LAST-MODIFIED:20250430T154146Z
UID:513919-1747936800-1747944000@kotaconnections.net
SUMMARY:King Park Mini Golf + Dairy Queen
DESCRIPTION:Come join us for Mini Golf at King Park then Dairy Queen after for ice cream! $10 for ice cream after mini golf. Bring your own putters for this free course!
URL:https://kotaconnections.net/activity/513919/
LOCATION:MN
END:VEVENT
BEGIN:VEVENT
DTSTART;TZID=UTC:20250523T190000
DTEND;TZID=UTC:20250523T220000
DTSTAMP:20260425T154714
CREATED:20250430T151210Z
LAST-MODIFIED:20250430T151210Z
UID:513903-1748026800-1748037600@kotaconnections.net
SUMMARY:MN Twins
DESCRIPTION:Kota Connections has 4 tickets\, 1 staff and 3 clients\, to attend the MN Twins game today. **Target field does not accept cash\, so a card is required for concessions purchases.**
URL:https://kotaconnections.net/activity/mn-twins-97/
LOCATION:Target Field\, 1 Twins Way\, Minneapolis\, MN\, 55403\, United States
END:VEVENT
BEGIN:VEVENT
DTSTART;TZID=UTC:20250525T130000
DTEND;TZID=UTC:20250525T160000
DTSTAMP:20260425T154714
CREATED:20250430T151237Z
LAST-MODIFIED:20250430T151237Z
UID:513905-1748178000-1748188800@kotaconnections.net
SUMMARY:MN Twins
DESCRIPTION:Kota Connections has 4 tickets\, 1 staff and 3 clients\, to attend the MN Twins game today. **Target field does not accept cash\, so a card is required for concessions purchases.**
URL:https://kotaconnections.net/activity/mn-twins-98/
LOCATION:Target Field\, 1 Twins Way\, Minneapolis\, MN\, 55403\, United States
END:VEVENT
BEGIN:VEVENT
DTSTART;VALUE=DATE:20250526
DTEND;VALUE=DATE:20250527
DTSTAMP:20260425T154714
CREATED:20250430T151854Z
LAST-MODIFIED:20250430T151854Z
UID:513909-1748217600-1748303999@kotaconnections.net
SUMMARY:Memorial Day
DESCRIPTION:Memorial Day
URL:https://kotaconnections.net/activity/memorial-day/
LOCATION:MN
END:VEVENT
BEGIN:VEVENT
DTSTART;TZID=UTC:20250527T180000
DTEND;TZID=UTC:20250527T203000
DTSTAMP:20260425T154714
CREATED:20250317T210718Z
LAST-MODIFIED:20250317T210718Z
UID:513824-1748368800-1748377800@kotaconnections.net
SUMMARY:KC Softball Games
DESCRIPTION:Spring is here and Softball Games will be held tonight at Aronson Park in Lakeville. *Weather Pending*
URL:https://kotaconnections.net/activity/kc-softball-games-12/
LOCATION:MN
CATEGORIES:Softball Games,Softball League
END:VEVENT
BEGIN:VEVENT
DTSTART;TZID=UTC:20250528T183000
DTEND;TZID=UTC:20250528T193000
DTSTAMP:20260425T154714
CREATED:20250430T145337Z
LAST-MODIFIED:20250430T145337Z
UID:513889-1748457000-1748460600@kotaconnections.net
SUMMARY:Virtual Bingo
DESCRIPTION:Kota Connections will be hosting a Virtual Bingo event tonight. There will be 2 offerings of a Virtual bingo this month. The $5 cost will go towards the winners of each game and will be sent out as a bill after the event. Any winnings that individuals win\, will first go towards the $5 activity cost before being paid out\, unless the $5 is paid before the event.
URL:https://kotaconnections.net/activity/virtual-bingo-119/
LOCATION:Zoom
END:VEVENT
BEGIN:VEVENT
DTSTART;TZID=UTC:20250531T090000
DTEND;TZID=UTC:20250531T110000
DTSTAMP:20260425T154714
CREATED:20250430T154414Z
LAST-MODIFIED:20250430T154414Z
UID:513922-1748682000-1748689200@kotaconnections.net
SUMMARY:MN Zoo Walk
DESCRIPTION:Come join as for a nice morning walk around the Zoo. Dress for the weather. Cost is Free with MA or $25 dollars to get in. $3 for parking
URL:https://kotaconnections.net/activity/mn-zoo-walk-2/
LOCATION:MN
END:VEVENT
BEGIN:VEVENT
DTSTART;TZID=UTC:20250603T180000
DTEND;TZID=UTC:20250603T203000
DTSTAMP:20260425T154714
CREATED:20250317T210816Z
LAST-MODIFIED:20250317T210816Z
UID:513826-1748973600-1748982600@kotaconnections.net
SUMMARY:KC Softball Games
DESCRIPTION:Spring is here and Softball Games will be held tonight at Aronson Park in Lakeville. *Weather Pending*
URL:https://kotaconnections.net/activity/kc-softball-games-18/
LOCATION:Aronson Park\, 8250 202nd St W\, Lakeville\, MN\, 55044\, United States
CATEGORIES:Softball Games,Softball League
END:VEVENT
BEGIN:VEVENT
DTSTART;TZID=UTC:20250604T183000
DTEND;TZID=UTC:20250604T200000
DTSTAMP:20260425T154714
CREATED:20250520T204804Z
LAST-MODIFIED:20250520T204826Z
UID:513935-1749061800-1749067200@kotaconnections.net
SUMMARY:Bingo Outside at Lakeville Office
DESCRIPTION:Come join us for bingo and hopefully nice weather for Bingo outside at the office! Cost is $20 for bingo and a snack.
URL:https://kotaconnections.net/activity/bingo-outside-at-lakeville-office/
LOCATION:Kota Connections\, 8500 210th St W Suite 148\, Lakeville\, MN\, 55044\, United States
END:VEVENT
BEGIN:VEVENT
DTSTART;TZID=UTC:20250605T183000
DTEND;TZID=UTC:20250605T200000
DTSTAMP:20260425T154714
CREATED:20250520T205154Z
LAST-MODIFIED:20250520T205154Z
UID:513940-1749148200-1749153600@kotaconnections.net
SUMMARY:LYFT at Grand Slam
DESCRIPTION:LYFT or Own activity at Grand Slam. Practice using LYFT for this activity and come join us for mini golf\, bumper cars\, batting cages\, or Arcade Games.
URL:https://kotaconnections.net/activity/lyft-at-grand-slam/
LOCATION:Grand Slam\, 12425 River Ridge Blvd\, Burnsville\, MN 55337
END:VEVENT
BEGIN:VEVENT
DTSTART;TZID=UTC:20250606T190000
DTEND;TZID=UTC:20250606T213000
DTSTAMP:20260425T154714
CREATED:20250520T205354Z
LAST-MODIFIED:20250520T205354Z
UID:513942-1749236400-1749245400@kotaconnections.net
SUMMARY:MN Twins
DESCRIPTION:Kota Connections has 4 tickets\, 1 staff and 3 clients\, to attend the MN Twins game today. **Target field does not accept cash\, so a card is required for concessions purchases.**
URL:https://kotaconnections.net/activity/mn-twins-99/
LOCATION:Target Field\, 1 Twins Way\, Minneapolis\, MN\, 55403\, United States
END:VEVENT
BEGIN:VEVENT
DTSTART;TZID=UTC:20250607T110000
DTEND;TZID=UTC:20250607T130000
DTSTAMP:20260425T154714
CREATED:20250521T184443Z
LAST-MODIFIED:20250521T184443Z
UID:513961-1749294000-1749301200@kotaconnections.net
SUMMARY:Target Shop + Panera Lunch
DESCRIPTION:Come join us for Target shop in Apple Valley for anything you need and lunch at Panera bread.
URL:https://kotaconnections.net/activity/target-shop-panera-lunch-3/
LOCATION:Target Cedar AV
END:VEVENT
BEGIN:VEVENT
DTSTART;TZID=UTC:20250608T130000
DTEND;TZID=UTC:20250608T153000
DTSTAMP:20260425T154714
CREATED:20250521T183247Z
LAST-MODIFIED:20250521T183247Z
UID:513953-1749387600-1749396600@kotaconnections.net
SUMMARY:MN Twins
DESCRIPTION:Kota Connections has 4 tickets\, 1 staff and 3 clients\, to attend the MN Twins game today. **Target field does not accept cash\, so a card is required for concessions purchases.**
URL:https://kotaconnections.net/activity/mn-twins-101/
LOCATION:Target Field\, 1 Twins Way\, Minneapolis\, MN\, 55403\, United States
END:VEVENT
BEGIN:VEVENT
DTSTART;TZID=UTC:20250609T183000
DTEND;TZID=UTC:20250609T200000
DTSTAMP:20260425T154714
CREATED:20250521T183005Z
LAST-MODIFIED:20250521T183140Z
UID:513948-1749493800-1749499200@kotaconnections.net
SUMMARY:Bowling @ Bowlero
DESCRIPTION:Come join us for Bowling @ Bowlero in Lakeville. Enjoy Pizza and pop. Bowl for an hour and half and enjoy spending time with your peers. Cost is $30.
URL:https://kotaconnections.net/activity/bowling-bowlero/
LOCATION:Lucky Strike\, 11129 162nd St W\, Lakeville\, MN 55044
END:VEVENT
BEGIN:VEVENT
DTSTART;TZID=UTC:20250610T180000
DTEND;TZID=UTC:20250610T203000
DTSTAMP:20260425T154714
CREATED:20250317T211732Z
LAST-MODIFIED:20250317T211732Z
UID:513828-1749578400-1749587400@kotaconnections.net
SUMMARY:KC Softball Games
DESCRIPTION:Summer is here and Softball Games will be held tonight at Aronson Park in Lakeville. *Weather Pending*
URL:https://kotaconnections.net/activity/kc-softball-games-19/
LOCATION:Aronson Park\, 8250 202nd St W\, Lakeville\, MN\, 55044\, United States
CATEGORIES:Softball Games,Softball League
END:VEVENT
BEGIN:VEVENT
DTSTART;TZID=UTC:20250611T183000
DTEND;TZID=UTC:20250611T200000
DTSTAMP:20260425T154714
CREATED:20250520T204914Z
LAST-MODIFIED:20250520T204914Z
UID:513938-1749666600-1749672000@kotaconnections.net
SUMMARY:Bingo Outside at the Lakeville Office
DESCRIPTION:Come join us for bingo and hopefully nice weather for Bingo outside at the office! Cost is $20 for bingo and a snack.
URL:https://kotaconnections.net/activity/bingo-outside-at-the-lakeville-office/
LOCATION:Kota Connections\, 8500 210th St W Suite 148\, Lakeville\, MN\, 55044\, United States
END:VEVENT
BEGIN:VEVENT
DTSTART;TZID=UTC:20250612T120000
DTEND;TZID=UTC:20250612T143000
DTSTAMP:20260425T154714
CREATED:20250521T182140Z
LAST-MODIFIED:20250521T182140Z
UID:513944-1749729600-1749738600@kotaconnections.net
SUMMARY:MN Twins
DESCRIPTION:Kota Connections has 4 tickets\, 1 staff and 3 clients\, to attend the MN Twins game today. **Target field does not accept cash\, so a card is required for concessions purchases.**
URL:https://kotaconnections.net/activity/mn-twins-100/
LOCATION:Target Field\, 1 Twins Way\, Minneapolis\, MN\, 55403\, United States
END:VEVENT
BEGIN:VEVENT
DTSTART;TZID=UTC:20250614T110000
DTEND;TZID=UTC:20250614T140000
DTSTAMP:20260425T154714
CREATED:20250521T182512Z
LAST-MODIFIED:20250521T182512Z
UID:513946-1749898800-1749909600@kotaconnections.net
SUMMARY:Grease at the Chanhassen Dinner Theater
DESCRIPTION:Come join us at the Chanhassen Dinner Theater for the show Grease! Enjoy a new meal with dessert while watching the show.  This Activity is prepaid.
URL:https://kotaconnections.net/activity/grease-at-the-chanhassen-dinner-theater/
LOCATION:MN
END:VEVENT
BEGIN:VEVENT
DTSTART;TZID=UTC:20250616T183000
DTEND;TZID=UTC:20250616T200000
DTSTAMP:20260425T154714
CREATED:20250521T183110Z
LAST-MODIFIED:20250521T183110Z
UID:513951-1750098600-1750104000@kotaconnections.net
SUMMARY:Bowling @ Bowlero
DESCRIPTION:Come join us for Bowling @ Bowlero in Lakeville. Enjoy Pizza and pop. Bowl for an hour and half and enjoy spending time with your peers. Cost is $30.
URL:https://kotaconnections.net/activity/bowling-bowlero-2/
LOCATION:Lucky Strike\, 11129 162nd St W\, Lakeville\, MN 55044
END:VEVENT
BEGIN:VEVENT
DTSTART;VALUE=DATE:20250617
DTEND;VALUE=DATE:20250620
DTSTAMP:20260425T154714
CREATED:20250521T184310Z
LAST-MODIFIED:20250521T184310Z
UID:513959-1750118400-1750377599@kotaconnections.net
SUMMARY:Wisconsin Dells
DESCRIPTION:*Prepaid Activity* Come Join us at the Wisconsin Dells! Enjoy water parks\, boat rides\, and amazing food!
URL:https://kotaconnections.net/activity/wisconsin-dells-4/
LOCATION:MN
END:VEVENT
BEGIN:VEVENT
DTSTART;TZID=UTC:20250617T180000
DTEND;TZID=UTC:20250617T203000
DTSTAMP:20260425T154714
CREATED:20250520T204300Z
LAST-MODIFIED:20250520T204346Z
UID:513929-1750183200-1750192200@kotaconnections.net
SUMMARY:KC Softball Games
DESCRIPTION:Spring is here and Softball Games will be held tonight at Aronson Park in Lakeville. *Weather Pending*
URL:https://kotaconnections.net/activity/kc-softball-games-20/
LOCATION:Aronson Park\, 8250 202nd St W\, Lakeville\, MN\, 55044\, United States
CATEGORIES:Softball Games,Softball League
END:VEVENT
BEGIN:VEVENT
DTSTART;TZID=UTC:20250620T180000
DTEND;TZID=UTC:20250620T210000
DTSTAMP:20260425T154714
CREATED:20250521T183908Z
LAST-MODIFIED:20250521T183908Z
UID:513957-1750442400-1750453200@kotaconnections.net
SUMMARY:PE Dance Rock’n’Roll\, Raffles
DESCRIPTION:Join us at Valley Middle School for the Project Explore Rock’n’Roll dance plus raffles. Make sure to bring $10 to get for the dance and any extra money to buy raffles to win basket prizes.
URL:https://kotaconnections.net/activity/pe-dance-rocknroll-raffles-2/
LOCATION:Apple Valley Middle School\, 900 Garden View Drive\, Apple Valley\, Minnesota\, 55124
END:VEVENT
BEGIN:VEVENT
DTSTART;TZID=UTC:20250621T130000
DTEND;TZID=UTC:20250621T153000
DTSTAMP:20260425T154714
CREATED:20250521T183549Z
LAST-MODIFIED:20250521T183549Z
UID:513955-1750510800-1750519800@kotaconnections.net
SUMMARY:MN Twins
DESCRIPTION:Kota Connections has 4 tickets\, 1 staff and 3 clients\, to attend the MN Twins game today. **Target field does not accept cash\, so a card is required for concessions purchases.**
URL:https://kotaconnections.net/activity/mn-twins-102/
LOCATION:Target Field\, 1 Twins Way\, Minneapolis\, MN\, 55403\, United States
END:VEVENT
BEGIN:VEVENT
DTSTART;TZID=UTC:20250623T180000
DTEND;TZID=UTC:20250623T200000
DTSTAMP:20260425T154714
CREATED:20250521T184645Z
LAST-MODIFIED:20250521T184645Z
UID:513963-1750701600-1750708800@kotaconnections.net
SUMMARY:KC Meeting @ Antlers Park
DESCRIPTION:Come to Antlers Park for the KC Meeting.  July activity calendars and sign up cards will be handed out tonight. If you have any ideas for future activities\, this would be a great place to bring that up. Come enjoy the new park! Snack available for $5 or snack card
URL:https://kotaconnections.net/activity/kc-meeting-antlers-park-3/
LOCATION:Antlers Park\, Antlers Park Lakeville\, MN 55044
END:VEVENT
BEGIN:VEVENT
DTSTART;TZID=UTC:20250624T180000
DTEND;TZID=UTC:20250624T203000
DTSTAMP:20260425T154714
CREATED:20250520T204332Z
LAST-MODIFIED:20250520T204332Z
UID:513931-1750788000-1750797000@kotaconnections.net
SUMMARY:KC Softball Games
DESCRIPTION:Spring is here and Softball Games will be held tonight at Aronson Park in Lakeville. *Weather Pending*
URL:https://kotaconnections.net/activity/kc-softball-games-21/
LOCATION:MN
CATEGORIES:Softball Games,Softball League
END:VEVENT
BEGIN:VEVENT
DTSTART;TZID=UTC:20250625T183000
DTEND;TZID=UTC:20250625T193000
DTSTAMP:20260425T154714
CREATED:20250521T184823Z
LAST-MODIFIED:20250521T184823Z
UID:513966-1750876200-1750879800@kotaconnections.net
SUMMARY:Virtual Bingo
DESCRIPTION:Kota Connections will be hosting a Virtual Bingo event tonight. The $5 cost will go towards the winners of each game and will be sent out as a bill after the event. Any winnings that individuals win\, will first go towards the $5 activity cost before being paid out\, unless the $5 is paid before the event.
URL:https://kotaconnections.net/activity/virtual-bingo-120/
LOCATION:Zoom
END:VEVENT
BEGIN:VEVENT
DTSTART;TZID=UTC:20250626T180000
DTEND;TZID=UTC:20250626T200000
DTSTAMP:20260425T154714
CREATED:20250521T185148Z
LAST-MODIFIED:20250521T190721Z
UID:513968-1750960800-1750968000@kotaconnections.net
SUMMARY:KC Meeting @ Canterbury Park
DESCRIPTION:Kota Connections will be holding the meeting at Canterbury Park. July calendars will be handed out tonight. After that\, the group will stay to watch a number of races.
URL:https://kotaconnections.net/activity/kc-meeting-canterbury-park-3/
LOCATION:Canterbury Park\, 1100 Canterbury Road\, Shakopee\, MN\, 55379\, United States
END:VEVENT
BEGIN:VEVENT
DTSTART;TZID=UTC:20250627T110000
DTEND;TZID=UTC:20250627T120000
DTSTAMP:20260425T154714
CREATED:20250521T185758Z
LAST-MODIFIED:20250521T185758Z
UID:513970-1751022000-1751025600@kotaconnections.net
SUMMARY:PE Lunch Bunch QDOBA
DESCRIPTION:Come join us with  Project Explore for Lunch at QDOBA in Apple Valley.
URL:https://kotaconnections.net/activity/pe-lunch-bunch-qdoba/
LOCATION:MN
END:VEVENT
END:VCALENDAR