BEGIN:VCALENDAR
VERSION:2.0
PRODID:-//Kota Connections, Inc. - ECPv6.8.2.1//NONSGML v1.0//EN
CALSCALE:GREGORIAN
METHOD:PUBLISH
X-WR-CALNAME:Kota Connections, Inc.
X-ORIGINAL-URL:https://kotaconnections.net
X-WR-CALDESC:Events for Kota Connections, Inc.
REFRESH-INTERVAL;VALUE=DURATION:PT1H
X-Robots-Tag:noindex
X-PUBLISHED-TTL:PT1H
BEGIN:VTIMEZONE
TZID:UTC
BEGIN:STANDARD
TZOFFSETFROM:+0000
TZOFFSETTO:+0000
TZNAME:UTC
DTSTART:20250101T000000
END:STANDARD
END:VTIMEZONE
BEGIN:VEVENT
DTSTART;TZID=UTC:20250429T180000
DTEND;TZID=UTC:20250429T200000
DTSTAMP:20260425T115111
CREATED:20250317T205239Z
LAST-MODIFIED:20250317T205239Z
UID:513816-1745949600-1745956800@kotaconnections.net
SUMMARY:KC Softball Practice
DESCRIPTION:Spring is here and Softball practice will be held tonight at Aronson Park in Lakeville. *Weather Pending*. Kota will bring registers forms tonight. Make Sure to fill out forms for softball and turn them in for the games start.
URL:https://kotaconnections.net/activity/kc-softball-practice-6/
LOCATION:Aronson Park\, 8250 202nd St W\, Lakeville\, MN\, 55044\, United States
CATEGORIES:Softball Games,Softball League
END:VEVENT
BEGIN:VEVENT
DTSTART;TZID=UTC:20250501T183000
DTEND;TZID=UTC:20250501T210000
DTSTAMP:20260425T115111
CREATED:20250430T142858Z
LAST-MODIFIED:20250430T142858Z
UID:513881-1746124200-1746133200@kotaconnections.net
SUMMARY:LYFT Movie Night at Emagine in Eagan
DESCRIPTION:Come join us at Emagine in Eagan for a fun movie night and to practice using Lyft or being an own driver. Cost is $15 for a movie ticket and extra spending for snacks.
URL:https://kotaconnections.net/activity/lyft-movie-night-at-emagine-in-eagan/
LOCATION:Eagan Emagine Theater\, 2055 Cliff Road\, Eagan\, Minnesota
END:VEVENT
BEGIN:VEVENT
DTSTART;TZID=UTC:20250503T090000
DTEND;TZID=UTC:20250503T110000
DTSTAMP:20260425T115111
CREATED:20250430T143323Z
LAST-MODIFIED:20250430T143323Z
UID:513883-1746262800-1746270000@kotaconnections.net
SUMMARY:Breakfast at Steak & Ale + Target Shop
DESCRIPTION:Come join us for a nice warm Breakfast at Steak & Ale in Burnsville! Then shop at Target for all of your needs. $25 for Breakfast. Shopping money for Target.
URL:https://kotaconnections.net/activity/breakfast-at-steak-ale-target-shop/
LOCATION:Minnesota
END:VEVENT
BEGIN:VEVENT
DTSTART;TZID=UTC:20250506T180000
DTEND;TZID=UTC:20250506T203000
DTSTAMP:20260425T115111
CREATED:20250317T210251Z
LAST-MODIFIED:20250317T210354Z
UID:513818-1746554400-1746563400@kotaconnections.net
SUMMARY:KC Softball Games
DESCRIPTION:KC Softball practice or first week of games. At Aronson Park.
URL:https://kotaconnections.net/activity/kc-softball-games-9/
LOCATION:Aronson Park\, 8250 202nd St W\, Lakeville\, MN\, 55044\, United States
CATEGORIES:Softball Games,Softball League
END:VEVENT
BEGIN:VEVENT
DTSTART;TZID=UTC:20250507T183000
DTEND;TZID=UTC:20250507T193000
DTSTAMP:20260425T115111
CREATED:20250430T145306Z
LAST-MODIFIED:20250430T145306Z
UID:513887-1746642600-1746646200@kotaconnections.net
SUMMARY:Virtual Bingo
DESCRIPTION:Kota Connections will be hosting a Virtual Bingo event tonight. There will be 2 offerings of a Virtual bingo this month. The $5 cost will go towards the winners of each game and will be sent out as a bill after the event. Any winnings that individuals win\, will first go towards the $5 activity cost before being paid out\, unless the $5 is paid before the event.
URL:https://kotaconnections.net/activity/virtual-bingo-118/
LOCATION:Zoom
END:VEVENT
BEGIN:VEVENT
DTSTART;TZID=UTC:20250508T120000
DTEND;TZID=UTC:20250508T150000
DTSTAMP:20260425T115111
CREATED:20250430T150003Z
LAST-MODIFIED:20250430T150003Z
UID:513893-1746705600-1746716400@kotaconnections.net
SUMMARY:MN Twins
DESCRIPTION:Kota Connections has 4 tickets\, 1 staff and 3 clients\, to attend the MN Twins game today. **Target field does not accept cash\, so a card is required for concessions purchases.**
URL:https://kotaconnections.net/activity/mn-twins-92/
LOCATION:Target Field\, 1 Twins Way\, Minneapolis\, MN\, 55403\, United States
END:VEVENT
BEGIN:VEVENT
DTSTART;TZID=UTC:20250509T183000
DTEND;TZID=UTC:20250509T210000
DTSTAMP:20260425T115111
CREATED:20250430T145451Z
LAST-MODIFIED:20250430T145451Z
UID:513891-1746815400-1746824400@kotaconnections.net
SUMMARY:PE Prom / Spring Formal
DESCRIPTION:Come join us at Valley Middle School for the Project explore Prom / Spring Formal. Cost is $10 for this dance.
URL:https://kotaconnections.net/activity/pe-prom-spring-formal-2/
LOCATION:Apple Valley Middle School\, 900 Garden View Drive\, Apple Valley\, Minnesota\, 55124
END:VEVENT
BEGIN:VEVENT
DTSTART;TZID=UTC:20250510T090000
DTEND;TZID=UTC:20250510T110000
DTSTAMP:20260425T115111
CREATED:20250430T143421Z
LAST-MODIFIED:20250430T143421Z
UID:513885-1746867600-1746874800@kotaconnections.net
SUMMARY:Breakfast at Lucky's 13 + Target Shop
DESCRIPTION:Come join us for a nice warm Breakfast at Lucky’s 13 in Burnsville! Then shop at Target for all of your needs. $25 for Breakfast. Shopping money for Target.
URL:https://kotaconnections.net/activity/breakfast-at-luckys-13-target-shop/
LOCATION:Minnesota
END:VEVENT
BEGIN:VEVENT
DTSTART;TZID=UTC:20250510T180000
DTEND;TZID=UTC:20250510T210000
DTSTAMP:20260425T115111
CREATED:20250430T150044Z
LAST-MODIFIED:20250430T150044Z
UID:513895-1746900000-1746910800@kotaconnections.net
SUMMARY:MN Twins
DESCRIPTION:Kota Connections has 4 tickets\, 1 staff and 3 clients\, to attend the MN Twins game today. **Target field does not accept cash\, so a card is required for concessions purchases.**
URL:https://kotaconnections.net/activity/mn-twins-93/
LOCATION:Target Field\, 1 Twins Way\, Minneapolis\, MN\, 55403\, United States
END:VEVENT
BEGIN:VEVENT
DTSTART;VALUE=DATE:20250511
DTEND;VALUE=DATE:20250512
DTSTAMP:20260425T115111
CREATED:20250430T151808Z
LAST-MODIFIED:20250430T151808Z
UID:513907-1746921600-1747007999@kotaconnections.net
SUMMARY:Mother's Day
DESCRIPTION:Celebrate Mother’s Day!
URL:https://kotaconnections.net/activity/mothers-day/
LOCATION:Minnesota
END:VEVENT
BEGIN:VEVENT
DTSTART;TZID=UTC:20250513T180000
DTEND;TZID=UTC:20250513T203000
DTSTAMP:20260425T115111
CREATED:20250317T210521Z
LAST-MODIFIED:20250317T210521Z
UID:513820-1747159200-1747168200@kotaconnections.net
SUMMARY:KC Softball Games
DESCRIPTION:Spring is here and Softball Games will be held tonight at Aronson Park in Lakeville. *Weather Pending*
URL:https://kotaconnections.net/activity/kc-softball-games-10/
LOCATION:Aronson Park\, 8250 202nd St W\, Lakeville\, MN\, 55044\, United States
CATEGORIES:Softball Games,Softball League
END:VEVENT
BEGIN:VEVENT
DTSTART;TZID=UTC:20250514T183000
DTEND;TZID=UTC:20250514T203000
DTSTAMP:20260425T115111
CREATED:20250430T153551Z
LAST-MODIFIED:20250430T153551Z
UID:513911-1747247400-1747254600@kotaconnections.net
SUMMARY:KC Meeting @ Bogarts AV + Bowling
DESCRIPTION:Come join us at Bogarts in Apple Valley. KC Meeting get your calendars and activity cards. Eat pizza and have pop while bowling!
URL:https://kotaconnections.net/activity/kc-meeting-bogarts-av-bowling/
LOCATION:Bogarts\, 14917 Garrett Avenue Apple Valley\, Minnesota 55124
END:VEVENT
BEGIN:VEVENT
DTSTART;TZID=UTC:20250515T120000
DTEND;TZID=UTC:20250515T150000
DTSTAMP:20260425T115111
CREATED:20250430T150627Z
LAST-MODIFIED:20250430T150627Z
UID:513897-1747310400-1747321200@kotaconnections.net
SUMMARY:MN Twins
DESCRIPTION:Kota Connections has 4 tickets\, 1 staff and 3 clients\, to attend the MN Twins game today. **Target field does not accept cash\, so a card is required for concessions purchases.**
URL:https://kotaconnections.net/activity/mn-twins-94/
LOCATION:Minnesota
END:VEVENT
BEGIN:VEVENT
DTSTART;TZID=UTC:20250515T183000
DTEND;TZID=UTC:20250515T203000
DTSTAMP:20260425T115111
CREATED:20250430T153650Z
LAST-MODIFIED:20250430T153650Z
UID:513913-1747333800-1747341000@kotaconnections.net
SUMMARY:KC Meeting @ Bogarts AV + Bowling
DESCRIPTION:Come join us at Bogarts in Apple Valley. KC Meeting get your calendars and activity cards. Eat pizza and have pop while bowling!
URL:https://kotaconnections.net/activity/kc-meeting-bogarts-av-bowling-2/
LOCATION:Bogarts\, 14917 Garrett Avenue Apple Valley\, Minnesota 55124
END:VEVENT
BEGIN:VEVENT
DTSTART;TZID=UTC:20250516T120000
DTEND;TZID=UTC:20250516T130000
DTSTAMP:20260425T115112
CREATED:20250430T153905Z
LAST-MODIFIED:20250430T153905Z
UID:513915-1747396800-1747400400@kotaconnections.net
SUMMARY:PE Lunch Bunch Chipotle Burnsville
DESCRIPTION:Come join us with Project Explore for lunch at Chipotle in Burnsville.
URL:https://kotaconnections.net/activity/pe-lunch-bunch-chipotle-burnsville/
LOCATION:Minnesota
END:VEVENT
BEGIN:VEVENT
DTSTART;TZID=UTC:20250517T110000
DTEND;TZID=UTC:20250517T153000
DTSTAMP:20260425T115112
CREATED:20250430T155147Z
LAST-MODIFIED:20250430T155147Z
UID:513924-1747479600-1747495800@kotaconnections.net
SUMMARY:ValleyFair
DESCRIPTION:Take the day and head out to Valleyfair to go on some rides or just walk around the park. **Valleyfair does not accept cash. Card is required to make purchases.***
URL:https://kotaconnections.net/activity/valleyfair-17/
LOCATION:Valleyfair\, 1 Walley Fair Drive\, Shakopee\, MN\, 55379\, United States
END:VEVENT
BEGIN:VEVENT
DTSTART;TZID=UTC:20250519T180000
DTEND;TZID=UTC:20250519T210000
DTSTAMP:20260425T115112
CREATED:20250430T151115Z
LAST-MODIFIED:20250430T151115Z
UID:513899-1747677600-1747688400@kotaconnections.net
SUMMARY:MN Twins
DESCRIPTION:Kota Connections has 4 tickets\, 1 staff and 3 clients\, to attend the MN Twins game today. **Target field does not accept cash\, so a card is required for concessions purchases.**
URL:https://kotaconnections.net/activity/mn-twins-95/
LOCATION:Target Field\, 1 Twins Way\, Minneapolis\, MN\, 55403\, United States
END:VEVENT
BEGIN:VEVENT
DTSTART;TZID=UTC:20250520T180000
DTEND;TZID=UTC:20250520T203000
DTSTAMP:20260425T115112
CREATED:20250317T210640Z
LAST-MODIFIED:20250520T194739Z
UID:513822-1747764000-1747773000@kotaconnections.net
SUMMARY:KC Softball Games *Cancelled due to bad Weather*
DESCRIPTION:Spring is here and Softball Games will be held tonight at Aronson Park in Lakeville. *Weather Pending*
URL:https://kotaconnections.net/activity/kc-softball-games-11/
LOCATION:Aronson Park\, 8250 202nd St W\, Lakeville\, MN\, 55044\, United States
CATEGORIES:Softball Games,Softball League
END:VEVENT
BEGIN:VEVENT
DTSTART;TZID=UTC:20250521T120000
DTEND;TZID=UTC:20250521T150000
DTSTAMP:20260425T115112
CREATED:20250430T151141Z
LAST-MODIFIED:20250430T151141Z
UID:513901-1747828800-1747839600@kotaconnections.net
SUMMARY:MN Twins
DESCRIPTION:Kota Connections has 4 tickets\, 1 staff and 3 clients\, to attend the MN Twins game today. **Target field does not accept cash\, so a card is required for concessions purchases.**
URL:https://kotaconnections.net/activity/mn-twins-96/
LOCATION:Target Field\, 1 Twins Way\, Minneapolis\, MN\, 55403\, United States
END:VEVENT
BEGIN:VEVENT
DTSTART;TZID=UTC:20250521T180000
DTEND;TZID=UTC:20250521T200000
DTSTAMP:20260425T115112
CREATED:20250430T154033Z
LAST-MODIFIED:20250430T154033Z
UID:513917-1747850400-1747857600@kotaconnections.net
SUMMARY:Dred Scott Mini Golf + Dairy Queen
DESCRIPTION:Come join us for Mini Golf at the Links at Dred Scott then Dairy Queen after for ice cream! $25 for mini golf and then ice cream after.
URL:https://kotaconnections.net/activity/dred-scott-mini-golf-dairy-queen-2/
LOCATION:Minnesota
END:VEVENT
BEGIN:VEVENT
DTSTART;TZID=UTC:20250522T180000
DTEND;TZID=UTC:20250522T200000
DTSTAMP:20260425T115112
CREATED:20250430T154130Z
LAST-MODIFIED:20250430T154146Z
UID:513919-1747936800-1747944000@kotaconnections.net
SUMMARY:King Park Mini Golf + Dairy Queen
DESCRIPTION:Come join us for Mini Golf at King Park then Dairy Queen after for ice cream! $10 for ice cream after mini golf. Bring your own putters for this free course!
URL:https://kotaconnections.net/activity/513919/
LOCATION:Minnesota
END:VEVENT
BEGIN:VEVENT
DTSTART;TZID=UTC:20250523T190000
DTEND;TZID=UTC:20250523T220000
DTSTAMP:20260425T115112
CREATED:20250430T151210Z
LAST-MODIFIED:20250430T151210Z
UID:513903-1748026800-1748037600@kotaconnections.net
SUMMARY:MN Twins
DESCRIPTION:Kota Connections has 4 tickets\, 1 staff and 3 clients\, to attend the MN Twins game today. **Target field does not accept cash\, so a card is required for concessions purchases.**
URL:https://kotaconnections.net/activity/mn-twins-97/
LOCATION:Target Field\, 1 Twins Way\, Minneapolis\, MN\, 55403\, United States
END:VEVENT
BEGIN:VEVENT
DTSTART;TZID=UTC:20250525T130000
DTEND;TZID=UTC:20250525T160000
DTSTAMP:20260425T115112
CREATED:20250430T151237Z
LAST-MODIFIED:20250430T151237Z
UID:513905-1748178000-1748188800@kotaconnections.net
SUMMARY:MN Twins
DESCRIPTION:Kota Connections has 4 tickets\, 1 staff and 3 clients\, to attend the MN Twins game today. **Target field does not accept cash\, so a card is required for concessions purchases.**
URL:https://kotaconnections.net/activity/mn-twins-98/
LOCATION:Target Field\, 1 Twins Way\, Minneapolis\, MN\, 55403\, United States
END:VEVENT
BEGIN:VEVENT
DTSTART;VALUE=DATE:20250526
DTEND;VALUE=DATE:20250527
DTSTAMP:20260425T115112
CREATED:20250430T151854Z
LAST-MODIFIED:20250430T151854Z
UID:513909-1748217600-1748303999@kotaconnections.net
SUMMARY:Memorial Day
DESCRIPTION:Memorial Day
URL:https://kotaconnections.net/activity/memorial-day/
LOCATION:Minnesota
END:VEVENT
BEGIN:VEVENT
DTSTART;TZID=UTC:20250527T180000
DTEND;TZID=UTC:20250527T203000
DTSTAMP:20260425T115112
CREATED:20250317T210718Z
LAST-MODIFIED:20250317T210718Z
UID:513824-1748368800-1748377800@kotaconnections.net
SUMMARY:KC Softball Games
DESCRIPTION:Spring is here and Softball Games will be held tonight at Aronson Park in Lakeville. *Weather Pending*
URL:https://kotaconnections.net/activity/kc-softball-games-12/
LOCATION:Minnesota
CATEGORIES:Softball Games,Softball League
END:VEVENT
BEGIN:VEVENT
DTSTART;TZID=UTC:20250528T183000
DTEND;TZID=UTC:20250528T193000
DTSTAMP:20260425T115112
CREATED:20250430T145337Z
LAST-MODIFIED:20250430T145337Z
UID:513889-1748457000-1748460600@kotaconnections.net
SUMMARY:Virtual Bingo
DESCRIPTION:Kota Connections will be hosting a Virtual Bingo event tonight. There will be 2 offerings of a Virtual bingo this month. The $5 cost will go towards the winners of each game and will be sent out as a bill after the event. Any winnings that individuals win\, will first go towards the $5 activity cost before being paid out\, unless the $5 is paid before the event.
URL:https://kotaconnections.net/activity/virtual-bingo-119/
LOCATION:Zoom
END:VEVENT
BEGIN:VEVENT
DTSTART;TZID=UTC:20250531T090000
DTEND;TZID=UTC:20250531T110000
DTSTAMP:20260425T115112
CREATED:20250430T154414Z
LAST-MODIFIED:20250430T154414Z
UID:513922-1748682000-1748689200@kotaconnections.net
SUMMARY:MN Zoo Walk
DESCRIPTION:Come join as for a nice morning walk around the Zoo. Dress for the weather. Cost is Free with MA or $25 dollars to get in. $3 for parking
URL:https://kotaconnections.net/activity/mn-zoo-walk-2/
LOCATION:Minnesota
END:VEVENT
BEGIN:VEVENT
DTSTART;TZID=UTC:20250603T180000
DTEND;TZID=UTC:20250603T203000
DTSTAMP:20260425T115112
CREATED:20250317T210816Z
LAST-MODIFIED:20250317T210816Z
UID:513826-1748973600-1748982600@kotaconnections.net
SUMMARY:KC Softball Games
DESCRIPTION:Spring is here and Softball Games will be held tonight at Aronson Park in Lakeville. *Weather Pending*
URL:https://kotaconnections.net/activity/kc-softball-games-18/
LOCATION:Aronson Park\, 8250 202nd St W\, Lakeville\, MN\, 55044\, United States
CATEGORIES:Softball Games,Softball League
END:VEVENT
BEGIN:VEVENT
DTSTART;TZID=UTC:20250604T183000
DTEND;TZID=UTC:20250604T200000
DTSTAMP:20260425T115112
CREATED:20250520T204804Z
LAST-MODIFIED:20250520T204826Z
UID:513935-1749061800-1749067200@kotaconnections.net
SUMMARY:Bingo Outside at Lakeville Office
DESCRIPTION:Come join us for bingo and hopefully nice weather for Bingo outside at the office! Cost is $20 for bingo and a snack.
URL:https://kotaconnections.net/activity/bingo-outside-at-lakeville-office/
LOCATION:Kota Connections\, 8500 210th St W Suite 148\, Lakeville\, MN\, 55044\, United States
END:VEVENT
BEGIN:VEVENT
DTSTART;TZID=UTC:20250605T183000
DTEND;TZID=UTC:20250605T200000
DTSTAMP:20260425T115112
CREATED:20250520T205154Z
LAST-MODIFIED:20250520T205154Z
UID:513940-1749148200-1749153600@kotaconnections.net
SUMMARY:LYFT at Grand Slam
DESCRIPTION:LYFT or Own activity at Grand Slam. Practice using LYFT for this activity and come join us for mini golf\, bumper cars\, batting cages\, or Arcade Games.
URL:https://kotaconnections.net/activity/lyft-at-grand-slam/
LOCATION:Grand Slam\, 12425 River Ridge Blvd\, Burnsville\, MN 55337
END:VEVENT
END:VCALENDAR