BEGIN:VCALENDAR
VERSION:2.0
PRODID:-//Kota Connections, Inc. - ECPv6.8.2.1//NONSGML v1.0//EN
CALSCALE:GREGORIAN
METHOD:PUBLISH
X-WR-CALNAME:Kota Connections, Inc.
X-ORIGINAL-URL:https://kotaconnections.net
X-WR-CALDESC:Events for Kota Connections, Inc.
REFRESH-INTERVAL;VALUE=DURATION:PT1H
X-Robots-Tag:noindex
X-PUBLISHED-TTL:PT1H
BEGIN:VTIMEZONE
TZID:UTC
BEGIN:STANDARD
TZOFFSETFROM:+0000
TZOFFSETTO:+0000
TZNAME:UTC
DTSTART:20250101T000000
END:STANDARD
END:VTIMEZONE
BEGIN:VEVENT
DTSTART;TZID=UTC:20250404T183000
DTEND;TZID=UTC:20250404T210000
DTSTAMP:20260422T093018
CREATED:20250324T185638Z
LAST-MODIFIED:20250324T185638Z
UID:513830-1743791400-1743800400@kotaconnections.net
SUMMARY:PE Spring Dance
DESCRIPTION:Come join us with Project Explore for the  Spring Dance at Valley Middle School. Dress in your best Spring Attire and be ready to have fun dancing!
URL:https://kotaconnections.net/activity/pe-spring-dance-2/
LOCATION:Apple Valley Middle School\, 900 Garden View Drive\, Apple Valley\, Minnesota\, 55124
END:VEVENT
BEGIN:VEVENT
DTSTART;TZID=UTC:20250405T100000
DTEND;TZID=UTC:20250405T130000
DTSTAMP:20260422T093018
CREATED:20250324T185826Z
LAST-MODIFIED:20250324T185849Z
UID:513832-1743847200-1743858000@kotaconnections.net
SUMMARY:Craft Fair at Canterbury Park
DESCRIPTION:Join us for the Spring Festival:  Art Craft Fair at Canterbury Park. $10 for admission free parking. \n\nHundreds of the nation’s finest artists and crafters will display and sell their work at the Spring Festival\, An Arts & Crafts Affair! \n\n\nThe event\, which runs from April 4– 6\, has been voted one of the top 100 shows in the country by Sunshine Artist Magazine. \nThe expo features hourly gift certificate drawings\, food and drink\, free parking\, and lots of family fun!
URL:https://kotaconnections.net/activity/craft-fair-at-canterbury-park-2/
LOCATION:Canterbury Park\, 1100 Canterbury Road\, Shakopee\, MN\, 55379\, United States
END:VEVENT
BEGIN:VEVENT
DTSTART;TZID=UTC:20250406T130000
DTEND;TZID=UTC:20250406T160000
DTSTAMP:20260422T093018
CREATED:20250327T154634Z
LAST-MODIFIED:20250327T154634Z
UID:513860-1743944400-1743955200@kotaconnections.net
SUMMARY:MN Twins
DESCRIPTION:Kota Connections has 4 tickets\, 1 staff and 3 clients\, to attend the MN Twins game today. **Target field does not accept cash\, so a card is required for concessions purchases.**
URL:https://kotaconnections.net/activity/mn-twins-87/
LOCATION:Target Field\, 1 Twins Way\, Minneapolis\, MN\, 55403\, United States
END:VEVENT
BEGIN:VEVENT
DTSTART;TZID=UTC:20250409T183000
DTEND;TZID=UTC:20250409T193000
DTSTAMP:20260422T093018
CREATED:20250324T185950Z
LAST-MODIFIED:20250324T185950Z
UID:513834-1744223400-1744227000@kotaconnections.net
SUMMARY:Virtual Bingo
DESCRIPTION:Kota Connections will be hosting a Virtual Bingo event tonight. There will be 2 offerings of a Virtual bingo this month. The $5 cost will go towards the winners of each game and will be sent out as a bill after the event. Any winnings that individuals win\, will first go towards the $5 activity cost before being paid out\, unless the $5 is paid before the event.
URL:https://kotaconnections.net/activity/virtual-bingo-116/
LOCATION:Zoom
END:VEVENT
BEGIN:VEVENT
DTSTART;TZID=UTC:20250409T190000
DTEND;TZID=UTC:20250409T213000
DTSTAMP:20260422T093018
CREATED:20250327T155116Z
LAST-MODIFIED:20250327T155116Z
UID:513872-1744225200-1744234200@kotaconnections.net
SUMMARY:MN Wild
DESCRIPTION:Kota Connections has 4 tickets\, 1 staff and 3 clients\, to attend the MN Wild game today. **Xcel Energy Center does not accept cash\, so a card is required for concessions purchases.**
URL:https://kotaconnections.net/activity/mn-wild-80/
LOCATION:Minnesota
END:VEVENT
BEGIN:VEVENT
DTSTART;TZID=UTC:20250410T180000
DTEND;TZID=UTC:20250410T200000
DTSTAMP:20260422T093018
CREATED:20250324T190219Z
LAST-MODIFIED:20250324T190219Z
UID:513838-1744308000-1744315200@kotaconnections.net
SUMMARY:Dinner at El Azteca
DESCRIPTION:Come join us for Dinner at El Azteca. Cost of Dinner is $30 but clients don’t need to spend that much.
URL:https://kotaconnections.net/activity/dinner-at-el-azteca/
LOCATION:Minnesota
END:VEVENT
BEGIN:VEVENT
DTSTART;TZID=UTC:20250412T130000
DTEND;TZID=UTC:20250412T160000
DTSTAMP:20260422T093018
CREATED:20250327T154716Z
LAST-MODIFIED:20250327T154716Z
UID:513862-1744462800-1744473600@kotaconnections.net
SUMMARY:MN Twins
DESCRIPTION:Kota Connections has 4 tickets\, 1 staff and 3 clients\, to attend the MN Twins game today. **Target field does not accept cash\, so a card is required for concessions purchases.**
URL:https://kotaconnections.net/activity/mn-twins-88/
LOCATION:Target Field\, 1 Twins Way\, Minneapolis\, MN\, 55403\, United States
END:VEVENT
BEGIN:VEVENT
DTSTART;TZID=UTC:20250413T130000
DTEND;TZID=UTC:20250413T160000
DTSTAMP:20260422T093018
CREATED:20250327T154744Z
LAST-MODIFIED:20250327T154744Z
UID:513864-1744549200-1744560000@kotaconnections.net
SUMMARY:MN Twins
DESCRIPTION:Kota Connections has 4 tickets\, 1 staff and 3 clients\, to attend the MN Twins game today. **Target field does not accept cash\, so a card is required for concessions purchases.**
URL:https://kotaconnections.net/activity/mn-twins-89/
LOCATION:Target Field\, 1 Twins Way\, Minneapolis\, MN\, 55403\, United States
END:VEVENT
BEGIN:VEVENT
DTSTART;TZID=UTC:20250413T143000
DTEND;TZID=UTC:20250413T170000
DTSTAMP:20260422T093018
CREATED:20250327T155319Z
LAST-MODIFIED:20250327T155319Z
UID:513874-1744554600-1744563600@kotaconnections.net
SUMMARY:MN T-Wolves
DESCRIPTION:Kota Connections has 4 tickets to today’s MN Timberwolves game. 1 staff member will be able to bring 3 individuals to the game. Ticket price needs to be paid to Staff upon pick up. Spending money for concessions is extra and not included in the ticket price. Target Center does not accept cash so a credit or debit card will be needed to make purchases. *Kota Connections has posted all MN Timberwolves tickets for sale so there is a chance that we will not be able to send a group to this game.*
URL:https://kotaconnections.net/activity/mn-t-wolves-44/
LOCATION:Target Center\, 600 N 1st Ave\, Minneapolis\, MN\, 55403\, United States
END:VEVENT
BEGIN:VEVENT
DTSTART;TZID=UTC:20250414T183000
DTEND;TZID=UTC:20250414T203000
DTSTAMP:20260422T093018
CREATED:20250324T190526Z
LAST-MODIFIED:20250324T190526Z
UID:513842-1744655400-1744662600@kotaconnections.net
SUMMARY:MOA Minigolf and snack
DESCRIPTION:Join us at the Mall of America to do a round of mini golf and a snack. Cost is $25 total for the minigolf and snack
URL:https://kotaconnections.net/activity/moa-minigolf-and-snack/
LOCATION:Mall of America\, 60 E Broadway\, Bloomington\, MN\, 55425\, United States
END:VEVENT
BEGIN:VEVENT
DTSTART;TZID=UTC:20250415T180000
DTEND;TZID=UTC:20250415T200000
DTSTAMP:20260422T093018
CREATED:20250317T204946Z
LAST-MODIFIED:20250317T204946Z
UID:513812-1744740000-1744747200@kotaconnections.net
SUMMARY:KC Softball Practice
DESCRIPTION:Spring is here and Softball practice will be held tonight at Aronson Park in Lakeville. *Weather Pending*. Kota will bring registers forms tonight. Make Sure to fill out forms for softball and turn them in for the games start.
URL:https://kotaconnections.net/activity/kc-softball-practice-4/
LOCATION:Aronson Park\, 8250 202nd St W\, Lakeville\, MN\, 55044\, United States
CATEGORIES:Softball Games,Softball League
END:VEVENT
BEGIN:VEVENT
DTSTART;TZID=UTC:20250416T183000
DTEND;TZID=UTC:20250416T203000
DTSTAMP:20260422T093018
CREATED:20250324T190617Z
LAST-MODIFIED:20250324T190617Z
UID:513844-1744828200-1744835400@kotaconnections.net
SUMMARY:MOA Minigolf and Snack
DESCRIPTION:Join us at the Mall of America to do a round of mini golf and a snack. Cost is $25 total for the minigolf and snack
URL:https://kotaconnections.net/activity/moa-minigolf-and-snack-2/
LOCATION:Mall of America\, 60 E Broadway\, Bloomington\, MN\, 55425\, United States
END:VEVENT
BEGIN:VEVENT
DTSTART;TZID=UTC:20250417T180000
DTEND;TZID=UTC:20250417T200000
DTSTAMP:20260422T093018
CREATED:20250324T190317Z
LAST-MODIFIED:20250324T190317Z
UID:513840-1744912800-1744920000@kotaconnections.net
SUMMARY:Dinner at Red Robin
DESCRIPTION:Come join us for Dinner at Red Robin. Cost of Dinner is $30 but clients don’t need to spend that much.
URL:https://kotaconnections.net/activity/dinner-at-red-robin/
LOCATION:Minnesota
END:VEVENT
BEGIN:VEVENT
DTSTART;VALUE=DATE:20250418
DTEND;VALUE=DATE:20250419
DTSTAMP:20260422T093018
CREATED:20250324T190723Z
LAST-MODIFIED:20250324T190723Z
UID:513846-1744934400-1745020799@kotaconnections.net
SUMMARY:Good Friday
DESCRIPTION:Have a great Good Friday!
URL:https://kotaconnections.net/activity/good-friday/
LOCATION:Minnesota
END:VEVENT
BEGIN:VEVENT
DTSTART;TZID=UTC:20250419T083000
DTEND;TZID=UTC:20250419T100000
DTSTAMP:20260422T093018
CREATED:20250324T190818Z
LAST-MODIFIED:20250324T190818Z
UID:513848-1745051400-1745056800@kotaconnections.net
SUMMARY:Target Shop
DESCRIPTION:Come get your Target needs with your peers on this event. Cost of this event is $15 for a coffee beverage\, snack\, and then extra money for Shopping.
URL:https://kotaconnections.net/activity/target-shop-18/
LOCATION:Target Cedar AV
END:VEVENT
BEGIN:VEVENT
DTSTART;TZID=UTC:20250419T130000
DTEND;TZID=UTC:20250419T150000
DTSTAMP:20260422T093018
CREATED:20250324T190916Z
LAST-MODIFIED:20250324T190916Z
UID:513850-1745067600-1745074800@kotaconnections.net
SUMMARY:Bowling at Bogarts *LYFT / OWN ONLY*
DESCRIPTION:Come join Kota Connections at Bogarts in Apple Valley for bowling and sharing pizza. Feel free to bring your own bowling shoes and bowling ball. Need to take Lyft or be an own driver to get to this activity.
URL:https://kotaconnections.net/activity/bowling-at-bogarts-lyft-own-only-3/
LOCATION:Bogarts\, 14917 Garrett Avenue Apple Valley\, Minnesota 55124
END:VEVENT
BEGIN:VEVENT
DTSTART;VALUE=DATE:20250420
DTEND;VALUE=DATE:20250421
DTSTAMP:20260422T093018
CREATED:20250324T190946Z
LAST-MODIFIED:20250324T190946Z
UID:513852-1745107200-1745193599@kotaconnections.net
SUMMARY:Easter Day
DESCRIPTION:Happy Easter! Hope everyone has a great day!
URL:https://kotaconnections.net/activity/easter-day/
LOCATION:Minnesota
END:VEVENT
BEGIN:VEVENT
DTSTART;TZID=UTC:20250421T183000
DTEND;TZID=UTC:20250421T193000
DTSTAMP:20260422T093018
CREATED:20250324T190034Z
LAST-MODIFIED:20250324T190034Z
UID:513836-1745260200-1745263800@kotaconnections.net
SUMMARY:Virtual Bingo
DESCRIPTION:Kota Connections will be hosting a Virtual Bingo event tonight. There will be 2 offerings of a Virtual bingo this month. The $5 cost will go towards the winners of each game and will be sent out as a bill after the event. Any winnings that individuals win\, will first go towards the $5 activity cost before being paid out\, unless the $5 is paid before the event.
URL:https://kotaconnections.net/activity/virtual-bingo-117/
LOCATION:Zoom
END:VEVENT
BEGIN:VEVENT
DTSTART;TZID=UTC:20250422T180000
DTEND;TZID=UTC:20250422T200000
DTSTAMP:20260422T093018
CREATED:20250317T205054Z
LAST-MODIFIED:20250317T205123Z
UID:513814-1745344800-1745352000@kotaconnections.net
SUMMARY:KC Softball Practice
DESCRIPTION:Spring is here and Softball practice will be held tonight at Aronson Park in Lakeville. *Weather Pending*. Kota will bring registers forms tonight. Make Sure to fill out forms for softball and turn them in for the games start.
URL:https://kotaconnections.net/activity/kc-softball-practice-5/
LOCATION:Aronson Park\, 8250 202nd St W\, Lakeville\, MN\, 55044\, United States
CATEGORIES:Softball Games,Softball League
END:VEVENT
BEGIN:VEVENT
DTSTART;TZID=UTC:20250423T180000
DTEND;TZID=UTC:20250423T200000
DTSTAMP:20260422T093018
CREATED:20250324T191200Z
LAST-MODIFIED:20250324T191200Z
UID:513854-1745431200-1745438400@kotaconnections.net
SUMMARY:KC Meeting + Bingo
DESCRIPTION:Come to the office in Lakeville for the KC Meeting. March activity calendars and sign up cards will be handed out tonight. If you have any ideas for future activities\, this would be a great place to bring that up. Come play Bingo for $5. Snack available for $5 or snack card
URL:https://kotaconnections.net/activity/kc-meeting-bingo-3/
LOCATION:Kota Connections\, 8500 210th St W Suite 148\, Lakeville\, MN\, 55044\, United States
END:VEVENT
BEGIN:VEVENT
DTSTART;TZID=UTC:20250424T180000
DTEND;TZID=UTC:20250424T200000
DTSTAMP:20260422T093018
CREATED:20250324T191247Z
LAST-MODIFIED:20250324T191247Z
UID:513856-1745517600-1745524800@kotaconnections.net
SUMMARY:KC Meeting + Bingo
DESCRIPTION:Come to the office in Lakeville for the KC Meeting. March activity calendars and sign up cards will be handed out tonight. If you have any ideas for future activities\, this would be a great place to bring that up. Come play Bingo for $5 . Snack available for $5 or snack card
URL:https://kotaconnections.net/activity/kc-meeting-bingo-4/
LOCATION:Kota Connections\, 8500 210th St W Suite 148\, Lakeville\, MN\, 55044\, United States
END:VEVENT
BEGIN:VEVENT
DTSTART;TZID=UTC:20250425T110000
DTEND;TZID=UTC:20250425T120000
DTSTAMP:20260422T093018
CREATED:20250402T152413Z
LAST-MODIFIED:20250402T152413Z
UID:513876-1745578800-1745582400@kotaconnections.net
SUMMARY:PE Lunch Bunch Chick-fil-A
DESCRIPTION:Come join us with Project Explore at the Chick-fil-A in Apple Valley. Enjoy a new relaxing lunch and have fun!
URL:https://kotaconnections.net/activity/pe-lunch-bunch-chick-fil-a/
LOCATION:Minnesota
END:VEVENT
BEGIN:VEVENT
DTSTART;TZID=UTC:20250425T190000
DTEND;TZID=UTC:20250425T220000
DTSTAMP:20260422T093018
CREATED:20250327T154851Z
LAST-MODIFIED:20250327T154851Z
UID:513866-1745607600-1745618400@kotaconnections.net
SUMMARY:MN Twins
DESCRIPTION:Kota Connections has 4 tickets\, 1 staff and 3 clients\, to attend the MN Twins game today. **Target field does not accept cash\, so a card is required for concessions purchases.**
URL:https://kotaconnections.net/activity/mn-twins-90/
LOCATION:Target Field\, 1 Twins Way\, Minneapolis\, MN\, 55403\, United States
END:VEVENT
BEGIN:VEVENT
DTSTART;TZID=UTC:20250426T083000
DTEND;TZID=UTC:20250426T100000
DTSTAMP:20260422T093018
CREATED:20250402T152919Z
LAST-MODIFIED:20250402T152919Z
UID:513878-1745656200-1745661600@kotaconnections.net
SUMMARY:PE Waffle Breakfast Messiah Lutheran Church
DESCRIPTION:Come join us at the PE Waffle Breakfast at the Messiah Lutheran Church in Lakeville. Enjoy a nice breakfast with waffles\, coffee\, and juice.
URL:https://kotaconnections.net/activity/pe-waffle-breakfast-messiah-lutheran-church/
LOCATION:Messiah Lutheran Church\, 16725 Highview Ave\, Lakeville\, MN\, 55044\, United States
END:VEVENT
BEGIN:VEVENT
DTSTART;TZID=UTC:20250427T190000
DTEND;TZID=UTC:20250427T220000
DTSTAMP:20260422T093018
CREATED:20250327T154931Z
LAST-MODIFIED:20250327T154931Z
UID:513868-1745780400-1745791200@kotaconnections.net
SUMMARY:MN Twins
DESCRIPTION:Kota Connections has 4 tickets\, 1 staff and 3 clients\, to attend the MN Twins game today. **Target field does not accept cash\, so a card is required for concessions purchases.**
URL:https://kotaconnections.net/activity/mn-twins-91/
LOCATION:Target Field\, 1 Twins Way\, Minneapolis\, MN\, 55403\, United States
END:VEVENT
BEGIN:VEVENT
DTSTART;TZID=UTC:20250429T180000
DTEND;TZID=UTC:20250429T200000
DTSTAMP:20260422T093018
CREATED:20250317T205239Z
LAST-MODIFIED:20250317T205239Z
UID:513816-1745949600-1745956800@kotaconnections.net
SUMMARY:KC Softball Practice
DESCRIPTION:Spring is here and Softball practice will be held tonight at Aronson Park in Lakeville. *Weather Pending*. Kota will bring registers forms tonight. Make Sure to fill out forms for softball and turn them in for the games start.
URL:https://kotaconnections.net/activity/kc-softball-practice-6/
LOCATION:Aronson Park\, 8250 202nd St W\, Lakeville\, MN\, 55044\, United States
CATEGORIES:Softball Games,Softball League
END:VEVENT
BEGIN:VEVENT
DTSTART;TZID=UTC:20250501T183000
DTEND;TZID=UTC:20250501T210000
DTSTAMP:20260422T093018
CREATED:20250430T142858Z
LAST-MODIFIED:20250430T142858Z
UID:513881-1746124200-1746133200@kotaconnections.net
SUMMARY:LYFT Movie Night at Emagine in Eagan
DESCRIPTION:Come join us at Emagine in Eagan for a fun movie night and to practice using Lyft or being an own driver. Cost is $15 for a movie ticket and extra spending for snacks.
URL:https://kotaconnections.net/activity/lyft-movie-night-at-emagine-in-eagan/
LOCATION:Eagan Emagine Theater\, 2055 Cliff Road\, Eagan\, Minnesota
END:VEVENT
BEGIN:VEVENT
DTSTART;TZID=UTC:20250503T090000
DTEND;TZID=UTC:20250503T110000
DTSTAMP:20260422T093018
CREATED:20250430T143323Z
LAST-MODIFIED:20250430T143323Z
UID:513883-1746262800-1746270000@kotaconnections.net
SUMMARY:Breakfast at Steak & Ale + Target Shop
DESCRIPTION:Come join us for a nice warm Breakfast at Steak & Ale in Burnsville! Then shop at Target for all of your needs. $25 for Breakfast. Shopping money for Target.
URL:https://kotaconnections.net/activity/breakfast-at-steak-ale-target-shop/
LOCATION:Minnesota
END:VEVENT
BEGIN:VEVENT
DTSTART;TZID=UTC:20250506T180000
DTEND;TZID=UTC:20250506T203000
DTSTAMP:20260422T093018
CREATED:20250317T210251Z
LAST-MODIFIED:20250317T210354Z
UID:513818-1746554400-1746563400@kotaconnections.net
SUMMARY:KC Softball Games
DESCRIPTION:KC Softball practice or first week of games. At Aronson Park.
URL:https://kotaconnections.net/activity/kc-softball-games-9/
LOCATION:Aronson Park\, 8250 202nd St W\, Lakeville\, MN\, 55044\, United States
CATEGORIES:Softball Games,Softball League
END:VEVENT
BEGIN:VEVENT
DTSTART;TZID=UTC:20250507T183000
DTEND;TZID=UTC:20250507T193000
DTSTAMP:20260422T093018
CREATED:20250430T145306Z
LAST-MODIFIED:20250430T145306Z
UID:513887-1746642600-1746646200@kotaconnections.net
SUMMARY:Virtual Bingo
DESCRIPTION:Kota Connections will be hosting a Virtual Bingo event tonight. There will be 2 offerings of a Virtual bingo this month. The $5 cost will go towards the winners of each game and will be sent out as a bill after the event. Any winnings that individuals win\, will first go towards the $5 activity cost before being paid out\, unless the $5 is paid before the event.
URL:https://kotaconnections.net/activity/virtual-bingo-118/
LOCATION:Zoom
END:VEVENT
END:VCALENDAR