BEGIN:VCALENDAR
VERSION:2.0
PRODID:-//Kota Connections, Inc. - ECPv6.8.2.1//NONSGML v1.0//EN
CALSCALE:GREGORIAN
METHOD:PUBLISH
X-WR-CALNAME:Kota Connections, Inc.
X-ORIGINAL-URL:https://kotaconnections.net
X-WR-CALDESC:Events for Kota Connections, Inc.
REFRESH-INTERVAL;VALUE=DURATION:PT1H
X-Robots-Tag:noindex
X-PUBLISHED-TTL:PT1H
BEGIN:VTIMEZONE
TZID:UTC
BEGIN:STANDARD
TZOFFSETFROM:+0000
TZOFFSETTO:+0000
TZNAME:UTC
DTSTART:20250101T000000
END:STANDARD
END:VTIMEZONE
BEGIN:VEVENT
DTSTART;TZID=UTC:20250309T190000
DTEND;TZID=UTC:20250309T213000
DTSTAMP:20260422T062841
CREATED:20250221T194546Z
LAST-MODIFIED:20250221T194546Z
UID:513781-1741546800-1741555800@kotaconnections.net
SUMMARY:MN T-Wolves
DESCRIPTION:Kota Connections has 4 tickets to today’s MN Timberwolves game. 1 staff member will be able to bring 3 individuals to the game. Ticket price needs to be paid to Staff upon pick up. Spending money for concessions is extra and not included in the ticket price. Target Center does not accept cash so a credit or debit card will be needed to make purchases. *Kota Connections has posted all MN Timberwolves tickets for sale so there is a chance that we will not be able to send a group to this game.*
URL:https://kotaconnections.net/activity/mn-t-wolves-38/
LOCATION:Target Center\, 600 N 1st Ave\, Minneapolis\, MN\, 55403\, United States
END:VEVENT
BEGIN:VEVENT
DTSTART;TZID=UTC:20250310T183000
DTEND;TZID=UTC:20250310T200000
DTSTAMP:20260422T062841
CREATED:20250221T190028Z
LAST-MODIFIED:20250221T190028Z
UID:513759-1741631400-1741636800@kotaconnections.net
SUMMARY:Grand Slam
DESCRIPTION:Come play some mini golf\, videogames\, hit the batting cages\, and even get some food at Grand Slam tonight.
URL:https://kotaconnections.net/activity/grand-slam-13/
LOCATION:Grand Slam\, 12425 River Ridge Blvd\, Burnsville\, MN 55337
END:VEVENT
BEGIN:VEVENT
DTSTART;TZID=UTC:20250311T190000
DTEND;TZID=UTC:20250311T213000
DTSTAMP:20260422T062841
CREATED:20250221T195647Z
LAST-MODIFIED:20250221T195647Z
UID:513795-1741719600-1741728600@kotaconnections.net
SUMMARY:MN Wild
DESCRIPTION:Kota Connections has 4 tickets\, 1 staff and 3 clients\, to attend the MN Wild game today. **Xcel Energy Center does not accept cash\, so a card is required for concessions purchases.**
URL:https://kotaconnections.net/activity/mn-wild-71/
LOCATION:Xcel Center\, 199 W Kellogg Blvd\, St. Paul\, MN\, 55102\, United States
END:VEVENT
BEGIN:VEVENT
DTSTART;TZID=UTC:20250312T183000
DTEND;TZID=UTC:20250312T193000
DTSTAMP:20260422T062841
CREATED:20250221T190535Z
LAST-MODIFIED:20250221T190535Z
UID:513763-1741804200-1741807800@kotaconnections.net
SUMMARY:Virtual Bingo
DESCRIPTION:Kota Connections will be hosting a Virtual Bingo event tonight. There will be 2 offerings of a Virtual bingo this month. The $5 cost will go towards the winners of each game and will be sent out as a bill after the event. Any winnings that individuals win\, will first go towards the $5 activity cost before being paid out\, unless the $5 is paid before the event.
URL:https://kotaconnections.net/activity/virtual-bingo-114/
LOCATION:Zoom
END:VEVENT
BEGIN:VEVENT
DTSTART;TZID=UTC:20250313T190000
DTEND;TZID=UTC:20250313T213000
DTSTAMP:20260422T062841
CREATED:20250221T195804Z
LAST-MODIFIED:20250221T195804Z
UID:513797-1741892400-1741901400@kotaconnections.net
SUMMARY:MN Wild
DESCRIPTION:Kota Connections has 4 tickets\, 1 staff and 3 clients\, to attend the MN Wild game today. **Xcel Energy Center does not accept cash\, so a card is required for concessions purchases.**
URL:https://kotaconnections.net/activity/mn-wild-72/
LOCATION:Xcel Center\, 199 W Kellogg Blvd\, St. Paul\, MN\, 55102\, United States
END:VEVENT
BEGIN:VEVENT
DTSTART;TZID=UTC:20250314T110000
DTEND;TZID=UTC:20250314T120000
DTSTAMP:20260422T062841
CREATED:20250221T190857Z
LAST-MODIFIED:20250221T190857Z
UID:513767-1741950000-1741953600@kotaconnections.net
SUMMARY:PE Lunch Bunch Dairy Queen Eagan
DESCRIPTION:Join us for this Project Explore activity as we have lunch at Dairy Queen in Eagan!
URL:https://kotaconnections.net/activity/pe-lunch-bunch-dairy-queen-eagan/
LOCATION:MN
END:VEVENT
BEGIN:VEVENT
DTSTART;TZID=UTC:20250315T110000
DTEND;TZID=UTC:20250315T140000
DTSTAMP:20260422T062841
CREATED:20250221T191334Z
LAST-MODIFIED:20250221T191334Z
UID:513769-1742036400-1742047200@kotaconnections.net
SUMMARY:KC Mtg/ Lunch Bingo Cedarvale
DESCRIPTION:Join us at Cedarvale for the KC meeting Lunch and Bingo! The total cost of this activity is $40\, $20 for bingo and $20 for food.
URL:https://kotaconnections.net/activity/kc-mtg-lunch-bingo-cedarvale/
LOCATION:MN
END:VEVENT
BEGIN:VEVENT
DTSTART;TZID=UTC:20250315T190000
DTEND;TZID=UTC:20250315T213000
DTSTAMP:20260422T062841
CREATED:20250221T195947Z
LAST-MODIFIED:20250221T195947Z
UID:513799-1742065200-1742074200@kotaconnections.net
SUMMARY:MN Wild
DESCRIPTION:Kota Connections has 4 tickets\, 1 staff and 3 clients\, to attend the MN Wild game today. **Xcel Energy Center does not accept cash\, so a card is required for concessions purchases.**
URL:https://kotaconnections.net/activity/mn-wild-73/
LOCATION:Xcel Center\, 199 W Kellogg Blvd\, St. Paul\, MN\, 55102\, United States
END:VEVENT
BEGIN:VEVENT
DTSTART;TZID=UTC:20250316T180000
DTEND;TZID=UTC:20250316T203000
DTSTAMP:20260422T062841
CREATED:20250221T194753Z
LAST-MODIFIED:20250221T194753Z
UID:513783-1742148000-1742157000@kotaconnections.net
SUMMARY:MN T-Wolves
DESCRIPTION:Kota Connections has 4 tickets to today’s MN Timberwolves game. 1 staff member will be able to bring 3 individuals to the game. Ticket price needs to be paid to Staff upon pick up. Spending money for concessions is extra and not included in the ticket price. Target Center does not accept cash so a credit or debit card will be needed to make purchases. *Kota Connections has posted all MN Timberwolves tickets for sale so there is a chance that we will not be able to send a group to this game.*
URL:https://kotaconnections.net/activity/mn-t-wolves-39/
LOCATION:Target Center\, 600 N 1st Ave\, Minneapolis\, MN\, 55403\, United States
END:VEVENT
BEGIN:VEVENT
DTSTART;TZID=UTC:20250317T190000
DTEND;TZID=UTC:20250317T213000
DTSTAMP:20260422T062841
CREATED:20250221T194836Z
LAST-MODIFIED:20250221T194836Z
UID:513785-1742238000-1742247000@kotaconnections.net
SUMMARY:MN T-Wolves
DESCRIPTION:Kota Connections has 4 tickets to today’s MN Timberwolves game. 1 staff member will be able to bring 3 individuals to the game. Ticket price needs to be paid to Staff upon pick up. Spending money for concessions is extra and not included in the ticket price. Target Center does not accept cash so a credit or debit card will be needed to make purchases. *Kota Connections has posted all MN Timberwolves tickets for sale so there is a chance that we will not be able to send a group to this game.*
URL:https://kotaconnections.net/activity/mn-t-wolves-40/
LOCATION:Target Center\, 600 N 1st Ave\, Minneapolis\, MN\, 55403\, United States
END:VEVENT
BEGIN:VEVENT
DTSTART;TZID=UTC:20250317T190000
DTEND;TZID=UTC:20250317T213000
DTSTAMP:20260422T062841
CREATED:20250221T200018Z
LAST-MODIFIED:20250221T200018Z
UID:513801-1742238000-1742247000@kotaconnections.net
SUMMARY:MN Wild
DESCRIPTION:Kota Connections has 4 tickets\, 1 staff and 3 clients\, to attend the MN Wild game today. **Xcel Energy Center does not accept cash\, so a card is required for concessions purchases.**
URL:https://kotaconnections.net/activity/mn-wild-74/
LOCATION:Xcel Center\, 199 W Kellogg Blvd\, St. Paul\, MN\, 55102\, United States
END:VEVENT
BEGIN:VEVENT
DTSTART;TZID=UTC:20250319T183000
DTEND;TZID=UTC:20250319T210000
DTSTAMP:20260422T062841
CREATED:20250221T194947Z
LAST-MODIFIED:20250221T194947Z
UID:513787-1742409000-1742418000@kotaconnections.net
SUMMARY:MN T-Wolves
DESCRIPTION:Kota Connections has 4 tickets to today’s MN Timberwolves game. 1 staff member will be able to bring 3 individuals to the game. Ticket price needs to be paid to Staff upon pick up. Spending money for concessions is extra and not included in the ticket price. Target Center does not accept cash so a credit or debit card will be needed to make purchases. *Kota Connections has posted all MN Timberwolves tickets for sale so there is a chance that we will not be able to send a group to this game.*
URL:https://kotaconnections.net/activity/mn-t-wolves-41/
LOCATION:Target Center\, 600 N 1st Ave\, Minneapolis\, MN\, 55403\, United States
END:VEVENT
BEGIN:VEVENT
DTSTART;TZID=UTC:20250319T190000
DTEND;TZID=UTC:20250319T213000
DTSTAMP:20260422T062841
CREATED:20250221T200127Z
LAST-MODIFIED:20250221T200127Z
UID:513803-1742410800-1742419800@kotaconnections.net
SUMMARY:MN Wild
DESCRIPTION:Kota Connections has 4 tickets\, 1 staff and 3 clients\, to attend the MN Wild game today. **Xcel Energy Center does not accept cash\, so a card is required for concessions purchases.**
URL:https://kotaconnections.net/activity/mn-wild-75/
LOCATION:Xcel Center\, 199 W Kellogg Blvd\, St. Paul\, MN\, 55102\, United States
END:VEVENT
BEGIN:VEVENT
DTSTART;TZID=UTC:20250320T183000
DTEND;TZID=UTC:20250320T203000
DTSTAMP:20260422T062841
CREATED:20250221T192156Z
LAST-MODIFIED:20250221T192156Z
UID:513773-1742495400-1742502600@kotaconnections.net
SUMMARY:Nickelodeon at MOA
DESCRIPTION:Join the group at Mall of America to go on rides at Nickelodeon Universe. The nation’s first indoor Nickelodeon theme park. Whether you are a roller coaster enthusiast or just along for the ride\, we have something for everyone.
URL:https://kotaconnections.net/activity/nickelodeon-at-moa/
LOCATION:Mall of America\, 60 E Broadway\, Bloomington\, MN\, 55425\, United States
END:VEVENT
BEGIN:VEVENT
DTSTART;TZID=UTC:20250321T190000
DTEND;TZID=UTC:20250321T213000
DTSTAMP:20260422T062841
CREATED:20250221T195136Z
LAST-MODIFIED:20250221T195136Z
UID:513789-1742583600-1742592600@kotaconnections.net
SUMMARY:MN T-Wolves
DESCRIPTION:Kota Connections has 4 tickets to today’s MN Timberwolves game. 1 staff member will be able to bring 3 individuals to the game. Ticket price needs to be paid to Staff upon pick up. Spending money for concessions is extra and not included in the ticket price. Target Center does not accept cash so a credit or debit card will be needed to make purchases. *Kota Connections has posted all MN Timberwolves tickets for sale so there is a chance that we will not be able to send a group to this game.*
URL:https://kotaconnections.net/activity/mn-t-wolves-42/
LOCATION:Target Center\, 600 N 1st Ave\, Minneapolis\, MN\, 55403\, United States
END:VEVENT
BEGIN:VEVENT
DTSTART;TZID=UTC:20250322T123000
DTEND;TZID=UTC:20250322T150000
DTSTAMP:20260422T062841
CREATED:20250221T191547Z
LAST-MODIFIED:20250221T191547Z
UID:513771-1742646600-1742655600@kotaconnections.net
SUMMARY:KC Mtg/Lunch and Bingo Wild Bills
DESCRIPTION:Join us at Wild Bills in Apple Valley for the KC meeting Lunch and Bingo! The total cost of this activity is $40\, $20 for bingo and $20 for food.
URL:https://kotaconnections.net/activity/kc-mtg-lunch-and-bingo-wild-bills/
LOCATION:MN
END:VEVENT
BEGIN:VEVENT
DTSTART;TZID=UTC:20250322T190000
DTEND;TZID=UTC:20250322T213000
DTSTAMP:20260422T062841
CREATED:20250221T200319Z
LAST-MODIFIED:20250221T200319Z
UID:513805-1742670000-1742679000@kotaconnections.net
SUMMARY:MN Wild
DESCRIPTION:Kota Connections has 4 tickets\, 1 staff and 3 clients\, to attend the MN Wild game today. **Xcel Energy Center does not accept cash\, so a card is required for concessions purchases.**
URL:https://kotaconnections.net/activity/mn-wild-76/
LOCATION:Xcel Center\, 199 W Kellogg Blvd\, St. Paul\, MN\, 55102\, United States
END:VEVENT
BEGIN:VEVENT
DTSTART;TZID=UTC:20250324T183000
DTEND;TZID=UTC:20250324T200000
DTSTAMP:20260422T062841
CREATED:20250221T190256Z
LAST-MODIFIED:20250221T190412Z
UID:513761-1742841000-1742846400@kotaconnections.net
SUMMARY:Grand Slam
DESCRIPTION:Come play some mini golf\, videogames\, hit the batting cages\, and even get some food at Grand Slam tonight.
URL:https://kotaconnections.net/activity/grand-slam-14/
LOCATION:Grand Slam\, 12425 River Ridge Blvd\, Burnsville\, MN 55337
END:VEVENT
BEGIN:VEVENT
DTSTART;TZID=UTC:20250325T183000
DTEND;TZID=UTC:20250325T193000
DTSTAMP:20260422T062841
CREATED:20250221T190604Z
LAST-MODIFIED:20250221T190604Z
UID:513765-1742927400-1742931000@kotaconnections.net
SUMMARY:Virtual Bingo
DESCRIPTION:Kota Connections will be hosting a Virtual Bingo event tonight. There will be 2 offerings of a Virtual bingo this month. The $5 cost will go towards the winners of each game and will be sent out as a bill after the event. Any winnings that individuals win\, will first go towards the $5 activity cost before being paid out\, unless the $5 is paid before the event.
URL:https://kotaconnections.net/activity/virtual-bingo-115/
LOCATION:MN
END:VEVENT
BEGIN:VEVENT
DTSTART;TZID=UTC:20250325T190000
DTEND;TZID=UTC:20250325T213000
DTSTAMP:20260422T062841
CREATED:20250221T200346Z
LAST-MODIFIED:20250221T200346Z
UID:513807-1742929200-1742938200@kotaconnections.net
SUMMARY:MN Wild
DESCRIPTION:Kota Connections has 4 tickets\, 1 staff and 3 clients\, to attend the MN Wild game today. **Xcel Energy Center does not accept cash\, so a card is required for concessions purchases.**
URL:https://kotaconnections.net/activity/mn-wild-77/
LOCATION:Xcel Center\, 199 W Kellogg Blvd\, St. Paul\, MN\, 55102\, United States
END:VEVENT
BEGIN:VEVENT
DTSTART;TZID=UTC:20250326T183000
DTEND;TZID=UTC:20250326T210000
DTSTAMP:20260422T062841
CREATED:20250221T193620Z
LAST-MODIFIED:20250221T193620Z
UID:513775-1743013800-1743022800@kotaconnections.net
SUMMARY:PuttShack
DESCRIPTION:Come join us at Puttshack in Edina. Adult mini golf with a full 18 hole  custom course.  Cost is $40 includes a beverage.
URL:https://kotaconnections.net/activity/puttshack-3/
LOCATION:MN
END:VEVENT
BEGIN:VEVENT
DTSTART;TZID=UTC:20250329T090000
DTEND;TZID=UTC:20250329T110000
DTSTAMP:20260422T062841
CREATED:20250221T194112Z
LAST-MODIFIED:20250221T200605Z
UID:513777-1743238800-1743246000@kotaconnections.net
SUMMARY:MN Zoo Walk
DESCRIPTION:Come join as for a nice morning walk around the Zoo. Dress for the weather. Cost is Free with MA or $25 dollars to get in.
URL:https://kotaconnections.net/activity/mn-zoo-walk/
LOCATION:MN
END:VEVENT
BEGIN:VEVENT
DTSTART;TZID=UTC:20250329T170000
DTEND;TZID=UTC:20250329T193000
DTSTAMP:20260422T062841
CREATED:20250221T200504Z
LAST-MODIFIED:20250221T200504Z
UID:513809-1743267600-1743276600@kotaconnections.net
SUMMARY:MN Wild
DESCRIPTION:Kota Connections has 4 tickets\, 1 staff and 3 clients\, to attend the MN Wild game today. **Xcel Energy Center does not accept cash\, so a card is required for concessions purchases.**
URL:https://kotaconnections.net/activity/mn-wild-78/
LOCATION:Xcel Center\, 199 W Kellogg Blvd\, St. Paul\, MN\, 55102\, United States
END:VEVENT
BEGIN:VEVENT
DTSTART;TZID=UTC:20250330T180000
DTEND;TZID=UTC:20250330T203000
DTSTAMP:20260422T062841
CREATED:20250221T195213Z
LAST-MODIFIED:20250221T195213Z
UID:513791-1743357600-1743366600@kotaconnections.net
SUMMARY:MN T-Wolves
DESCRIPTION:Kota Connections has 4 tickets to today’s MN Timberwolves game. 1 staff member will be able to bring 3 individuals to the game. Ticket price needs to be paid to Staff upon pick up. Spending money for concessions is extra and not included in the ticket price. Target Center does not accept cash so a credit or debit card will be needed to make purchases. *Kota Connections has posted all MN Timberwolves tickets for sale so there is a chance that we will not be able to send a group to this game.*
URL:https://kotaconnections.net/activity/mn-t-wolves-43/
LOCATION:Target Center\, 600 N 1st Ave\, Minneapolis\, MN\, 55403\, United States
END:VEVENT
BEGIN:VEVENT
DTSTART;TZID=UTC:20250404T183000
DTEND;TZID=UTC:20250404T210000
DTSTAMP:20260422T062841
CREATED:20250324T185638Z
LAST-MODIFIED:20250324T185638Z
UID:513830-1743791400-1743800400@kotaconnections.net
SUMMARY:PE Spring Dance
DESCRIPTION:Come join us with Project Explore for the  Spring Dance at Valley Middle School. Dress in your best Spring Attire and be ready to have fun dancing!
URL:https://kotaconnections.net/activity/pe-spring-dance-2/
LOCATION:Apple Valley Middle School\, 900 Garden View Drive\, Apple Valley\, Minnesota\, 55124
END:VEVENT
BEGIN:VEVENT
DTSTART;TZID=UTC:20250405T100000
DTEND;TZID=UTC:20250405T130000
DTSTAMP:20260422T062841
CREATED:20250324T185826Z
LAST-MODIFIED:20250324T185849Z
UID:513832-1743847200-1743858000@kotaconnections.net
SUMMARY:Craft Fair at Canterbury Park
DESCRIPTION:Join us for the Spring Festival:  Art Craft Fair at Canterbury Park. $10 for admission free parking. \n\nHundreds of the nation’s finest artists and crafters will display and sell their work at the Spring Festival\, An Arts & Crafts Affair! \n\n\nThe event\, which runs from April 4– 6\, has been voted one of the top 100 shows in the country by Sunshine Artist Magazine. \nThe expo features hourly gift certificate drawings\, food and drink\, free parking\, and lots of family fun!
URL:https://kotaconnections.net/activity/craft-fair-at-canterbury-park-2/
LOCATION:Canterbury Park\, 1100 Canterbury Road\, Shakopee\, MN\, 55379\, United States
END:VEVENT
BEGIN:VEVENT
DTSTART;TZID=UTC:20250406T130000
DTEND;TZID=UTC:20250406T160000
DTSTAMP:20260422T062841
CREATED:20250327T154634Z
LAST-MODIFIED:20250327T154634Z
UID:513860-1743944400-1743955200@kotaconnections.net
SUMMARY:MN Twins
DESCRIPTION:Kota Connections has 4 tickets\, 1 staff and 3 clients\, to attend the MN Twins game today. **Target field does not accept cash\, so a card is required for concessions purchases.**
URL:https://kotaconnections.net/activity/mn-twins-87/
LOCATION:Target Field\, 1 Twins Way\, Minneapolis\, MN\, 55403\, United States
END:VEVENT
BEGIN:VEVENT
DTSTART;TZID=UTC:20250409T183000
DTEND;TZID=UTC:20250409T193000
DTSTAMP:20260422T062841
CREATED:20250324T185950Z
LAST-MODIFIED:20250324T185950Z
UID:513834-1744223400-1744227000@kotaconnections.net
SUMMARY:Virtual Bingo
DESCRIPTION:Kota Connections will be hosting a Virtual Bingo event tonight. There will be 2 offerings of a Virtual bingo this month. The $5 cost will go towards the winners of each game and will be sent out as a bill after the event. Any winnings that individuals win\, will first go towards the $5 activity cost before being paid out\, unless the $5 is paid before the event.
URL:https://kotaconnections.net/activity/virtual-bingo-116/
LOCATION:Zoom
END:VEVENT
BEGIN:VEVENT
DTSTART;TZID=UTC:20250409T190000
DTEND;TZID=UTC:20250409T213000
DTSTAMP:20260422T062841
CREATED:20250327T155116Z
LAST-MODIFIED:20250327T155116Z
UID:513872-1744225200-1744234200@kotaconnections.net
SUMMARY:MN Wild
DESCRIPTION:Kota Connections has 4 tickets\, 1 staff and 3 clients\, to attend the MN Wild game today. **Xcel Energy Center does not accept cash\, so a card is required for concessions purchases.**
URL:https://kotaconnections.net/activity/mn-wild-80/
LOCATION:MN
END:VEVENT
BEGIN:VEVENT
DTSTART;TZID=UTC:20250410T180000
DTEND;TZID=UTC:20250410T200000
DTSTAMP:20260422T062841
CREATED:20250324T190219Z
LAST-MODIFIED:20250324T190219Z
UID:513838-1744308000-1744315200@kotaconnections.net
SUMMARY:Dinner at El Azteca
DESCRIPTION:Come join us for Dinner at El Azteca. Cost of Dinner is $30 but clients don’t need to spend that much.
URL:https://kotaconnections.net/activity/dinner-at-el-azteca/
LOCATION:MN
END:VEVENT
END:VCALENDAR