BEGIN:VCALENDAR
VERSION:2.0
PRODID:-//Kota Connections, Inc. - ECPv6.8.2.1//NONSGML v1.0//EN
CALSCALE:GREGORIAN
METHOD:PUBLISH
X-WR-CALNAME:Kota Connections, Inc.
X-ORIGINAL-URL:https://kotaconnections.net
X-WR-CALDESC:Events for Kota Connections, Inc.
REFRESH-INTERVAL;VALUE=DURATION:PT1H
X-Robots-Tag:noindex
X-PUBLISHED-TTL:PT1H
BEGIN:VTIMEZONE
TZID:UTC
BEGIN:STANDARD
TZOFFSETFROM:+0000
TZOFFSETTO:+0000
TZNAME:UTC
DTSTART:20250101T000000
END:STANDARD
END:VTIMEZONE
BEGIN:VEVENT
DTSTART;TZID=UTC:20250201T190000
DTEND;TZID=UTC:20250201T213000
DTSTAMP:20260422T021718
CREATED:20250120T171815Z
LAST-MODIFIED:20250120T171815Z
UID:513686-1738436400-1738445400@kotaconnections.net
SUMMARY:MN T-Wolves
DESCRIPTION:Kota Connections has 4 tickets to today’s MN Timberwolves game. 1 staff member will be able to bring 3 individuals to the game. Ticket price needs to be paid to Staff upon pick up. Spending money for concessions is extra and not included in the ticket price. Target Center does not accept cash so a credit or debit card will be needed to make purchases. *Kota Connections has posted all MN Timberwolves tickets for sale so there is a chance that we will not be able to send a group to this game.*
URL:https://kotaconnections.net/activity/mn-t-wolves-30/
LOCATION:Target Center\, 600 N 1st Ave\, Minneapolis\, MN\, 55403\, United States
END:VEVENT
BEGIN:VEVENT
DTSTART;TZID=UTC:20250203T183000
DTEND;TZID=UTC:20250203T210000
DTSTAMP:20260422T021718
CREATED:20250120T172816Z
LAST-MODIFIED:20250120T172816Z
UID:513700-1738607400-1738616400@kotaconnections.net
SUMMARY:Grand Slam
DESCRIPTION:Come play some mini golf\, videogames\, hit the batting cages\, and even get some food at Grand Slam tonight.
URL:https://kotaconnections.net/activity/grand-slam-11/
LOCATION:Grand Slam\, 12425 River Ridge Blvd\, Burnsville\, MN 55337
END:VEVENT
BEGIN:VEVENT
DTSTART;TZID=UTC:20250203T190000
DTEND;TZID=UTC:20250203T213000
DTSTAMP:20260422T021718
CREATED:20250120T171934Z
LAST-MODIFIED:20250120T171934Z
UID:513688-1738609200-1738618200@kotaconnections.net
SUMMARY:MN T-Wolves
DESCRIPTION:Kota Connections has 4 tickets to today’s MN Timberwolves game. 1 staff member will be able to bring 3 individuals to the game. Ticket price needs to be paid to Staff upon pick up. Spending money for concessions is extra and not included in the ticket price. Target Center does not accept cash so a credit or debit card will be needed to make purchases. *Kota Connections has posted all MN Timberwolves tickets for sale so there is a chance that we will not be able to send a group to this game.*
URL:https://kotaconnections.net/activity/mn-t-wolves-31/
LOCATION:Target Center\, 600 N 1st Ave\, Minneapolis\, MN\, 55403\, United States
END:VEVENT
BEGIN:VEVENT
DTSTART;TZID=UTC:20250204T183000
DTEND;TZID=UTC:20250204T210000
DTSTAMP:20260422T021718
CREATED:20250120T172939Z
LAST-MODIFIED:20250120T172939Z
UID:513704-1738693800-1738702800@kotaconnections.net
SUMMARY:Movie Night
DESCRIPTION:Kota Connections will be going to a Movie Theater tonight with a group of interested individuals. The theater will be chosen closer to the date of the event. Movie choices will be given out the day prior the event. Ticket price is $15 and then extra money is suggested for snacks or beverages.
URL:https://kotaconnections.net/activity/movie-night-43/
LOCATION:MN
END:VEVENT
BEGIN:VEVENT
DTSTART;TZID=UTC:20250205T190000
DTEND;TZID=UTC:20250205T213000
DTSTAMP:20260422T021718
CREATED:20250120T172013Z
LAST-MODIFIED:20250120T172013Z
UID:513690-1738782000-1738791000@kotaconnections.net
SUMMARY:MN T-Wolves
DESCRIPTION:Kota Connections has 4 tickets to today’s MN Timberwolves game. 1 staff member will be able to bring 3 individuals to the game. Ticket price needs to be paid to Staff upon pick up. Spending money for concessions is extra and not included in the ticket price. Target Center does not accept cash so a credit or debit card will be needed to make purchases. *Kota Connections has posted all MN Timberwolves tickets for sale so there is a chance that we will not be able to send a group to this game.*
URL:https://kotaconnections.net/activity/mn-t-wolves-32/
LOCATION:Target Center\, 600 N 1st Ave\, Minneapolis\, MN\, 55403\, United States
END:VEVENT
BEGIN:VEVENT
DTSTART;TZID=UTC:20250206T183000
DTEND;TZID=UTC:20250206T210000
DTSTAMP:20260422T021718
CREATED:20250120T173052Z
LAST-MODIFIED:20250129T032336Z
UID:513708-1738866600-1738875600@kotaconnections.net
SUMMARY:MN Wild
DESCRIPTION:Kota Connections has 4 tickets\, 1 staff and 3 clients\, to attend the MN Wild game today. **Xcel Energy Center does not accept cash\, so a card is required for concessions purchases.**
URL:https://kotaconnections.net/activity/mn-wild-67/
LOCATION:Xcel Center\, 199 W Kellogg Blvd\, St. Paul\, MN\, 55102\, United States
END:VEVENT
BEGIN:VEVENT
DTSTART;TZID=UTC:20250206T190000
DTEND;TZID=UTC:20250206T213000
DTSTAMP:20260422T021718
CREATED:20250120T172050Z
LAST-MODIFIED:20250120T172050Z
UID:513692-1738868400-1738877400@kotaconnections.net
SUMMARY:MN T-Wolves
DESCRIPTION:Kota Connections has 4 tickets to today’s MN Timberwolves game. 1 staff member will be able to bring 3 individuals to the game. Ticket price needs to be paid to Staff upon pick up. Spending money for concessions is extra and not included in the ticket price. Target Center does not accept cash so a credit or debit card will be needed to make purchases. *Kota Connections has posted all MN Timberwolves tickets for sale so there is a chance that we will not be able to send a group to this game.*
URL:https://kotaconnections.net/activity/mn-t-wolves-33/
LOCATION:Target Center\, 600 N 1st Ave\, Minneapolis\, MN\, 55403\, United States
END:VEVENT
BEGIN:VEVENT
DTSTART;TZID=UTC:20250207T183000
DTEND;TZID=UTC:20250207T210000
DTSTAMP:20260422T021718
CREATED:20250120T173518Z
LAST-MODIFIED:20250120T173518Z
UID:513714-1738953000-1738962000@kotaconnections.net
SUMMARY:PE Dance Valentine's Dance
DESCRIPTION:Kota Connections will be bringing a group the attend the Project Explore dance at Valley Middle School for the Valentine’s dance.
URL:https://kotaconnections.net/activity/pe-dance-valentines-dance/
LOCATION:Apple Valley Middle School\, 900 Garden View Drive\, Apple Valley\, Minnesota\, 55124
END:VEVENT
BEGIN:VEVENT
DTSTART;TZID=UTC:20250208T083000
DTEND;TZID=UTC:20250208T100000
DTSTAMP:20260422T021718
CREATED:20250120T174059Z
LAST-MODIFIED:20250120T174059Z
UID:513722-1739003400-1739008800@kotaconnections.net
SUMMARY:Breakfast at AV Perkins
DESCRIPTION:Kota Connections will be going to Perkins for breakfast. Everyone will pay $25 for breakfast this morning. If your meal is less than that\, you will have money at the office for the future. If you spend more the $25\, you will get a bill for what you went over.
URL:https://kotaconnections.net/activity/breakfast-at-av-perkins/
LOCATION:Perkins
END:VEVENT
BEGIN:VEVENT
DTSTART;TZID=UTC:20250208T190000
DTEND;TZID=UTC:20250208T213000
DTSTAMP:20260422T021718
CREATED:20250120T172139Z
LAST-MODIFIED:20250120T172139Z
UID:513694-1739041200-1739050200@kotaconnections.net
SUMMARY:MN T-Wolves
DESCRIPTION:Kota Connections has 4 tickets to today’s MN Timberwolves game. 1 staff member will be able to bring 3 individuals to the game. Ticket price needs to be paid to Staff upon pick up. Spending money for concessions is extra and not included in the ticket price. Target Center does not accept cash so a credit or debit card will be needed to make purchases. *Kota Connections has posted all MN Timberwolves tickets for sale so there is a chance that we will not be able to send a group to this game.*
URL:https://kotaconnections.net/activity/mn-t-wolves-34/
LOCATION:Target Center\, 600 N 1st Ave\, Minneapolis\, MN\, 55403\, United States
END:VEVENT
BEGIN:VEVENT
DTSTART;TZID=UTC:20250208T190000
DTEND;TZID=UTC:20250208T213000
DTSTAMP:20260422T021718
CREATED:20250120T173239Z
LAST-MODIFIED:20250120T173239Z
UID:513710-1739041200-1739050200@kotaconnections.net
SUMMARY:MN Wild
DESCRIPTION:Kota Connections has 4 tickets\, 1 staff and 3 clients\, to attend the MN Wild game today. **Xcel Energy Center does not accept cash\, so a card is required for concessions purchases.**
URL:https://kotaconnections.net/activity/mn-wild-68/
LOCATION:Xcel Center\, 199 W Kellogg Blvd\, St. Paul\, MN\, 55102\, United States
END:VEVENT
BEGIN:VEVENT
DTSTART;TZID=UTC:20250210T183000
DTEND;TZID=UTC:20250210T210000
DTSTAMP:20260422T021718
CREATED:20250120T172853Z
LAST-MODIFIED:20250120T172853Z
UID:513702-1739212200-1739221200@kotaconnections.net
SUMMARY:Grand Slam
DESCRIPTION:Come play some mini golf\, videogames\, hit the batting cages\, and even get some food at Grand Slam tonight.
URL:https://kotaconnections.net/activity/grand-slam-12/
LOCATION:Grand Slam\, 12425 River Ridge Blvd\, Burnsville\, MN 55337
END:VEVENT
BEGIN:VEVENT
DTSTART;TZID=UTC:20250211T183000
DTEND;TZID=UTC:20250211T210000
DTSTAMP:20260422T021718
CREATED:20250120T173008Z
LAST-MODIFIED:20250120T173008Z
UID:513706-1739298600-1739307600@kotaconnections.net
SUMMARY:Movie Night
DESCRIPTION:Kota Connections will be going to a Movie Theater tonight with a group of interested individuals. The theater will be chosen closer to the date of the event. Movie choices will be given out the day prior the event. Ticket price is $15 and then extra money is suggested for snacks or beverages.
URL:https://kotaconnections.net/activity/movie-night-44/
LOCATION:MN
END:VEVENT
BEGIN:VEVENT
DTSTART;TZID=UTC:20250212T183000
DTEND;TZID=UTC:20250212T193000
DTSTAMP:20260422T021718
CREATED:20250120T173757Z
LAST-MODIFIED:20250120T182713Z
UID:513716-1739385000-1739388600@kotaconnections.net
SUMMARY:Virtual Bingo
DESCRIPTION:Kota Connections will be hosting a Virtual Bingo event tonight. There will be 2 offerings of a Virtual bingo this month. The $5 cost will go towards the winners of each game and will be sent out as a bill after the event. Any winnings that individuals win\, will first go towards the $5 activity cost before being paid out\, unless the $5 is paid before the event.
URL:https://kotaconnections.net/activity/virtual-bingo-112/
LOCATION:Zoom
END:VEVENT
BEGIN:VEVENT
DTSTART;TZID=UTC:20250212T190000
DTEND;TZID=UTC:20250212T213000
DTSTAMP:20260422T021718
CREATED:20250120T172227Z
LAST-MODIFIED:20250120T172227Z
UID:513696-1739386800-1739395800@kotaconnections.net
SUMMARY:MN T-Wolves
DESCRIPTION:Kota Connections has 4 tickets to today’s MN Timberwolves game. 1 staff member will be able to bring 3 individuals to the game. Ticket price needs to be paid to Staff upon pick up. Spending money for concessions is extra and not included in the ticket price. Target Center does not accept cash so a credit or debit card will be needed to make purchases. *Kota Connections has posted all MN Timberwolves tickets for sale so there is a chance that we will not be able to send a group to this game.*
URL:https://kotaconnections.net/activity/mn-t-wolves-35/
LOCATION:Target Center\, 600 N 1st Ave\, Minneapolis\, MN\, 55403\, United States
END:VEVENT
BEGIN:VEVENT
DTSTART;TZID=UTC:20250213T110000
DTEND;TZID=UTC:20250213T120000
DTSTAMP:20260422T021719
CREATED:20250120T174004Z
LAST-MODIFIED:20250120T174004Z
UID:513720-1739444400-1739448000@kotaconnections.net
SUMMARY:PE Lunch Bunch Pizza Ranch
DESCRIPTION:Join Kota Connections at the Project Explore event for lunch at the Pizza Ranch in Lakeville. Cost is $20 for the lunch.
URL:https://kotaconnections.net/activity/pe-lunch-bunch-pizza-ranch/
LOCATION:Pizza Ranch\, 16995 Kenyon Ave\, Lakeville\, MN 55044
END:VEVENT
BEGIN:VEVENT
DTSTART;TZID=UTC:20250213T190000
DTEND;TZID=UTC:20250213T213000
DTSTAMP:20260422T021719
CREATED:20250120T172329Z
LAST-MODIFIED:20250120T172329Z
UID:513698-1739473200-1739482200@kotaconnections.net
SUMMARY:MN T-Wolves
DESCRIPTION:Kota Connections has 4 tickets to today’s MN Timberwolves game. 1 staff member will be able to bring 3 individuals to the game. Ticket price needs to be paid to Staff upon pick up. Spending money for concessions is extra and not included in the ticket price. Target Center does not accept cash so a credit or debit card will be needed to make purchases. *Kota Connections has posted all MN Timberwolves tickets for sale so there is a chance that we will not be able to send a group to this game.*
URL:https://kotaconnections.net/activity/mn-t-wolves-36/
LOCATION:Target Center\, 600 N 1st Ave\, Minneapolis\, MN\, 55403\, United States
END:VEVENT
BEGIN:VEVENT
DTSTART;TZID=UTC:20250215T083000
DTEND;TZID=UTC:20250215T100000
DTSTAMP:20260422T021719
CREATED:20250120T174320Z
LAST-MODIFIED:20250120T174320Z
UID:513724-1739608200-1739613600@kotaconnections.net
SUMMARY:Breakfast at AV IHOP
DESCRIPTION:Kota Connections will be going to IHOP for breakfast. Everyone will pay $25 for breakfast this morning. If your meal is less than that\, you will have money at the office for the future. If you spend more the $25\, you will get a bill for what you went over.
URL:https://kotaconnections.net/activity/breakfast-at-av-ihop/
LOCATION:IHOP AV\, 6972 Gadwell St\, Apple Valley\, MN 55124\, United States
END:VEVENT
BEGIN:VEVENT
DTSTART;TZID=UTC:20250215T130000
DTEND;TZID=UTC:20250215T150000
DTSTAMP:20260422T021719
CREATED:20250120T174745Z
LAST-MODIFIED:20250120T174745Z
UID:513727-1739624400-1739631600@kotaconnections.net
SUMMARY:Bowling at Bogarts *LYFT / OWN  ONLY*
DESCRIPTION:Come join Kota Connections at Bogarts in Apple Valley for bowling and sharing pizza. Feel free to bring your own bowling shoes and bowling ball. Need to take Lyft or be an own driver to get to this activity.
URL:https://kotaconnections.net/activity/bowling-at-bogarts-lyft-own-only/
LOCATION:Bogarts\, 14917 Garrett Avenue Apple Valley\, Minnesota 55124
END:VEVENT
BEGIN:VEVENT
DTSTART;TZID=UTC:20250217T183000
DTEND;TZID=UTC:20250217T210000
DTSTAMP:20260422T021719
CREATED:20250120T174953Z
LAST-MODIFIED:20250120T174953Z
UID:513729-1739817000-1739826000@kotaconnections.net
SUMMARY:PuttShack
DESCRIPTION:Come join us at Puttshack in Edina. Adult mini golf with a full 18 hole  custom course.  Cost is $40 includes a beverage.
URL:https://kotaconnections.net/activity/puttshack-2/
LOCATION:MN
END:VEVENT
BEGIN:VEVENT
DTSTART;TZID=UTC:20250218T183000
DTEND;TZID=UTC:20250218T210000
DTSTAMP:20260422T021719
CREATED:20250120T175531Z
LAST-MODIFIED:20250120T175531Z
UID:513732-1739903400-1739912400@kotaconnections.net
SUMMARY:The Big Game Show MOA
DESCRIPTION:Come join Kota Connections at The Big Game Show at the Mall of America. Total Cost is $40 for the whole activity.
URL:https://kotaconnections.net/activity/the-big-game-show-moa/
LOCATION:MN
END:VEVENT
BEGIN:VEVENT
DTSTART;TZID=UTC:20250219T183000
DTEND;TZID=UTC:20250219T203000
DTSTAMP:20260422T021719
CREATED:20250120T175811Z
LAST-MODIFIED:20250120T175811Z
UID:513734-1739989800-1739997000@kotaconnections.net
SUMMARY:KC Meeting / Bingo
DESCRIPTION:Come to the office in Lakeville for the KC Meeting. March activity calendars and sign up cards will be handed out tonight. If you have any ideas for future activities\, this would be a great place to bring that up. Come play Bingo. Snack available for $5 or snack card
URL:https://kotaconnections.net/activity/kc-meeting-bingo/
LOCATION:Kota Connections\, 8500 210th St W Suite 148\, Lakeville\, MN\, 55044\, United States
END:VEVENT
BEGIN:VEVENT
DTSTART;TZID=UTC:20250220T183000
DTEND;TZID=UTC:20250220T203000
DTSTAMP:20260422T021719
CREATED:20250120T175849Z
LAST-MODIFIED:20250120T175849Z
UID:513736-1740076200-1740083400@kotaconnections.net
SUMMARY:KC Meeting / Bingo
DESCRIPTION:Come to the office in Lakeville for the KC Meeting. March activity calendars and sign up cards will be handed out tonight. If you have any ideas for future activities\, this would be a great place to bring that up. Come play Bingo. Snack available for $5 or snack card
URL:https://kotaconnections.net/activity/kc-meeting-bingo-2/
LOCATION:MN
END:VEVENT
BEGIN:VEVENT
DTSTART;TZID=UTC:20250222T083000
DTEND;TZID=UTC:20250222T093000
DTSTAMP:20260422T021719
CREATED:20250120T180013Z
LAST-MODIFIED:20250120T180013Z
UID:513738-1740213000-1740216600@kotaconnections.net
SUMMARY:MOA Walk
DESCRIPTION:Join the group on a walk around the Mall of America before the stores open up. This is a fitness walk activity\, not a window shopping activity. Clients will be able to track how many steps/miles they walk on this event.
URL:https://kotaconnections.net/activity/moa-walk-13/
LOCATION:MN
END:VEVENT
BEGIN:VEVENT
DTSTART;TZID=UTC:20250225T190000
DTEND;TZID=UTC:20250225T213000
DTSTAMP:20260422T021719
CREATED:20250120T173323Z
LAST-MODIFIED:20250120T173323Z
UID:513712-1740510000-1740519000@kotaconnections.net
SUMMARY:MN Wild
DESCRIPTION:Kota Connections has 4 tickets\, 1 staff and 3 clients\, to attend the MN Wild game today. **Xcel Energy Center does not accept cash\, so a card is required for concessions purchases.**
URL:https://kotaconnections.net/activity/mn-wild-69/
LOCATION:Xcel Center\, 199 W Kellogg Blvd\, St. Paul\, MN\, 55102\, United States
END:VEVENT
BEGIN:VEVENT
DTSTART;TZID=UTC:20250226T183000
DTEND;TZID=UTC:20250226T193000
DTSTAMP:20260422T021719
CREATED:20250120T173828Z
LAST-MODIFIED:20250120T173828Z
UID:513718-1740594600-1740598200@kotaconnections.net
SUMMARY:Virtual Bingo
DESCRIPTION:Kota Connections will be hosting a Virtual Bingo event tonight. There will be 2 offerings of a Virtual bingo this month. The $5 cost will go towards the winners of each game and will be sent out as a bill after the event. Any winnings that individuals win\, will first go towards the $5 activity cost before being paid out\, unless the $5 is paid before the event.
URL:https://kotaconnections.net/activity/virtual-bingo-113/
LOCATION:Zoom
END:VEVENT
BEGIN:VEVENT
DTSTART;TZID=UTC:20250227T180000
DTEND;TZID=UTC:20250227T200000
DTSTAMP:20260422T021719
CREATED:20250120T180132Z
LAST-MODIFIED:20250120T180132Z
UID:513740-1740679200-1740686400@kotaconnections.net
SUMMARY:Buck Hill
DESCRIPTION:Join a Kota Connections group for either Tubing or Skiing at Buck Hill. Ticket price may vary depending on if equipment rental is needed for skiing. There will also be a snack in the chalet at the end of the event. $45 for Tubing and $115 for Skiing.
URL:https://kotaconnections.net/activity/buck-hill-9/
LOCATION:MN
END:VEVENT
BEGIN:VEVENT
DTSTART;TZID=UTC:20250301T083000
DTEND;TZID=UTC:20250301T100000
DTSTAMP:20260422T021719
CREATED:20250221T184804Z
LAST-MODIFIED:20250221T184804Z
UID:513745-1740817800-1740823200@kotaconnections.net
SUMMARY:Target Shop
DESCRIPTION:Come get your Target needs with your peers on this event. Cost of this event is $15 for a coffee beverage\, snack\, and then extra money for Shopping.
URL:https://kotaconnections.net/activity/target-shop-17/
LOCATION:Target Cedar AV
END:VEVENT
BEGIN:VEVENT
DTSTART;TZID=UTC:20250304T183000
DTEND;TZID=UTC:20250304T203000
DTSTAMP:20260422T021719
CREATED:20250221T185228Z
LAST-MODIFIED:20250221T185228Z
UID:513747-1741113000-1741120200@kotaconnections.net
SUMMARY:KC Movie Night
DESCRIPTION:Come to the Kota Connections for an indoor movie if the weather permits. If the weather does not permit\, the movie will be inside. Snacks will be available for purchase.
URL:https://kotaconnections.net/activity/kc-movie-night-10/
LOCATION:Kota Connections\, 8500 210th St W Suite 148\, Lakeville\, MN\, 55044\, United States
END:VEVENT
BEGIN:VEVENT
DTSTART;TZID=UTC:20250304T190000
DTEND;TZID=UTC:20250304T213000
DTSTAMP:20260422T021719
CREATED:20250221T194336Z
LAST-MODIFIED:20250221T194336Z
UID:513779-1741114800-1741123800@kotaconnections.net
SUMMARY:MN T-Wolves
DESCRIPTION:Kota Connections has 4 tickets to today’s MN Timberwolves game. 1 staff member will be able to bring 3 individuals to the game. Ticket price needs to be paid to Staff upon pick up. Spending money for concessions is extra and not included in the ticket price. Target Center does not accept cash so a credit or debit card will be needed to make purchases. *Kota Connections has posted all MN Timberwolves tickets for sale so there is a chance that we will not be able to send a group to this game.*
URL:https://kotaconnections.net/activity/mn-t-wolves-37/
LOCATION:Target Center\, 600 N 1st Ave\, Minneapolis\, MN\, 55403\, United States
END:VEVENT
END:VCALENDAR