BEGIN:VCALENDAR
VERSION:2.0
PRODID:-//Kota Connections, Inc. - ECPv6.8.2.1//NONSGML v1.0//EN
CALSCALE:GREGORIAN
METHOD:PUBLISH
X-WR-CALNAME:Kota Connections, Inc.
X-ORIGINAL-URL:https://kotaconnections.net
X-WR-CALDESC:Events for Kota Connections, Inc.
REFRESH-INTERVAL;VALUE=DURATION:PT1H
X-Robots-Tag:noindex
X-PUBLISHED-TTL:PT1H
BEGIN:VTIMEZONE
TZID:UTC
BEGIN:STANDARD
TZOFFSETFROM:+0000
TZOFFSETTO:+0000
TZNAME:UTC
DTSTART:20240101T000000
END:STANDARD
END:VTIMEZONE
BEGIN:VEVENT
DTSTART;TZID=UTC:20241026T083000
DTEND;TZID=UTC:20241026T100000
DTSTAMP:20260421T182050
CREATED:20240923T144008Z
LAST-MODIFIED:20240923T144008Z
UID:513507-1729931400-1729936800@kotaconnections.net
SUMMARY:Breakfast at Lakeville HyVee
DESCRIPTION:Come join us for Breakfast at the Lakeville HyVee for an early morning activity. Cost is estimated to be $20 for the cost of your breakfast.
URL:https://kotaconnections.net/activity/breakfast-at-lakeville-hyvee/
END:VEVENT
BEGIN:VEVENT
DTSTART;TZID=UTC:20241029T183000
DTEND;TZID=UTC:20241029T210000
DTSTAMP:20260421T182050
CREATED:20240923T144304Z
LAST-MODIFIED:20240923T144313Z
UID:513509-1730226600-1730235600@kotaconnections.net
SUMMARY:MN T-Wolves
DESCRIPTION:Kota Connections has 4 tickets to today’s MN Timberwolves game. 1 staff member will be able to bring 3 individuals to the game. Ticket price needs to be paid to Staff upon pick up. Spending money for concessions is extra and not included in the ticket price. Target Center does not accept cash so a credit or debit card will be needed to make purchases. *Kota Connections has posted all MN Timberwolves tickets for sale so there is a chance that we will not be able to send a group to this game.*
URL:https://kotaconnections.net/activity/mn-t-wolves-12/
LOCATION:Target Center\, 600 N 1st Ave\, Minneapolis\, MN\, 55403\, United States
END:VEVENT
BEGIN:VEVENT
DTSTART;TZID=UTC:20241030T183000
DTEND;TZID=UTC:20241030T200000
DTSTAMP:20260421T182050
CREATED:20240923T144422Z
LAST-MODIFIED:20240923T144422Z
UID:513511-1730313000-1730318400@kotaconnections.net
SUMMARY:Pumpkin Carving at Office
DESCRIPTION:Get your creativity going with a night to carve pumpkins with your friends. The cost of this event will include a snack and the Pumpkin which you will get to take home!
URL:https://kotaconnections.net/activity/pumpkin-carving-at-office/
LOCATION:Kota Connections\, 8500 210th St W Suite 148\, Lakeville\, MN\, 55044\, United States
END:VEVENT
BEGIN:VEVENT
DTSTART;TZID=UTC:20241101T190000
DTEND;TZID=UTC:20241101T213000
DTSTAMP:20260421T182050
CREATED:20241014T200741Z
LAST-MODIFIED:20241014T200741Z
UID:513532-1730487600-1730496600@kotaconnections.net
SUMMARY:MN Wild
DESCRIPTION:Kota Connections has 4 tickets\, 1 staff and 3 clients\, to attend the MN Wild game today. **Xcel Energy Center does not accept cash\, so a card is required for concessions purchases.**
URL:https://kotaconnections.net/activity/mn-wild-49/
LOCATION:Xcel Center\, 199 W Kellogg Blvd\, St. Paul\, MN\, 55102\, United States
END:VEVENT
BEGIN:VEVENT
DTSTART;TZID=UTC:20241101T203000
DTEND;TZID=UTC:20241101T230000
DTSTAMP:20260421T182050
CREATED:20241014T195841Z
LAST-MODIFIED:20241014T195841Z
UID:513514-1730493000-1730502000@kotaconnections.net
SUMMARY:MN T-Wolves
DESCRIPTION:Kota Connections has 4 tickets to today’s MN Timberwolves game. 1 staff member will be able to bring 3 individuals to the game. Ticket price needs to be paid to Staff upon pick up. Spending money for concessions is extra and not included in the ticket price. Target Center does not accept cash so a credit or debit card will be needed to make purchases. *Kota Connections has posted all MN Timberwolves tickets for sale so there is a chance that we will not be able to send a group to this game.*
URL:https://kotaconnections.net/activity/mn-t-wolves-13/
LOCATION:Target Center\, 600 N 1st Ave\, Minneapolis\, MN\, 55403\, United States
END:VEVENT
BEGIN:VEVENT
DTSTART;TZID=UTC:20241102T083000
DTEND;TZID=UTC:20241102T093000
DTSTAMP:20260421T182050
CREATED:20241014T201741Z
LAST-MODIFIED:20241014T201741Z
UID:513544-1730536200-1730539800@kotaconnections.net
SUMMARY:MOA Walk
DESCRIPTION:Join the group on a walk around the Mall of America before the stores open up. This is a fitness walk activity\, not a window shopping activity. Clients will be able to track how many steps/miles they walk on this event.
URL:https://kotaconnections.net/activity/moa-walk-11/
LOCATION:Mall of America\, 60 E Broadway\, Bloomington\, MN\, 55425\, United States
END:VEVENT
BEGIN:VEVENT
DTSTART;TZID=UTC:20241103T170000
DTEND;TZID=UTC:20241103T193000
DTSTAMP:20260421T182050
CREATED:20241014T200817Z
LAST-MODIFIED:20241014T200817Z
UID:513534-1730653200-1730662200@kotaconnections.net
SUMMARY:MN Wild
DESCRIPTION:Kota Connections has 4 tickets\, 1 staff and 3 clients\, to attend the MN Wild game today. **Xcel Energy Center does not accept cash\, so a card is required for concessions purchases.**
URL:https://kotaconnections.net/activity/mn-wild-50/
LOCATION:Xcel Center\, 199 W Kellogg Blvd\, St. Paul\, MN\, 55102\, United States
END:VEVENT
BEGIN:VEVENT
DTSTART;TZID=UTC:20241104T200000
DTEND;TZID=UTC:20241104T223000
DTSTAMP:20260421T182050
CREATED:20241014T195919Z
LAST-MODIFIED:20241014T195919Z
UID:513516-1730750400-1730759400@kotaconnections.net
SUMMARY:MN T-Wolves
DESCRIPTION:Kota Connections has 4 tickets to today’s MN Timberwolves game. 1 staff member will be able to bring 3 individuals to the game. Ticket price needs to be paid to Staff upon pick up. Spending money for concessions is extra and not included in the ticket price. Target Center does not accept cash so a credit or debit card will be needed to make purchases. *Kota Connections has posted all MN Timberwolves tickets for sale so there is a chance that we will not be able to send a group to this game.*
URL:https://kotaconnections.net/activity/mn-t-wolves-14/
LOCATION:Target Center\, 600 N 1st Ave\, Minneapolis\, MN\, 55403\, United States
END:VEVENT
BEGIN:VEVENT
DTSTART;TZID=UTC:20241105T180000
DTEND;TZID=UTC:20241105T203000
DTSTAMP:20260421T182050
CREATED:20241014T201949Z
LAST-MODIFIED:20241014T201949Z
UID:513546-1730829600-1730838600@kotaconnections.net
SUMMARY:KC Movie Night
DESCRIPTION:Come to the Kota Connections for an indoor movie if the weather permits. If the weather does not permit\, the movie will be inside. Snacks will be available for purchase.
URL:https://kotaconnections.net/activity/kc-movie-night-9/
LOCATION:Kota Connections\, 8500 210th St W Suite 148\, Lakeville\, MN\, 55044\, United States
END:VEVENT
BEGIN:VEVENT
DTSTART;TZID=UTC:20241105T190000
DTEND;TZID=UTC:20241105T213000
DTSTAMP:20260421T182050
CREATED:20241014T201121Z
LAST-MODIFIED:20241014T201121Z
UID:513536-1730833200-1730842200@kotaconnections.net
SUMMARY:MN Wild
DESCRIPTION:Kota Connections has 4 tickets\, 1 staff and 3 clients\, to attend the MN Wild game today. **Xcel Energy Center does not accept cash\, so a card is required for concessions purchases.**
URL:https://kotaconnections.net/activity/mn-wild-51/
LOCATION:Xcel Center\, 199 W Kellogg Blvd\, St. Paul\, MN\, 55102\, United States
END:VEVENT
BEGIN:VEVENT
DTSTART;TZID=UTC:20241106T180000
DTEND;TZID=UTC:20241106T200000
DTSTAMP:20260421T182050
CREATED:20241014T202121Z
LAST-MODIFIED:20241014T202121Z
UID:513548-1730916000-1730923200@kotaconnections.net
SUMMARY:Open Office / Video Game Night
DESCRIPTION:Come to the office in Lakeville. Come play Videogames\, card games\, pool\, darts\, or a bunch of other games with your peers. Snacks available for purchase.
URL:https://kotaconnections.net/activity/open-office-video-game-night-3/
LOCATION:Kota Connections\, 8500 210th St W Suite 148\, Lakeville\, MN\, 55044\, United States
END:VEVENT
BEGIN:VEVENT
DTSTART;TZID=UTC:20241107T180000
DTEND;TZID=UTC:20241107T200000
DTSTAMP:20260421T182050
CREATED:20241014T202201Z
LAST-MODIFIED:20241014T202201Z
UID:513550-1731002400-1731009600@kotaconnections.net
SUMMARY:Open Office / Video Game Night
DESCRIPTION:Come to the office in Lakeville. Come play Videogames\, card games\, pool\, darts\, or a bunch of other games with your peers. Snacks available for purchase.
URL:https://kotaconnections.net/activity/open-office-video-game-night-4/
LOCATION:Kota Connections\, 8500 210th St W Suite 148\, Lakeville\, MN\, 55044\, United States
END:VEVENT
BEGIN:VEVENT
DTSTART;TZID=UTC:20241108T200000
DTEND;TZID=UTC:20241108T223000
DTSTAMP:20260421T182050
CREATED:20241014T195956Z
LAST-MODIFIED:20241014T195956Z
UID:513518-1731096000-1731105000@kotaconnections.net
SUMMARY:MN T-Wolves
DESCRIPTION:Kota Connections has 4 tickets to today’s MN Timberwolves game. 1 staff member will be able to bring 3 individuals to the game. Ticket price needs to be paid to Staff upon pick up. Spending money for concessions is extra and not included in the ticket price. Target Center does not accept cash so a credit or debit card will be needed to make purchases. *Kota Connections has posted all MN Timberwolves tickets for sale so there is a chance that we will not be able to send a group to this game.*
URL:https://kotaconnections.net/activity/mn-t-wolves-15/
LOCATION:Target Center\, 600 N 1st Ave\, Minneapolis\, MN\, 55403\, United States
END:VEVENT
BEGIN:VEVENT
DTSTART;TZID=UTC:20241109T090000
DTEND;TZID=UTC:20241109T103000
DTSTAMP:20260421T182050
CREATED:20241014T202320Z
LAST-MODIFIED:20241014T202320Z
UID:513552-1731142800-1731148200@kotaconnections.net
SUMMARY:Target Shop
DESCRIPTION:Come get your Target needs with your peers on this event. Cost of this event is $15 for a coffee beverage\, snack\, and then extra money for Shopping.
URL:https://kotaconnections.net/activity/target-shop-13/
LOCATION:Target Cedar AV
END:VEVENT
BEGIN:VEVENT
DTSTART;TZID=UTC:20241110T180000
DTEND;TZID=UTC:20241110T203000
DTSTAMP:20260421T182050
CREATED:20241014T200038Z
LAST-MODIFIED:20241014T200038Z
UID:513520-1731261600-1731270600@kotaconnections.net
SUMMARY:MN T-Wolves
DESCRIPTION:Kota Connections has 4 tickets to today’s MN Timberwolves game. 1 staff member will be able to bring 3 individuals to the game. Ticket price needs to be paid to Staff upon pick up. Spending money for concessions is extra and not included in the ticket price. Target Center does not accept cash so a credit or debit card will be needed to make purchases. *Kota Connections has posted all MN Timberwolves tickets for sale so there is a chance that we will not be able to send a group to this game.*
URL:https://kotaconnections.net/activity/mn-t-wolves-16/
LOCATION:Target Center\, 600 N 1st Ave\, Minneapolis\, MN\, 55403\, United States
END:VEVENT
BEGIN:VEVENT
DTSTART;TZID=UTC:20241112T180000
DTEND;TZID=UTC:20241112T200000
DTSTAMP:20260421T182050
CREATED:20241014T202528Z
LAST-MODIFIED:20241014T202552Z
UID:513554-1731434400-1731441600@kotaconnections.net
SUMMARY:KC Meeting @ Texas Roadhouse
DESCRIPTION:In the spirit of Thanksgiving\, Kota Connections always likes to gather with as many clients as possible for a meal. This event used to be at Old Country Buffet. Since that has closed\, this will be an event spread out between 2 different restaurants on 2 different nights. *Clients can only attend one of these three events.* Every client will pay $40 for the dinner. If your meal is less than $40\, you will have a credit towards future events. If you go over $40\, you will get a bill for the amount you went over. Tonight’s restaurant is TEXAS ROADHOUSE.
URL:https://kotaconnections.net/activity/kc-meeting-texas-roadhouse-3/
END:VEVENT
BEGIN:VEVENT
DTSTART;TZID=UTC:20241113T180000
DTEND;TZID=UTC:20241113T200000
DTSTAMP:20260421T182050
CREATED:20241014T203429Z
LAST-MODIFIED:20241014T203429Z
UID:513559-1731520800-1731528000@kotaconnections.net
SUMMARY:Grand Slam *LYFT ONLY*
DESCRIPTION:Come play some mini golf\, videogames\, hit the batting cages\, and even get some food at Grand Slam tonight.   This activity is Lyft only to help clients practice Lyft. Staff will be at Grand Slam to help clients order Lyft rides home.
URL:https://kotaconnections.net/activity/grand-slam-lyft-only/
LOCATION:Grand Slam\, 12425 River Ridge Blvd\, Burnsville\, MN 55337
END:VEVENT
BEGIN:VEVENT
DTSTART;TZID=UTC:20241114T180000
DTEND;TZID=UTC:20241114T200000
DTSTAMP:20260421T182050
CREATED:20241014T202827Z
LAST-MODIFIED:20241014T202827Z
UID:513557-1731607200-1731614400@kotaconnections.net
SUMMARY:KC Meeting @ Steak & Ale
DESCRIPTION:In the spirit of Thanksgiving\, Kota Connections always likes to gather with as many clients as possible for a meal. This event used to be at Old Country Buffet. Since that has closed\, this will be an event spread out between 2 different restaurants on 2 different nights. *Clients can only attend one of these three events.* Every client will pay $40 for the dinner. If your meal is less than $40\, you will have a credit towards future events. If you go over $40\, you will get a bill for the amount you went over. Tonight’s restaurant is Steak & Ale.
URL:https://kotaconnections.net/activity/kc-meeting-steak-ale/
END:VEVENT
BEGIN:VEVENT
DTSTART;TZID=UTC:20241114T190000
DTEND;TZID=UTC:20241114T213000
DTSTAMP:20260421T182050
CREATED:20241014T201204Z
LAST-MODIFIED:20241014T201204Z
UID:513538-1731610800-1731619800@kotaconnections.net
SUMMARY:MN Wild
DESCRIPTION:Kota Connections has 4 tickets\, 1 staff and 3 clients\, to attend the MN Wild game today. **Xcel Energy Center does not accept cash\, so a card is required for concessions purchases.**
URL:https://kotaconnections.net/activity/mn-wild-52/
LOCATION:Xcel Center\, 199 W Kellogg Blvd\, St. Paul\, MN\, 55102\, United States
END:VEVENT
BEGIN:VEVENT
DTSTART;VALUE=DATE:20241115
DTEND;VALUE=DATE:20241124
DTSTAMP:20260421T182050
CREATED:20241014T203654Z
LAST-MODIFIED:20241014T203654Z
UID:513562-1731628800-1732406399@kotaconnections.net
SUMMARY:Disney Cruise
DESCRIPTION:Kota Connections will be taking a group on a Disney Cruise This activity is closed and already being planned. There is no availability to add into this event.
URL:https://kotaconnections.net/activity/disney-cruise-2/
END:VEVENT
BEGIN:VEVENT
DTSTART;TZID=UTC:20241117T143000
DTEND;TZID=UTC:20241117T170000
DTSTAMP:20260421T182050
CREATED:20241014T200118Z
LAST-MODIFIED:20241014T200118Z
UID:513522-1731853800-1731862800@kotaconnections.net
SUMMARY:MN T-Wolves
DESCRIPTION:Kota Connections has 4 tickets to today’s MN Timberwolves game. 1 staff member will be able to bring 3 individuals to the game. Ticket price needs to be paid to Staff upon pick up. Spending money for concessions is extra and not included in the ticket price. Target Center does not accept cash so a credit or debit card will be needed to make purchases. *Kota Connections has posted all MN Timberwolves tickets for sale so there is a chance that we will not be able to send a group to this game.*
URL:https://kotaconnections.net/activity/mn-t-wolves-17/
LOCATION:Target Center\, 600 N 1st Ave\, Minneapolis\, MN\, 55403\, United States
END:VEVENT
BEGIN:VEVENT
DTSTART;TZID=UTC:20241125T190000
DTEND;TZID=UTC:20241125T213000
DTSTAMP:20260421T182050
CREATED:20241014T201247Z
LAST-MODIFIED:20241014T201247Z
UID:513540-1732561200-1732570200@kotaconnections.net
SUMMARY:MN Wild
DESCRIPTION:Kota Connections has 4 tickets\, 1 staff and 3 clients\, to attend the MN Wild game today. **Xcel Energy Center does not accept cash\, so a card is required for concessions purchases.**
URL:https://kotaconnections.net/activity/mn-wild-53/
LOCATION:Xcel Center\, 199 W Kellogg Blvd\, St. Paul\, MN\, 55102\, United States
END:VEVENT
BEGIN:VEVENT
DTSTART;TZID=UTC:20241126T190000
DTEND;TZID=UTC:20241126T213000
DTSTAMP:20260421T182050
CREATED:20241014T200153Z
LAST-MODIFIED:20241014T200153Z
UID:513524-1732647600-1732656600@kotaconnections.net
SUMMARY:MN T-Wolves
DESCRIPTION:Kota Connections has 4 tickets to today’s MN Timberwolves game. 1 staff member will be able to bring 3 individuals to the game. Ticket price needs to be paid to Staff upon pick up. Spending money for concessions is extra and not included in the ticket price. Target Center does not accept cash so a credit or debit card will be needed to make purchases. *Kota Connections has posted all MN Timberwolves tickets for sale so there is a chance that we will not be able to send a group to this game.*
URL:https://kotaconnections.net/activity/mn-t-wolves-18/
LOCATION:Target Center\, 600 N 1st Ave\, Minneapolis\, MN\, 55403\, United States
END:VEVENT
BEGIN:VEVENT
DTSTART;TZID=UTC:20241127T190000
DTEND;TZID=UTC:20241127T213000
DTSTAMP:20260421T182050
CREATED:20241014T200229Z
LAST-MODIFIED:20241014T200229Z
UID:513526-1732734000-1732743000@kotaconnections.net
SUMMARY:MN T-Wolves
DESCRIPTION:Kota Connections has 4 tickets to today’s MN Timberwolves game. 1 staff member will be able to bring 3 individuals to the game. Ticket price needs to be paid to Staff upon pick up. Spending money for concessions is extra and not included in the ticket price. Target Center does not accept cash so a credit or debit card will be needed to make purchases. *Kota Connections has posted all MN Timberwolves tickets for sale so there is a chance that we will not be able to send a group to this game.*
URL:https://kotaconnections.net/activity/mn-t-wolves-19/
END:VEVENT
BEGIN:VEVENT
DTSTART;VALUE=DATE:20241128
DTEND;VALUE=DATE:20241129
DTSTAMP:20260421T182050
CREATED:20241014T200446Z
LAST-MODIFIED:20241014T203922Z
UID:513528-1732752000-1732838399@kotaconnections.net
SUMMARY:*OFFICE CLOSED* THANKSGIVING
DESCRIPTION:Kota Connections is closed today in observance of Thanksgiving.
URL:https://kotaconnections.net/activity/office-closed-14/
END:VEVENT
BEGIN:VEVENT
DTSTART;VALUE=DATE:20241129
DTEND;VALUE=DATE:20241130
DTSTAMP:20260421T182050
CREATED:20241014T200509Z
LAST-MODIFIED:20241014T200509Z
UID:513530-1732838400-1732924799@kotaconnections.net
SUMMARY:*OFFICE CLOSED*
DESCRIPTION:Kota Connections is closed today in observance of Thanksgiving.
URL:https://kotaconnections.net/activity/office-closed-15/
END:VEVENT
BEGIN:VEVENT
DTSTART;TZID=UTC:20241130T190000
DTEND;TZID=UTC:20241130T213000
DTSTAMP:20260421T182050
CREATED:20241014T201318Z
LAST-MODIFIED:20241014T201318Z
UID:513542-1732993200-1733002200@kotaconnections.net
SUMMARY:MN Wild
DESCRIPTION:Kota Connections has 4 tickets\, 1 staff and 3 clients\, to attend the MN Wild game today. **Xcel Energy Center does not accept cash\, so a card is required for concessions purchases.**
URL:https://kotaconnections.net/activity/mn-wild-54/
LOCATION:Xcel Center\, 199 W Kellogg Blvd\, St. Paul\, MN\, 55102\, United States
END:VEVENT
BEGIN:VEVENT
DTSTART;TZID=UTC:20241202T190000
DTEND;TZID=UTC:20241202T213000
DTSTAMP:20260421T182050
CREATED:20241114T182348Z
LAST-MODIFIED:20241114T182348Z
UID:513567-1733166000-1733175000@kotaconnections.net
SUMMARY:MN T-Wolves
DESCRIPTION:Kota Connections has 4 tickets to today’s MN Timberwolves game. 1 staff member will be able to bring 3 individuals to the game. Ticket price needs to be paid to Staff upon pick up. Spending money for concessions is extra and not included in the ticket price. Target Center does not accept cash so a credit or debit card will be needed to make purchases. *Kota Connections has posted all MN Timberwolves tickets for sale so there is a chance that we will not be able to send a group to this game.*
URL:https://kotaconnections.net/activity/mn-t-wolves-20/
LOCATION:Target Center\, 600 N 1st Ave\, Minneapolis\, MN\, 55403\, United States
END:VEVENT
BEGIN:VEVENT
DTSTART;TZID=UTC:20241203T190000
DTEND;TZID=UTC:20241203T213000
DTSTAMP:20260421T182050
CREATED:20241114T182827Z
LAST-MODIFIED:20241114T182827Z
UID:513577-1733252400-1733261400@kotaconnections.net
SUMMARY:MN Wild
DESCRIPTION:Kota Connections has 4 tickets\, 1 staff and 3 clients\, to attend the MN Wild game today. **Xcel Energy Center does not accept cash\, so a card is required for concessions purchases.**
URL:https://kotaconnections.net/activity/mn-wild-55/
LOCATION:Xcel Center\, 199 W Kellogg Blvd\, St. Paul\, MN\, 55102\, United States
END:VEVENT
BEGIN:VEVENT
DTSTART;TZID=UTC:20241204T183000
DTEND;TZID=UTC:20241204T193000
DTSTAMP:20260421T182050
CREATED:20241114T183443Z
LAST-MODIFIED:20241114T183443Z
UID:513591-1733337000-1733340600@kotaconnections.net
SUMMARY:Virtual Bingo
DESCRIPTION:Kota Connections will be hosting a Virtual Bingo event tonight. There will be 2 offerings of a Virtual bingo this month. The $5 cost will go towards the winners of each game and will be sent out as a bill after the event. Any winnings that individuals win\, will first go towards the $5 activity cost before being paid out\, unless the $5 is paid before the event.
URL:https://kotaconnections.net/activity/virtual-bingo-109/
LOCATION:Zoom
END:VEVENT
END:VCALENDAR