BEGIN:VCALENDAR
VERSION:2.0
PRODID:-//Kota Connections, Inc. - ECPv6.8.2.1//NONSGML v1.0//EN
CALSCALE:GREGORIAN
METHOD:PUBLISH
X-WR-CALNAME:Kota Connections, Inc.
X-ORIGINAL-URL:https://kotaconnections.net
X-WR-CALDESC:Events for Kota Connections, Inc.
REFRESH-INTERVAL;VALUE=DURATION:PT1H
X-Robots-Tag:noindex
X-PUBLISHED-TTL:PT1H
BEGIN:VTIMEZONE
TZID:UTC
BEGIN:STANDARD
TZOFFSETFROM:+0000
TZOFFSETTO:+0000
TZNAME:UTC
DTSTART:20240101T000000
END:STANDARD
END:VTIMEZONE
BEGIN:VEVENT
DTSTART;TZID=UTC:20240917T183000
DTEND;TZID=UTC:20240917T210000
DTSTAMP:20260421T225930
CREATED:20240828T152915Z
LAST-MODIFIED:20240828T152915Z
UID:513436-1726597800-1726606800@kotaconnections.net
SUMMARY:Movie Night
DESCRIPTION:Kota Connections will be going to a Movie Theater tonight with a group of interested individuals. The theater will be chosen closer to the date of the event. Movie choices will be given out the day prior the event. Ticket price is $15 and then extra money is suggested for snacks or beverages.
URL:https://kotaconnections.net/activity/movie-night-37/
LOCATION:MN
END:VEVENT
BEGIN:VEVENT
DTSTART;TZID=UTC:20240918T183000
DTEND;TZID=UTC:20240918T200000
DTSTAMP:20260421T225930
CREATED:20240828T153305Z
LAST-MODIFIED:20240828T153305Z
UID:513440-1726684200-1726689600@kotaconnections.net
SUMMARY:Open Office / Video Game Night
DESCRIPTION:Come to the office in Lakeville. Come play Videogames\, card games\, pool\, darts\, or a bunch of other games with your peers. Snacks available for purchase.
URL:https://kotaconnections.net/activity/open-office-video-game-night/
LOCATION:Kota Connections\, 8500 210th St W Suite 148\, Lakeville\, MN\, 55044\, United States
END:VEVENT
BEGIN:VEVENT
DTSTART;TZID=UTC:20240919T110000
DTEND;TZID=UTC:20240919T120000
DTSTAMP:20260421T225930
CREATED:20240828T153603Z
LAST-MODIFIED:20240828T153603Z
UID:513442-1726743600-1726747200@kotaconnections.net
SUMMARY:PE Rosemount Culver's Lunch
DESCRIPTION:Join Kota Connections and  Project Explore for Lunch at the Culver’s in Rosemount. Bring $15 for food.
URL:https://kotaconnections.net/activity/pe-rosemount-culvers-lunch/
LOCATION:MN
END:VEVENT
BEGIN:VEVENT
DTSTART;TZID=UTC:20240919T183000
DTEND;TZID=UTC:20240919T200000
DTSTAMP:20260421T225930
CREATED:20240828T153847Z
LAST-MODIFIED:20240828T153847Z
UID:513444-1726770600-1726776000@kotaconnections.net
SUMMARY:Open Office / Video Game Night
DESCRIPTION:Come to the office in Lakeville. Come play Videogames\, card games\, pool\, darts\, or a bunch of other games with your peers. Snacks available for purchase.
URL:https://kotaconnections.net/activity/open-office-video-game-night-2/
LOCATION:Kota Connections\, 8500 210th St W Suite 148\, Lakeville\, MN\, 55044\, United States
END:VEVENT
BEGIN:VEVENT
DTSTART;TZID=UTC:20240920T183000
DTEND;TZID=UTC:20240920T210000
DTSTAMP:20260421T225930
CREATED:20240828T154624Z
LAST-MODIFIED:20240828T154624Z
UID:513446-1726857000-1726866000@kotaconnections.net
SUMMARY:PE Dance
DESCRIPTION:Kota Connections will be bringing a group the attend the Project Explore dance at Valley Middle School. Snacks and refreshments available.
URL:https://kotaconnections.net/activity/pe-dance-11/
LOCATION:Apple Valley Middle School\, 900 Garden View Drive\, Apple Valley\, Minnesota\, 55124
END:VEVENT
BEGIN:VEVENT
DTSTART;TZID=UTC:20240921T110000
DTEND;TZID=UTC:20240921T150000
DTSTAMP:20260421T225930
CREATED:20240828T154708Z
LAST-MODIFIED:20240828T154708Z
UID:513448-1726916400-1726930800@kotaconnections.net
SUMMARY:ValleyFair
DESCRIPTION:Take the day and head out to Valleyfair to go on some rides or just walk around the park. **Valleyfair does not accept cash. Card is required to make purchases.***
URL:https://kotaconnections.net/activity/valleyfair-16/
LOCATION:Valleyfair\, 1 Walley Fair Drive\, Shakopee\, MN\, 55379\, United States
END:VEVENT
BEGIN:VEVENT
DTSTART;TZID=UTC:20240923T180000
DTEND;TZID=UTC:20240923T210000
DTSTAMP:20260421T225930
CREATED:20240828T154941Z
LAST-MODIFIED:20240828T154941Z
UID:513450-1727114400-1727125200@kotaconnections.net
SUMMARY:KC Meeting + Dinner + Bingo Wyatt's Twisted Americana
DESCRIPTION:This months KC Meeting will take place at Wyatt’s Twisted Americana in Eagan. The activity will include dinner and bingo and the activity calendars and sign up cards for October will be distributed. $20 – Bingo $25 – Dinner
URL:https://kotaconnections.net/activity/kc-meeting-dinner-bingo-wyatts-twisted-americana-2/
LOCATION:Wyatts\, 1965 Cliff Lake Road Suite 108\, Eagan\, MN\, 55122\, United States
END:VEVENT
BEGIN:VEVENT
DTSTART;TZID=UTC:20240924T183000
DTEND;TZID=UTC:20240924T210000
DTSTAMP:20260421T225930
CREATED:20240828T153056Z
LAST-MODIFIED:20240828T153056Z
UID:513438-1727202600-1727211600@kotaconnections.net
SUMMARY:Movie Night
DESCRIPTION:Kota Connections will be going to a Movie Theater tonight with a group of interested individuals. The theater will be chosen closer to the date of the event. Movie choices will be given out the day prior the event. Ticket price is $15 and then extra money is suggested for snacks or beverages.
URL:https://kotaconnections.net/activity/movie-night-38/
LOCATION:MN
END:VEVENT
BEGIN:VEVENT
DTSTART;TZID=UTC:20240925T183000
DTEND;TZID=UTC:20240925T213000
DTSTAMP:20260421T225930
CREATED:20240828T145013Z
LAST-MODIFIED:20240828T145013Z
UID:513422-1727289000-1727299800@kotaconnections.net
SUMMARY:MN Twins
DESCRIPTION:Kota Connections has 4 tickets\, 1 staff and 3 clients\, to attend the MN Twins game today. **Target field does not accept cash\, so a card is required for concessions purchases.**
URL:https://kotaconnections.net/activity/mn-twins-84/
LOCATION:Target Field\, 1 Twins Way\, Minneapolis\, MN\, 55403\, United States
END:VEVENT
BEGIN:VEVENT
DTSTART;TZID=UTC:20240926T180000
DTEND;TZID=UTC:20240926T210000
DTSTAMP:20260421T225930
CREATED:20240828T155319Z
LAST-MODIFIED:20240828T155319Z
UID:513452-1727373600-1727384400@kotaconnections.net
SUMMARY:KC Meeting + Dinner + Bingo Celt's Craft Pub in AV
DESCRIPTION:This months KC Meeting will take place at Celt’s Craft Pub in AppleValley. The activity will include dinner and bingo and the activity calendars and sign up cards for October will be distributed. $15 – Bingo\, $25 – Food.
URL:https://kotaconnections.net/activity/kc-meeting-dinner-bingo-celts-craft-pub-in-av/
LOCATION:MN
END:VEVENT
BEGIN:VEVENT
DTSTART;TZID=UTC:20240927T190000
DTEND;TZID=UTC:20240927T213000
DTSTAMP:20260421T225930
CREATED:20240828T155737Z
LAST-MODIFIED:20240828T155737Z
UID:513454-1727463600-1727472600@kotaconnections.net
SUMMARY:MN Wild
DESCRIPTION:Kota Connections has 4 tickets\, 1 staff and 3 clients\, to attend the MN Wild game today. **Xcel Energy Center does not accept cash\, so a card is required for concessions purchases.**
URL:https://kotaconnections.net/activity/mn-wild-44/
LOCATION:Xcel Center\, 199 W Kellogg Blvd\, St. Paul\, MN\, 55102\, United States
END:VEVENT
BEGIN:VEVENT
DTSTART;TZID=UTC:20240927T190000
DTEND;TZID=UTC:20240927T220000
DTSTAMP:20260421T225930
CREATED:20240828T145724Z
LAST-MODIFIED:20240828T145724Z
UID:513424-1727463600-1727474400@kotaconnections.net
SUMMARY:MN Twins
DESCRIPTION:Kota Connections has 4 tickets\, 1 staff and 3 clients\, to attend the MN Twins game today. **Target field does not accept cash\, so a card is required for concessions purchases.**
URL:https://kotaconnections.net/activity/mn-twins-85/
LOCATION:MN
END:VEVENT
BEGIN:VEVENT
DTSTART;TZID=UTC:20240929T140000
DTEND;TZID=UTC:20240929T170000
DTSTAMP:20260421T225930
CREATED:20240828T150334Z
LAST-MODIFIED:20240828T150334Z
UID:513426-1727618400-1727629200@kotaconnections.net
SUMMARY:MN Twins
DESCRIPTION:Kota Connections has 4 tickets\, 1 staff and 3 clients\, to attend the MN Twins game today. **Target field does not accept cash\, so a card is required for concessions purchases.**
URL:https://kotaconnections.net/activity/mn-twins-86/
LOCATION:Target Field\, 1 Twins Way\, Minneapolis\, MN\, 55403\, United States
END:VEVENT
BEGIN:VEVENT
DTSTART;TZID=UTC:20240929T170000
DTEND;TZID=UTC:20240929T193000
DTSTAMP:20260421T225931
CREATED:20240828T155806Z
LAST-MODIFIED:20240828T155806Z
UID:513456-1727629200-1727638200@kotaconnections.net
SUMMARY:MN Wild
DESCRIPTION:Kota Connections has 4 tickets\, 1 staff and 3 clients\, to attend the MN Wild game today. **Xcel Energy Center does not accept cash\, so a card is required for concessions purchases.**
URL:https://kotaconnections.net/activity/mn-wild-45/
LOCATION:Xcel Center\, 199 W Kellogg Blvd\, St. Paul\, MN\, 55102\, United States
END:VEVENT
BEGIN:VEVENT
DTSTART;TZID=UTC:20241001T190000
DTEND;TZID=UTC:20241001T213000
DTSTAMP:20260421T225931
CREATED:20240917T194607Z
LAST-MODIFIED:20240917T194607Z
UID:513459-1727809200-1727818200@kotaconnections.net
SUMMARY:MN Wild
DESCRIPTION:Kota Connections has 4 tickets\, 1 staff and 3 clients\, to attend the MN Wild game today. **Xcel Energy Center does not accept cash\, so a card is required for concessions purchases.**
URL:https://kotaconnections.net/activity/mn-wild-46/
LOCATION:Xcel Center\, 199 W Kellogg Blvd\, St. Paul\, MN\, 55102\, United States
END:VEVENT
BEGIN:VEVENT
DTSTART;TZID=UTC:20241003T183000
DTEND;TZID=UTC:20241003T203000
DTSTAMP:20260421T225931
CREATED:20240917T194740Z
LAST-MODIFIED:20240917T194740Z
UID:513461-1727980200-1727987400@kotaconnections.net
SUMMARY:MOA Mini Golf
DESCRIPTION:Join us at the Mall of America to do a round of mini golf. Cost is $15.
URL:https://kotaconnections.net/activity/moa-mini-golf/
LOCATION:Mall of America\, 60 E Broadway\, Bloomington\, MN\, 55425\, United States
END:VEVENT
BEGIN:VEVENT
DTSTART;TZID=UTC:20241005T080000
DTEND;TZID=UTC:20241005T170000
DTSTAMP:20260421T225931
CREATED:20240917T194826Z
LAST-MODIFIED:20240917T195335Z
UID:513463-1728115200-1728147600@kotaconnections.net
SUMMARY:Gopher Football Game
DESCRIPTION:Kota Connections has 4 tickets to the Gopher Football game today. 1 Staff will bring 3 clients to the game. Tickets are 100 which\, includes parking\, and spending money is suggested as well. \n\n\nThis Game doesn’t have a time yet but will be updated.
URL:https://kotaconnections.net/activity/gopher-football-game-6/
LOCATION:TCF Bank Stadium
END:VEVENT
BEGIN:VEVENT
DTSTART;TZID=UTC:20241005T083000
DTEND;TZID=UTC:20241005T120000
DTSTAMP:20260421T225931
CREATED:20240917T195053Z
LAST-MODIFIED:20240917T195100Z
UID:513465-1728117000-1728129600@kotaconnections.net
SUMMARY:BreakFast\, Severs\, PE Craft Fair
DESCRIPTION:Join the group for breakfast at McDonald’s before heading to Severs\, he the Project Explore Craft Fair at Valley Middle School. cost is $30 + spending
URL:https://kotaconnections.net/activity/breakfast-severs-pe-craft-fair/
LOCATION:Apple Valley Middle School\, 900 Garden View Drive\, Apple Valley\, Minnesota\, 55124
END:VEVENT
BEGIN:VEVENT
DTSTART;TZID=UTC:20241007T183000
DTEND;TZID=UTC:20241007T193000
DTSTAMP:20260421T225931
CREATED:20240917T195758Z
LAST-MODIFIED:20240917T195815Z
UID:513469-1728325800-1728329400@kotaconnections.net
SUMMARY:Perkins Pie + Beverage *Lyft Only*
DESCRIPTION:Join us at Perkins for Pie and a Beverage. This activity is Lyft only to help clients practice Lyft. Staff will be at Perkins to help clients order Lyft rides home. Cost is $15 for pie and a beverage at Perkins.
URL:https://kotaconnections.net/activity/perkins-pie-beverage-lyft-only/
LOCATION:Perkins
END:VEVENT
BEGIN:VEVENT
DTSTART;TZID=UTC:20241008T183000
DTEND;TZID=UTC:20241008T210000
DTSTAMP:20260421T225931
CREATED:20240917T195910Z
LAST-MODIFIED:20240917T195911Z
UID:513473-1728412200-1728421200@kotaconnections.net
SUMMARY:Movie Night
DESCRIPTION:Kota Connections will be going to a Movie Theater tonight with a group of interested individuals. The theater will be chosen closer to the date of the event. Movie choices will be given out the day prior the event. Ticket price is $15 and then extra money is suggested for snacks or beverages.
URL:https://kotaconnections.net/activity/movie-night-39/
LOCATION:MN
END:VEVENT
BEGIN:VEVENT
DTSTART;TZID=UTC:20241009T183000
DTEND;TZID=UTC:20241009T193000
DTSTAMP:20260421T225931
CREATED:20240917T200013Z
LAST-MODIFIED:20240917T200013Z
UID:513475-1728498600-1728502200@kotaconnections.net
SUMMARY:Virtual Bingo
DESCRIPTION:Kota Connections will be hosting a Virtual Bingo event tonight. There will be 1 offerings of a Virtual bingo this month. The $5 cost will go towards the winners of each game and will be sent out as a bill after the event. Any winnings that individuals win\, will first go towards the $5 activity cost before being paid out\, unless the $5 is paid before the event.
URL:https://kotaconnections.net/activity/virtual-bingo-107/
LOCATION:Zoom
END:VEVENT
BEGIN:VEVENT
DTSTART;TZID=UTC:20241010T183000
DTEND;TZID=UTC:20241010T200000
DTSTAMP:20260421T225931
CREATED:20240917T200313Z
LAST-MODIFIED:20240917T200352Z
UID:513477-1728585000-1728590400@kotaconnections.net
SUMMARY:MOA Mini Golf
DESCRIPTION:Join Kota Connections at the Mall of America to do a round of mini golf! Cost is $15.
URL:https://kotaconnections.net/activity/moa-mini-golf-2/
LOCATION:Mall of America\, 60 E Broadway\, Bloomington\, MN\, 55425\, United States
END:VEVENT
BEGIN:VEVENT
DTSTART;TZID=UTC:20241010T190000
DTEND;TZID=UTC:20241010T213000
DTSTAMP:20260421T225931
CREATED:20240917T200528Z
LAST-MODIFIED:20240917T200528Z
UID:513479-1728586800-1728595800@kotaconnections.net
SUMMARY:MN Wild
DESCRIPTION:Kota Connections has 4 tickets\, 1 staff and 3 clients\, to attend the MN Wild game today. **Xcel Energy Center does not accept cash\, so a card is required for concessions purchases.**
URL:https://kotaconnections.net/activity/mn-wild-47/
LOCATION:MN
END:VEVENT
BEGIN:VEVENT
DTSTART;TZID=UTC:20241012T083000
DTEND;TZID=UTC:20241012T100000
DTSTAMP:20260421T225931
CREATED:20240917T200739Z
LAST-MODIFIED:20240917T200739Z
UID:513481-1728721800-1728727200@kotaconnections.net
SUMMARY:Target Shop + Donut Star
DESCRIPTION:Come get your Target needs with your peers on this event. Cost of this event is $10 for a donut and / or a beverage at Donut Star and then extra money for Shopping.
URL:https://kotaconnections.net/activity/target-shop-donut-star/
LOCATION:Target Cedar AV
END:VEVENT
BEGIN:VEVENT
DTSTART;TZID=UTC:20241012T190000
DTEND;TZID=UTC:20241012T213000
DTSTAMP:20260421T225931
CREATED:20240917T200838Z
LAST-MODIFIED:20240917T200838Z
UID:513483-1728759600-1728768600@kotaconnections.net
SUMMARY:MN Wild
DESCRIPTION:Kota Connections has 4 tickets\, 1 staff and 3 clients\, to attend the MN Wild game today. **Xcel Energy Center does not accept cash\, so a card is required for concessions purchases.**
URL:https://kotaconnections.net/activity/mn-wild-48/
LOCATION:Xcel Center\, 199 W Kellogg Blvd\, St. Paul\, MN\, 55102\, United States
END:VEVENT
BEGIN:VEVENT
DTSTART;TZID=UTC:20241014T183000
DTEND;TZID=UTC:20241014T200000
DTSTAMP:20260421T225931
CREATED:20240917T201049Z
LAST-MODIFIED:20240917T201049Z
UID:513485-1728930600-1728936000@kotaconnections.net
SUMMARY:Open Office
DESCRIPTION:Come to the office in Lakeville. Come play Videogames\, card games\, pool\, darts\, or a bunch of other games with your peers. Snacks available for purchase.
URL:https://kotaconnections.net/activity/open-office-13/
LOCATION:Kota Connections\, 8500 210th St W Suite 148\, Lakeville\, MN\, 55044\, United States
END:VEVENT
BEGIN:VEVENT
DTSTART;TZID=UTC:20241015T183000
DTEND;TZID=UTC:20241015T200000
DTSTAMP:20260421T225931
CREATED:20240917T201116Z
LAST-MODIFIED:20240917T201116Z
UID:513487-1729017000-1729022400@kotaconnections.net
SUMMARY:Open Office
DESCRIPTION:Come to the office in Lakeville. Come play Videogames\, card games\, pool\, darts\, or a bunch of other games with your peers. Snacks available for purchase.
URL:https://kotaconnections.net/activity/open-office-14/
LOCATION:Kota Connections\, 8500 210th St W Suite 148\, Lakeville\, MN\, 55044\, United States
END:VEVENT
BEGIN:VEVENT
DTSTART;TZID=UTC:20241016T183000
DTEND;TZID=UTC:20241016T200000
DTSTAMP:20260421T225931
CREATED:20240918T192537Z
LAST-MODIFIED:20240918T192537Z
UID:513489-1729103400-1729108800@kotaconnections.net
SUMMARY:KC Meeting Lakeville office
DESCRIPTION:Come to the office in Lakeville for the KC Meeting. November activity calendars and sign up cards will be handed out tonight. If you have any ideas for future activities\, this would be a great place to bring that up.
URL:https://kotaconnections.net/activity/kc-meeting-lakeville-office/
LOCATION:Kota Connections\, 8500 210th St W Suite 148\, Lakeville\, MN\, 55044\, United States
END:VEVENT
BEGIN:VEVENT
DTSTART;TZID=UTC:20241017T183000
DTEND;TZID=UTC:20241017T200000
DTSTAMP:20260421T225931
CREATED:20240918T192610Z
LAST-MODIFIED:20240918T192610Z
UID:513491-1729189800-1729195200@kotaconnections.net
SUMMARY:KC Meeting Lakeville Office
DESCRIPTION:Come to the office in Lakeville for the KC Meeting. November activity calendars and sign up cards will be handed out tonight. If you have any ideas for future activities\, this would be a great place to bring that up.
URL:https://kotaconnections.net/activity/kc-meeting-lakeville-office-2/
LOCATION:MN
END:VEVENT
BEGIN:VEVENT
DTSTART;TZID=UTC:20241018T110000
DTEND;TZID=UTC:20241018T120000
DTSTAMP:20260421T225931
CREATED:20240918T193011Z
LAST-MODIFIED:20240918T193011Z
UID:513493-1729249200-1729252800@kotaconnections.net
SUMMARY:PE Lunch Pizza Ranch Lakeville
DESCRIPTION:Join Kota Connections at the Project Explore event for lunch at the Pizza Ranch in Lakeville. Cost is $20 for the lunch.
URL:https://kotaconnections.net/activity/pe-lunch-pizza-ranch-lakeville/
LOCATION:Pizza Ranch\, 16995 Kenyon Ave\, Lakeville\, MN 55044
END:VEVENT
END:VCALENDAR