BEGIN:VCALENDAR
VERSION:2.0
PRODID:-//Kota Connections, Inc. - ECPv6.8.2.1//NONSGML v1.0//EN
CALSCALE:GREGORIAN
METHOD:PUBLISH
X-WR-CALNAME:Kota Connections, Inc.
X-ORIGINAL-URL:https://kotaconnections.net
X-WR-CALDESC:Events for Kota Connections, Inc.
REFRESH-INTERVAL;VALUE=DURATION:PT1H
X-Robots-Tag:noindex
X-PUBLISHED-TTL:PT1H
BEGIN:VTIMEZONE
TZID:UTC
BEGIN:STANDARD
TZOFFSETFROM:+0000
TZOFFSETTO:+0000
TZNAME:UTC
DTSTART:20240101T000000
END:STANDARD
END:VTIMEZONE
BEGIN:VEVENT
DTSTART;TZID=UTC:20240806T170000
DTEND;TZID=UTC:20240806T210000
DTSTAMP:20260422T032618
CREATED:20240805T163155Z
LAST-MODIFIED:20240805T163155Z
UID:513366-1722963600-1722978000@kotaconnections.net
SUMMARY:Championship Softball Picnic
DESCRIPTION:Come down to Aronson Park in Lakeville to celebrate the last night of the softball season. KFC dinner will be offered for $10 a meal. There will be limited meals available on the night of softball.
URL:https://kotaconnections.net/activity/championship-softball-picnic-3/
LOCATION:Aronson Park\, 8250 202nd St W\, Lakeville\, MN\, 55044\, United States
END:VEVENT
BEGIN:VEVENT
DTSTART;TZID=UTC:20240807T183000
DTEND;TZID=UTC:20240807T200000
DTSTAMP:20260422T032618
CREATED:20240805T163315Z
LAST-MODIFIED:20240805T163315Z
UID:513368-1723055400-1723060800@kotaconnections.net
SUMMARY:Open Office
DESCRIPTION:Come to the office in Lakeville for the KC Meeting. April activity calendars and sign up cards will be handed out tonight. If you have any ideas for future activities\, this would be a great place to bring that up. Come play Videogames\, card games\, pool\, darts\, or a bunch of other games with your peers. Snack available for $5 or snack card
URL:https://kotaconnections.net/activity/open-office-11/
LOCATION:Kota Connections\, 8500 210th St W Suite 148\, Lakeville\, MN\, 55044\, United States
END:VEVENT
BEGIN:VEVENT
DTSTART;TZID=UTC:20240808T110000
DTEND;TZID=UTC:20240808T120000
DTSTAMP:20260422T032618
CREATED:20240805T163603Z
LAST-MODIFIED:20240805T163603Z
UID:513372-1723114800-1723118400@kotaconnections.net
SUMMARY:PE Lunch Bunch Culver's
DESCRIPTION:Join Kota Connections and  Project Explore for Lunch at the Culver’s in Apple Valley. Bring $15 for food.
URL:https://kotaconnections.net/activity/pe-lunch-bunch-culvers/
LOCATION:Culver’s\, MN\, United States
END:VEVENT
BEGIN:VEVENT
DTSTART;TZID=UTC:20240808T180000
DTEND;TZID=UTC:20240808T220000
DTSTAMP:20260422T032618
CREATED:20240805T163439Z
LAST-MODIFIED:20240805T163439Z
UID:513370-1723140000-1723154400@kotaconnections.net
SUMMARY:Dakota County Fair + Demo Derby
DESCRIPTION:Kota Connections will be taking clients to the Dakota County fair and Demo Derby tonight. The cost is for parking and the demo derby as there is no entrance fee to get in. Extra money is suggested for food and other purchases that could be made.
URL:https://kotaconnections.net/activity/dakota-county-fair-demo-derby-3/
LOCATION:Dakota County Fairgrounds\, 4008 220th St W\, Farmington\, MN\, 55024\, United States
END:VEVENT
BEGIN:VEVENT
DTSTART;TZID=UTC:20240809T190000
DTEND;TZID=UTC:20240809T220000
DTSTAMP:20260422T032618
CREATED:20240723T222334Z
LAST-MODIFIED:20240723T222334Z
UID:513351-1723230000-1723240800@kotaconnections.net
SUMMARY:MN Twins
DESCRIPTION:Kota Connections has 4 tickets\, 1 staff and 3 clients\, to attend the MN Twins game today. **Target field does not accept cash\, so a card is required for concessions purchases.**
URL:https://kotaconnections.net/activity/mn-twins-75/
LOCATION:Target Field\, 1 Twins Way\, Minneapolis\, MN\, 55403\, United States
END:VEVENT
BEGIN:VEVENT
DTSTART;TZID=UTC:20240810T083000
DTEND;TZID=UTC:20240810T100000
DTSTAMP:20260422T032618
CREATED:20240805T163904Z
LAST-MODIFIED:20240805T163904Z
UID:513374-1723278600-1723284000@kotaconnections.net
SUMMARY:Target Shop and Coffee at Constellation Coffee
DESCRIPTION:Come get your Target needs with your peers on this event. Then go to Constellation Coffee. Cost of this event is $15 for Coffee and then extra money for Shopping.
URL:https://kotaconnections.net/activity/target-shop-and-coffee-at-constellation-coffee/
LOCATION:Target Cedar AV
END:VEVENT
BEGIN:VEVENT
DTSTART;TZID=UTC:20240811T130000
DTEND;TZID=UTC:20240811T160000
DTSTAMP:20260422T032618
CREATED:20240723T222409Z
LAST-MODIFIED:20240723T222409Z
UID:513353-1723381200-1723392000@kotaconnections.net
SUMMARY:MN Twins
DESCRIPTION:Kota Connections has 4 tickets\, 1 staff and 3 clients\, to attend the MN Twins game today. **Target field does not accept cash\, so a card is required for concessions purchases.**
URL:https://kotaconnections.net/activity/mn-twins-76/
LOCATION:Target Field\, 1 Twins Way\, Minneapolis\, MN\, 55403\, United States
END:VEVENT
BEGIN:VEVENT
DTSTART;TZID=UTC:20240812T183000
DTEND;TZID=UTC:20240812T200000
DTSTAMP:20260422T032618
CREATED:20240805T164134Z
LAST-MODIFIED:20240805T164134Z
UID:513376-1723487400-1723492800@kotaconnections.net
SUMMARY:Bowling @ Bogarts
DESCRIPTION:Join the group at the Bowling alley tonight for a few games.  Cost is $10 for pizza\, and pop. $10 for bowling **There will be limited space available on this event as Kota Connections will only have a few lanes.**
URL:https://kotaconnections.net/activity/bowling-bogarts-18/
LOCATION:Bogarts\, 14917 Garrett Avenue Apple Valley\, Minnesota 55124
END:VEVENT
BEGIN:VEVENT
DTSTART;TZID=UTC:20240813T183000
DTEND;TZID=UTC:20240813T203000
DTSTAMP:20260422T032618
CREATED:20240805T164440Z
LAST-MODIFIED:20240805T164440Z
UID:513380-1723573800-1723581000@kotaconnections.net
SUMMARY:KC Movie Night
DESCRIPTION:Come to the Kota Connections for an outdoor movie if the weather permits. If the weather does not permit\, the movie will be inside. Snacks will be available for purchase.
URL:https://kotaconnections.net/activity/kc-movie-night-8/
LOCATION:Kota Connections\, 8500 210th St W Suite 148\, Lakeville\, MN\, 55044\, United States
END:VEVENT
BEGIN:VEVENT
DTSTART;TZID=UTC:20240813T183000
DTEND;TZID=UTC:20240813T213000
DTSTAMP:20260422T032618
CREATED:20240723T222605Z
LAST-MODIFIED:20240723T222605Z
UID:513355-1723573800-1723584600@kotaconnections.net
SUMMARY:MN Twins
DESCRIPTION:Kota Connections has 4 tickets\, 1 staff and 3 clients\, to attend the MN Twins game today. **Target field does not accept cash\, so a card is required for concessions purchases.**
URL:https://kotaconnections.net/activity/mn-twins-77/
LOCATION:Target Field\, 1 Twins Way\, Minneapolis\, MN\, 55403\, United States
END:VEVENT
BEGIN:VEVENT
DTSTART;TZID=UTC:20240814T173000
DTEND;TZID=UTC:20240814T200000
DTSTAMP:20260422T032618
CREATED:20240806T161532Z
LAST-MODIFIED:20240806T161532Z
UID:513382-1723656600-1723665600@kotaconnections.net
SUMMARY:Red Barn Pizza
DESCRIPTION:A group will be heading to Northfield to go to the Red Barn Pizza farm for a dinner of pizza. Pizza’s will most likely be shared by 2 people each.
URL:https://kotaconnections.net/activity/red-barn-pizza-9/
LOCATION:Red Barn Farm\, 110th St E\, Northfield\, MN 55057
END:VEVENT
BEGIN:VEVENT
DTSTART;TZID=UTC:20240815T170000
DTEND;TZID=UTC:20240815T190000
DTSTAMP:20260422T032618
CREATED:20240806T162209Z
LAST-MODIFIED:20240806T162209Z
UID:513385-1723741200-1723748400@kotaconnections.net
SUMMARY:Taste of Lakeville
DESCRIPTION:Downtown Lakeville will have a bunch of different food vendors giving out samplings of food and alcohol. This is a 21+ event and an ID or license is required.
URL:https://kotaconnections.net/activity/taste-of-lakeville-4/
LOCATION:Downtown Lakeville\, Holyoke Avenue\, Lakeville\, 55044\, United States
END:VEVENT
BEGIN:VEVENT
DTSTART;TZID=UTC:20240816T180000
DTEND;TZID=UTC:20240816T210000
DTSTAMP:20260422T032618
CREATED:20240806T162312Z
LAST-MODIFIED:20240806T162312Z
UID:513387-1723831200-1723842000@kotaconnections.net
SUMMARY:ValleyFair
DESCRIPTION:Take the day and head out to Valleyfair to go on some rides or just walk around the park. **Valleyfair does not accept cash. Card is required to make purchases.***
URL:https://kotaconnections.net/activity/valleyfair-15/
LOCATION:Valleyfair\, 1 Walley Fair Drive\, Shakopee\, MN\, 55379\, United States
END:VEVENT
BEGIN:VEVENT
DTSTART;TZID=UTC:20240817T110000
DTEND;TZID=UTC:20240817T160000
DTSTAMP:20260422T032618
CREATED:20240806T162630Z
LAST-MODIFIED:20240806T162630Z
UID:513389-1723892400-1723910400@kotaconnections.net
SUMMARY:Wild Mtn\, Waterpark\, Go-Carts\, Alpine Slide at Taylor Falls
DESCRIPTION:Join us at Taylor Falls for a a fun day of waterparks  go-karts\, and an Alpine Slide\, and the Wild Mtn. Cost is $75 for the day.
URL:https://kotaconnections.net/activity/wild-mtn-waterpark-go-carts-alpine-slide-at-taylor-falls/
END:VEVENT
BEGIN:VEVENT
DTSTART;TZID=UTC:20240819T183000
DTEND;TZID=UTC:20240819T203000
DTSTAMP:20260422T032618
CREATED:20240805T164235Z
LAST-MODIFIED:20240805T164235Z
UID:513378-1724092200-1724099400@kotaconnections.net
SUMMARY:Bowling @ Bogarts
DESCRIPTION:Join the group at the Bowling alley tonight for a few games.  Cost is $10 for pizza\, and pop. $10 for bowling.  **There will be limited space available on this event as Kota Connections will only have a few lanes.**
URL:https://kotaconnections.net/activity/bowling-bogarts-19/
END:VEVENT
BEGIN:VEVENT
DTSTART;TZID=UTC:20240820T180000
DTEND;TZID=UTC:20240820T200000
DTSTAMP:20260422T032618
CREATED:20240806T162907Z
LAST-MODIFIED:20240806T163010Z
UID:513391-1724176800-1724184000@kotaconnections.net
SUMMARY:KC Meeting at Farm
DESCRIPTION:Tonight’s KC Meeting will be at a client’s family farm. They have miniature horses\, bunnies\, and other things at the farm. The cost of this event is $5 or a Snack Card.
URL:https://kotaconnections.net/activity/kc-mtg-at-farm/
END:VEVENT
BEGIN:VEVENT
DTSTART;TZID=UTC:20240821T090000
DTEND;TZID=UTC:20240821T100000
DTSTAMP:20260422T032618
CREATED:20240806T163142Z
LAST-MODIFIED:20240806T163142Z
UID:513396-1724230800-1724234400@kotaconnections.net
SUMMARY:PE Coffee & Chat @ AV McDonald’s
DESCRIPTION:Join us with Project Explore for coffee and a chat at the Apple Valley McDonald’s. Cost for the activity is $15 buy what you want from McDonald’s for breakfast.
URL:https://kotaconnections.net/activity/pe-coffee-chat-av-mcdonalds-2/
END:VEVENT
BEGIN:VEVENT
DTSTART;TZID=UTC:20240821T180000
DTEND;TZID=UTC:20240821T200000
DTSTAMP:20260422T032618
CREATED:20240806T162940Z
LAST-MODIFIED:20240806T162940Z
UID:513393-1724263200-1724270400@kotaconnections.net
SUMMARY:KC Meeting at the Farm
DESCRIPTION:Tonight’s KC Meeting will be at a client’s family farm. They have miniature horses\, bunnies\, and other things at the farm. The cost of this event is $5 or a Snack Card.
URL:https://kotaconnections.net/activity/kc-meeting-at-the-farm-3/
END:VEVENT
BEGIN:VEVENT
DTSTART;TZID=UTC:20240822T180000
DTEND;TZID=UTC:20240822T200000
DTSTAMP:20260422T032618
CREATED:20240806T163421Z
LAST-MODIFIED:20240806T163421Z
UID:513398-1724349600-1724356800@kotaconnections.net
SUMMARY:MN State Fair Night
DESCRIPTION:Kota Connections will be taking individuals to the State Fair this evening. Cost if $18 to get in and extra money is suggested for any purchases at the fair. Kota Connections suggests $40 for this event.
URL:https://kotaconnections.net/activity/mn-state-fair-night/
END:VEVENT
BEGIN:VEVENT
DTSTART;TZID=UTC:20240823T190000
DTEND;TZID=UTC:20240823T220000
DTSTAMP:20260422T032618
CREATED:20240723T222751Z
LAST-MODIFIED:20240723T222751Z
UID:513357-1724439600-1724450400@kotaconnections.net
SUMMARY:MN Twins
DESCRIPTION:Kota Connections has 4 tickets\, 1 staff and 3 clients\, to attend the MN Twins game today. **Target field does not accept cash\, so a card is required for concessions purchases.**
URL:https://kotaconnections.net/activity/mn-twins-78/
LOCATION:Target Field\, 1 Twins Way\, Minneapolis\, MN\, 55403\, United States
END:VEVENT
BEGIN:VEVENT
DTSTART;TZID=UTC:20240825T130000
DTEND;TZID=UTC:20240825T160000
DTSTAMP:20260422T032618
CREATED:20240723T223012Z
LAST-MODIFIED:20240723T223012Z
UID:513359-1724590800-1724601600@kotaconnections.net
SUMMARY:MN Twins
DESCRIPTION:Kota Connections has 4 tickets\, 1 staff and 3 clients\, to attend the MN Twins game today. **Target field does not accept cash\, so a card is required for concessions purchases.**
URL:https://kotaconnections.net/activity/mn-twins-79/
LOCATION:Target Field\, 1 Twins Way\, Minneapolis\, MN\, 55403\, United States
END:VEVENT
BEGIN:VEVENT
DTSTART;TZID=UTC:20240825T180000
DTEND;TZID=UTC:20240825T210000
DTSTAMP:20260422T032618
CREATED:20240806T163929Z
LAST-MODIFIED:20240806T163929Z
UID:513400-1724608800-1724619600@kotaconnections.net
SUMMARY:Blake Shelton State Fair
DESCRIPTION:Come see Blake Shelton at the State fair. $150 includes the cost of the fair and the ticket. Plus money for food and drinks.
URL:https://kotaconnections.net/activity/blake-shelton-state-fair/
END:VEVENT
BEGIN:VEVENT
DTSTART;TZID=UTC:20240827T183000
DTEND;TZID=UTC:20240827T213000
DTSTAMP:20260422T032618
CREATED:20240806T164149Z
LAST-MODIFIED:20240806T164149Z
UID:513402-1724783400-1724794200@kotaconnections.net
SUMMARY:KC Softball Night MN Twins
DESCRIPTION:Tonight’s MN Twins game is an event put on by the KC Fund Softball League. Tickets have already been purchased and there are no more tickets available for this game.
URL:https://kotaconnections.net/activity/kc-softball-night-mn-twins/
LOCATION:Target Field\, 1 Twins Way\, Minneapolis\, MN\, 55403\, United States
END:VEVENT
BEGIN:VEVENT
DTSTART;TZID=UTC:20240828T183000
DTEND;TZID=UTC:20240828T200000
DTSTAMP:20260422T032618
CREATED:20240806T164359Z
LAST-MODIFIED:20240806T164359Z
UID:513404-1724869800-1724875200@kotaconnections.net
SUMMARY:Open Office
DESCRIPTION:Come to the office in Lakeville for the KC Meeting. April activity calendars and sign up cards will be handed out tonight. If you have any ideas for future activities\, this would be a great place to bring that up. Come play Videogames\, card games\, pool\, darts\, or a bunch of other games with your peers. Snack available for $5 or snack card
URL:https://kotaconnections.net/activity/open-office-12/
LOCATION:Kota Connections\, 8500 210th St W Suite 148\, Lakeville\, MN\, 55044\, United States
END:VEVENT
BEGIN:VEVENT
DTSTART;TZID=UTC:20240829T090000
DTEND;TZID=UTC:20240829T170000
DTSTAMP:20260422T032618
CREATED:20240806T164452Z
LAST-MODIFIED:20240806T164452Z
UID:513406-1724922000-1724950800@kotaconnections.net
SUMMARY:MN State Fair Day
DESCRIPTION:Kota Connections will be taking individuals to the State Fair during the day today. Cost is $18 to get in and extra money is suggested for any purchases at the fair. Kota Connections suggests $50 for this event.
URL:https://kotaconnections.net/activity/mn-state-fair-day/
LOCATION:MN State Fairgrounds\, 1265 Snelling Ave N\, St. Paul\, MN\, 55108\, United States
END:VEVENT
BEGIN:VEVENT
DTSTART;TZID=UTC:20240830T190000
DTEND;TZID=UTC:20240830T220000
DTSTAMP:20260422T032618
CREATED:20240723T223047Z
LAST-MODIFIED:20240723T223047Z
UID:513361-1725044400-1725055200@kotaconnections.net
SUMMARY:MN Twins
DESCRIPTION:Kota Connections has 4 tickets\, 1 staff and 3 clients\, to attend the MN Twins game today. **Target field does not accept cash\, so a card is required for concessions purchases.**
URL:https://kotaconnections.net/activity/mn-twins-80/
LOCATION:Target Field\, 1 Twins Way\, Minneapolis\, MN\, 55403\, United States
END:VEVENT
BEGIN:VEVENT
DTSTART;TZID=UTC:20240902T080000
DTEND;TZID=UTC:20240902T170000
DTSTAMP:20260422T032618
CREATED:20240828T144126Z
LAST-MODIFIED:20240828T144126Z
UID:513411-1725264000-1725296400@kotaconnections.net
SUMMARY:Labor Day *OFFICE CLOSED*
DESCRIPTION:Kota Connections is closed today in observance of Labor Day.
URL:https://kotaconnections.net/activity/labor-day-office-closed-4/
END:VEVENT
BEGIN:VEVENT
DTSTART;TZID=UTC:20240904T183000
DTEND;TZID=UTC:20240904T193000
DTSTAMP:20260422T032618
CREATED:20240828T144020Z
LAST-MODIFIED:20240828T144020Z
UID:513409-1725474600-1725478200@kotaconnections.net
SUMMARY:Virtual Bingo
DESCRIPTION:Kota Connections will be hosting a Virtual Bingo event tonight. There will be 1 offerings of a Virtual bingo this month. The $5 cost will go towards the winners of each game and will be sent out as a bill after the event. Any winnings that individuals win\, will first go towards the $5 activity cost before being paid out\, unless the $5 is paid before the event.
URL:https://kotaconnections.net/activity/virtual-bingo-105/
LOCATION:Zoom
END:VEVENT
BEGIN:VEVENT
DTSTART;TZID=UTC:20240907T110000
DTEND;TZID=UTC:20240907T140000
DTSTAMP:20260422T032618
CREATED:20240828T144232Z
LAST-MODIFIED:20240828T144419Z
UID:513413-1725706800-1725717600@kotaconnections.net
SUMMARY:Gopher Football Game
DESCRIPTION:Kota Connections has 4 tickets to the Gopher Football game today. 1 Staff will bring 3 clients to the game. Tickets are 75 which\, includes parking\, and spending money is suggested as well.
URL:https://kotaconnections.net/activity/gopher-football-game-5/
LOCATION:TCF Bank Stadium
END:VEVENT
BEGIN:VEVENT
DTSTART;TZID=UTC:20240910T183000
DTEND;TZID=UTC:20240910T213000
DTSTAMP:20260422T032618
CREATED:20240828T144550Z
LAST-MODIFIED:20240828T144550Z
UID:513416-1725993000-1726003800@kotaconnections.net
SUMMARY:MN Twins
DESCRIPTION:Kota Connections has 4 tickets\, 1 staff and 3 clients\, to attend the MN Twins game today. **Target field does not accept cash\, so a card is required for concessions purchases.**
URL:https://kotaconnections.net/activity/mn-twins-81/
LOCATION:Target Field\, 1 Twins Way\, Minneapolis\, MN\, 55403\, United States
END:VEVENT
END:VCALENDAR