BEGIN:VCALENDAR
VERSION:2.0
PRODID:-//Kota Connections, Inc. - ECPv6.8.2.1//NONSGML v1.0//EN
CALSCALE:GREGORIAN
METHOD:PUBLISH
X-WR-CALNAME:Kota Connections, Inc.
X-ORIGINAL-URL:https://kotaconnections.net
X-WR-CALDESC:Events for Kota Connections, Inc.
REFRESH-INTERVAL;VALUE=DURATION:PT1H
X-Robots-Tag:noindex
X-PUBLISHED-TTL:PT1H
BEGIN:VTIMEZONE
TZID:UTC
BEGIN:STANDARD
TZOFFSETFROM:+0000
TZOFFSETTO:+0000
TZNAME:UTC
DTSTART:20240101T000000
END:STANDARD
END:VTIMEZONE
BEGIN:VEVENT
DTSTART;TZID=UTC:20240516T120000
DTEND;TZID=UTC:20240516T150000
DTSTAMP:20260423T212125
CREATED:20240503T195514Z
LAST-MODIFIED:20240503T195514Z
UID:513175-1715860800-1715871600@kotaconnections.net
SUMMARY:MN Twins
DESCRIPTION:Kota Connections has 4 tickets\, 1 staff and 3 clients\, to attend the MN Twins game today. **Target field does not accept cash\, so a card is required for concessions purchases.**
URL:https://kotaconnections.net/activity/mn-twins-63/
LOCATION:Target Field\, 1 Twins Way\, Minneapolis\, MN\, 55403\, United States
END:VEVENT
BEGIN:VEVENT
DTSTART;TZID=UTC:20240516T183000
DTEND;TZID=UTC:20240516T203000
DTSTAMP:20260423T212125
CREATED:20240503T201753Z
LAST-MODIFIED:20240503T201753Z
UID:513193-1715884200-1715891400@kotaconnections.net
SUMMARY:KC Meeting Dave & Busters Games & Snack
DESCRIPTION:Join the group at Dave and Busters to play some arcade games and get a snack. Cost of the event is $15 for food plus extra spending money for game cards.
URL:https://kotaconnections.net/activity/kc-meeting-dave-busters-games-snack-2/
LOCATION:Dave & Busters\, MN\, United States
END:VEVENT
BEGIN:VEVENT
DTSTART;TZID=UTC:20240517T090000
DTEND;TZID=UTC:20240517T160000
DTSTAMP:20260423T212125
CREATED:20240503T201915Z
LAST-MODIFIED:20240503T201915Z
UID:513195-1715936400-1715961600@kotaconnections.net
SUMMARY:KC Garage Sale *Not an Activity*
DESCRIPTION:KC Garage Sale at the Lakeville office. *Not an Activity*
URL:https://kotaconnections.net/activity/kc-garage-sale-not-an-activity/
LOCATION:Kota Connections\, 8500 210th St W Suite 148\, Lakeville\, MN\, 55044\, United States
END:VEVENT
BEGIN:VEVENT
DTSTART;TZID=UTC:20240518T120000
DTEND;TZID=UTC:20240518T160000
DTSTAMP:20260423T212125
CREATED:20240503T202010Z
LAST-MODIFIED:20240503T202022Z
UID:513197-1716033600-1716048000@kotaconnections.net
SUMMARY:ValleyFair
DESCRIPTION:Take the day and head out to Valleyfair to go on some rides or just walk around the park. **Valleyfair does not accept cash. Card is required to make purchases.***
URL:https://kotaconnections.net/activity/valleyfair-13/
LOCATION:Valleyfair\, 1 Walley Fair Drive\, Shakopee\, MN\, 55379\, United States
END:VEVENT
BEGIN:VEVENT
DTSTART;TZID=UTC:20240520T180000
DTEND;TZID=UTC:20240520T203000
DTSTAMP:20260423T212125
CREATED:20240503T194158Z
LAST-MODIFIED:20240503T194158Z
UID:513167-1716228000-1716237000@kotaconnections.net
SUMMARY:KC Bingo at the Office
DESCRIPTION:Join us for Bingo at the office! Have fun playing bingo with your peers and enjoy a snack at the office! *snacks available for purchase*
URL:https://kotaconnections.net/activity/kc-bingo-at-the-office-2/
LOCATION:Kota Connections\, 8500 210th St W Suite 148\, Lakeville\, MN\, 55044\, United States
END:VEVENT
BEGIN:VEVENT
DTSTART;TZID=UTC:20240521T180000
DTEND;TZID=UTC:20240521T203000
DTSTAMP:20260423T212125
CREATED:20240503T200314Z
LAST-MODIFIED:20240503T200425Z
UID:513181-1716314400-1716323400@kotaconnections.net
SUMMARY:KC Softball Games
DESCRIPTION:Spring is here and Softball Games will be held tonight at Aronson Park in Lakeville. *Weather Pending*
URL:https://kotaconnections.net/activity/kc-softball-games-3/
LOCATION:Aronson Park\, 8250 202nd St W\, Lakeville\, MN\, 55044\, United States
END:VEVENT
BEGIN:VEVENT
DTSTART;TZID=UTC:20240522T183000
DTEND;TZID=UTC:20240522T193000
DTSTAMP:20260423T212125
CREATED:20240503T200720Z
LAST-MODIFIED:20240503T200720Z
UID:513188-1716402600-1716406200@kotaconnections.net
SUMMARY:Virtual Bingo
DESCRIPTION:Kota Connections will be hosting a Virtual Bingo event tonight. There will be 2 offerings of a Virtual bingo this month and you CAN attend one or both if you are interested. The $5 cost will go towards the winners of each game and will be sent out as a bill after the event. Any winnings that individuals win\, will first go towards the $5 activity cost before being paid out\, unless the $5 is paid before the event.
URL:https://kotaconnections.net/activity/virtual-bingo-100/
LOCATION:Zoom
END:VEVENT
BEGIN:VEVENT
DTSTART;TZID=UTC:20240523T180000
DTEND;TZID=UTC:20240523T200000
DTSTAMP:20260423T212125
CREATED:20240503T202313Z
LAST-MODIFIED:20240503T202508Z
UID:513200-1716487200-1716494400@kotaconnections.net
SUMMARY:King Park Mini Golf + Dairy Queen
DESCRIPTION:Join us at King Park in Lakeville for some free mini golf and then Dairy Queen for Ice cream. * Bring putters and golf balls to play*
URL:https://kotaconnections.net/activity/king-park-mini-golf-dairy-queen/
LOCATION:Minnesota
END:VEVENT
BEGIN:VEVENT
DTSTART;TZID=UTC:20240528T180000
DTEND;TZID=UTC:20240528T203000
DTSTAMP:20260423T212125
CREATED:20240503T200406Z
LAST-MODIFIED:20240503T200406Z
UID:513183-1716919200-1716928200@kotaconnections.net
SUMMARY:KC Softball Games
DESCRIPTION:Spring is here and Softball Games will be held tonight at Aronson Park in Lakeville. *Weather Pending*
URL:https://kotaconnections.net/activity/kc-softball-games-4/
LOCATION:Aronson Park\, 8250 202nd St W\, Lakeville\, MN\, 55044\, United States
END:VEVENT
BEGIN:VEVENT
DTSTART;TZID=UTC:20240529T183000
DTEND;TZID=UTC:20240529T220000
DTSTAMP:20260423T212125
CREATED:20240503T195553Z
LAST-MODIFIED:20240503T195553Z
UID:513177-1717007400-1717020000@kotaconnections.net
SUMMARY:MN Twins
DESCRIPTION:Kota Connections has 4 tickets\, 1 staff and 3 clients\, to attend the MN Twins game today. **Target field does not accept cash\, so a card is required for concessions purchases.**
URL:https://kotaconnections.net/activity/mn-twins-64/
LOCATION:Target Field\, 1 Twins Way\, Minneapolis\, MN\, 55403\, United States
END:VEVENT
BEGIN:VEVENT
DTSTART;TZID=UTC:20240530T180000
DTEND;TZID=UTC:20240530T200000
DTSTAMP:20260423T212125
CREATED:20240503T202435Z
LAST-MODIFIED:20240503T202435Z
UID:513202-1717092000-1717099200@kotaconnections.net
SUMMARY:Dred Scott Mini Golf + Dairy Queen
DESCRIPTION:Join us at Dred Scott mini golf in Bloomington for mini gold and ice cream at Dairy Queen.
URL:https://kotaconnections.net/activity/dred-scott-mini-golf-dairy-queen/
LOCATION:Minnesota
END:VEVENT
BEGIN:VEVENT
DTSTART;TZID=UTC:20240601T110000
DTEND;TZID=UTC:20240601T130000
DTSTAMP:20260423T212125
CREATED:20240528T204703Z
LAST-MODIFIED:20240528T204703Z
UID:513206-1717239600-1717246800@kotaconnections.net
SUMMARY:Target Shop + Panera Lunch
DESCRIPTION:Come get your Target needs with your peers on this event. Then go to Panera Bread across the lot from Target for Lunch. Cost of this event is $20 for a lunch at Panera and then extra money for Shopping.
URL:https://kotaconnections.net/activity/target-shop-panera-lunch-2/
LOCATION:Target Cedar AV
END:VEVENT
BEGIN:VEVENT
DTSTART;TZID=UTC:20240602T180000
DTEND;TZID=UTC:20240602T203000
DTSTAMP:20260423T212125
CREATED:20240528T204927Z
LAST-MODIFIED:20240528T204927Z
UID:513208-1717351200-1717360200@kotaconnections.net
SUMMARY:MN Lynx
DESCRIPTION:Kota Connections will be having a group head to the MN Lynx game today. $55 is the ticket price. Cash is not accepted at Target Center and all purchased need to be made on a card.
URL:https://kotaconnections.net/activity/mn-lynx-4/
LOCATION:Minnesota
END:VEVENT
BEGIN:VEVENT
DTSTART;TZID=UTC:20240603T183000
DTEND;TZID=UTC:20240603T203000
DTSTAMP:20260423T212125
CREATED:20240528T205920Z
LAST-MODIFIED:20240528T205920Z
UID:513211-1717439400-1717446600@kotaconnections.net
SUMMARY:Bowling @ Bogarts
DESCRIPTION:Join the group at the Bowling alley tonight for a few games.  Cost is $20 for pizza and pop. **There will be limited space available on this event as Kota Connections will only have a few lanes.**
URL:https://kotaconnections.net/activity/bowling-bogarts-14/
LOCATION:Bogarts\, 14917 Garrett Avenue Apple Valley\, Minnesota 55124
END:VEVENT
BEGIN:VEVENT
DTSTART;TZID=UTC:20240604T180000
DTEND;TZID=UTC:20240604T203000
DTSTAMP:20260423T212125
CREATED:20240528T210210Z
LAST-MODIFIED:20240528T210359Z
UID:513218-1717524000-1717533000@kotaconnections.net
SUMMARY:KC Softball Games
DESCRIPTION:Spring is here and Softball Games will be held tonight at Aronson Park in Lakeville. *Weather Pending*
URL:https://kotaconnections.net/activity/kc-softball-games-5/
LOCATION:Aronson Park\, 8250 202nd St W\, Lakeville\, MN\, 55044\, United States
END:VEVENT
BEGIN:VEVENT
DTSTART;TZID=UTC:20240605T080000
DTEND;TZID=UTC:20240605T170000
DTSTAMP:20260423T212125
CREATED:20240528T211650Z
LAST-MODIFIED:20240528T211650Z
UID:513226-1717574400-1717606800@kotaconnections.net
SUMMARY:Wisconsin Dells Trip
DESCRIPTION:This is a Pre-Paid event. Kota Connections will be taking a group to Wisconsin Dells for a multiple night trip.
URL:https://kotaconnections.net/activity/wisconsin-dells-trip-3/
LOCATION:Minnesota
END:VEVENT
BEGIN:VEVENT
DTSTART;TZID=UTC:20240605T110000
DTEND;TZID=UTC:20240605T130000
DTSTAMP:20260423T212125
CREATED:20240528T212331Z
LAST-MODIFIED:20240528T212331Z
UID:513233-1717585200-1717592400@kotaconnections.net
SUMMARY:PE Lunch Bunch Pizza Ranch LV
DESCRIPTION:Join us with Project Explore for a lunch bunch at Pizza Ranch in Lakeville. Cost of the activity is $20 and starts at 11 am.
URL:https://kotaconnections.net/activity/pe-lunch-bunch-pizza-ranch-lv/
LOCATION:Pizza Ranch\, 16995 Kenyon Ave\, Lakeville\, MN 55044
END:VEVENT
BEGIN:VEVENT
DTSTART;TZID=UTC:20240606T080000
DTEND;TZID=UTC:20240606T170000
DTSTAMP:20260423T212125
CREATED:20240528T211713Z
LAST-MODIFIED:20240528T211713Z
UID:513228-1717660800-1717693200@kotaconnections.net
SUMMARY:Wisconsin Dells Trip
DESCRIPTION:This is a Pre-Paid event. Kota Connections will be taking a group to Wisconsin Dells for a multiple night trip.
URL:https://kotaconnections.net/activity/wisconsin-dells-trip-4/
LOCATION:Minnesota
END:VEVENT
BEGIN:VEVENT
DTSTART;TZID=UTC:20240607T080000
DTEND;TZID=UTC:20240607T170000
DTSTAMP:20260423T212125
CREATED:20240528T211738Z
LAST-MODIFIED:20240528T211755Z
UID:513230-1717747200-1717779600@kotaconnections.net
SUMMARY:Wisconsin Dells Trip
DESCRIPTION:This is a Pre-Paid event. Kota Connections will be taking a group to Wisconsin Dells for a multiple night trip.
URL:https://kotaconnections.net/activity/wisconsin-dells-3/
LOCATION:Minnesota
END:VEVENT
BEGIN:VEVENT
DTSTART;TZID=UTC:20240609T180000
DTEND;TZID=UTC:20240609T203000
DTSTAMP:20260423T212125
CREATED:20240528T212543Z
LAST-MODIFIED:20240528T212543Z
UID:513237-1717956000-1717965000@kotaconnections.net
SUMMARY:MN Lynx
DESCRIPTION:Kota Connections will be having a group head to the MN Lynx game today. $55 is the ticket price. Cash is not accepted at Target Center and all purchased need to be made on a card.
URL:https://kotaconnections.net/activity/mn-lynx-5/
LOCATION:Target Center\, 600 N 1st Ave\, Minneapolis\, MN\, 55403\, United States
END:VEVENT
BEGIN:VEVENT
DTSTART;TZID=UTC:20240610T183000
DTEND;TZID=UTC:20240610T203000
DTSTAMP:20260423T212125
CREATED:20240528T205959Z
LAST-MODIFIED:20240528T210119Z
UID:513214-1718044200-1718051400@kotaconnections.net
SUMMARY:Bowling @ Bogarts
DESCRIPTION:Join the group at the Bowling alley tonight for a few games.  Cost is $20 for pizza\, and pop. **There will be limited space available on this event as Kota Connections will only have a few lanes.**
URL:https://kotaconnections.net/activity/bowling-bogarts-15/
LOCATION:Bogarts\, 14917 Garrett Avenue Apple Valley\, Minnesota 55124
END:VEVENT
BEGIN:VEVENT
DTSTART;TZID=UTC:20240610T183000
DTEND;TZID=UTC:20240610T210000
DTSTAMP:20260423T212125
CREATED:20240529T185345Z
LAST-MODIFIED:20240529T185345Z
UID:513239-1718044200-1718053200@kotaconnections.net
SUMMARY:MN Twins
DESCRIPTION:Kota Connections has 4 tickets\, 1 staff and 3 clients\, to attend the MN Twins game today. **Target field does not accept cash\, so a card is required for concessions purchases.**
URL:https://kotaconnections.net/activity/mn-twins-65/
LOCATION:Target Field\, 1 Twins Way\, Minneapolis\, MN\, 55403\, United States
END:VEVENT
BEGIN:VEVENT
DTSTART;TZID=UTC:20240611T180000
DTEND;TZID=UTC:20240611T203000
DTSTAMP:20260423T212125
CREATED:20240528T210254Z
LAST-MODIFIED:20240528T210332Z
UID:513220-1718128800-1718137800@kotaconnections.net
SUMMARY:KC Softball Games
DESCRIPTION:Spring is here and Softball Games will be held tonight at Aronson Park in Lakeville. *Weather Pending*
URL:https://kotaconnections.net/activity/kc-softball-games-6/
LOCATION:Minnesota
END:VEVENT
BEGIN:VEVENT
DTSTART;TZID=UTC:20240612T120000
DTEND;TZID=UTC:20240612T150000
DTSTAMP:20260423T212125
CREATED:20240529T185451Z
LAST-MODIFIED:20240529T185451Z
UID:513241-1718193600-1718204400@kotaconnections.net
SUMMARY:MN Twins
DESCRIPTION:Kota Connections has 4 tickets\, 1 staff and 3 clients\, to attend the MN Twins game today. **Target field does not accept cash\, so a card is required for concessions purchases.**
URL:https://kotaconnections.net/activity/mn-twins-66/
LOCATION:Target Field\, 1 Twins Way\, Minneapolis\, MN\, 55403\, United States
END:VEVENT
BEGIN:VEVENT
DTSTART;TZID=UTC:20240612T183000
DTEND;TZID=UTC:20240612T203000
DTSTAMP:20260423T212125
CREATED:20240529T190531Z
LAST-MODIFIED:20240529T190531Z
UID:513249-1718217000-1718224200@kotaconnections.net
SUMMARY:Open Office
DESCRIPTION:Come to the office in Lakeville for the KC Meeting. April activity calendars and sign up cards will be handed out tonight. If you have any ideas for future activities\, this would be a great place to bring that up. Come play Videogames\, card games\, pool\, darts\, or a bunch of other games with your peers. Snack available for $5 or snack card
URL:https://kotaconnections.net/activity/open-office-8/
LOCATION:Kota Connections\, 8500 210th St W Suite 148\, Lakeville\, MN\, 55044\, United States
END:VEVENT
BEGIN:VEVENT
DTSTART;TZID=UTC:20240613T183000
DTEND;TZID=UTC:20240613T203000
DTSTAMP:20260423T212125
CREATED:20240529T190609Z
LAST-MODIFIED:20240529T190609Z
UID:513251-1718303400-1718310600@kotaconnections.net
SUMMARY:Open Office
DESCRIPTION:Come to the office in Lakeville for the KC Meeting. April activity calendars and sign up cards will be handed out tonight. If you have any ideas for future activities\, this would be a great place to bring that up. Come play Videogames\, card games\, pool\, darts\, or a bunch of other games with your peers. Snack available for $5 or snack card
URL:https://kotaconnections.net/activity/open-office-9/
LOCATION:Minnesota
END:VEVENT
BEGIN:VEVENT
DTSTART;TZID=UTC:20240614T190000
DTEND;TZID=UTC:20240614T220000
DTSTAMP:20260423T212125
CREATED:20240529T185534Z
LAST-MODIFIED:20240529T185534Z
UID:513243-1718391600-1718402400@kotaconnections.net
SUMMARY:MN Twins
DESCRIPTION:Kota Connections has 4 tickets\, 1 staff and 3 clients\, to attend the MN Twins game today. **Target field does not accept cash\, so a card is required for concessions purchases.**
URL:https://kotaconnections.net/activity/mn-twins-67/
LOCATION:Target Field\, 1 Twins Way\, Minneapolis\, MN\, 55403\, United States
END:VEVENT
BEGIN:VEVENT
DTSTART;TZID=UTC:20240616T130000
DTEND;TZID=UTC:20240616T160000
DTSTAMP:20260423T212125
CREATED:20240529T185731Z
LAST-MODIFIED:20240529T185731Z
UID:513245-1718542800-1718553600@kotaconnections.net
SUMMARY:MN Twins
DESCRIPTION:Kota Connections has 4 tickets\, 1 staff and 3 clients\, to attend the MN Twins game today. **Target field does not accept cash\, so a card is required for concessions purchases.**
URL:https://kotaconnections.net/activity/mn-twins-68/
LOCATION:Target Field\, 1 Twins Way\, Minneapolis\, MN\, 55403\, United States
END:VEVENT
BEGIN:VEVENT
DTSTART;TZID=UTC:20240617T180000
DTEND;TZID=UTC:20240617T203000
DTSTAMP:20260423T212125
CREATED:20240529T190705Z
LAST-MODIFIED:20240529T190705Z
UID:513253-1718647200-1718656200@kotaconnections.net
SUMMARY:MN Lynx
DESCRIPTION:Kota Connections will be having a group head to the MN Lynx game today. $55 is the ticket price. Cash is not accepted at Target Center and all purchased need to be made on a card.
URL:https://kotaconnections.net/activity/mn-lynx-6/
LOCATION:Target Center\, 600 N 1st Ave\, Minneapolis\, MN\, 55403\, United States
END:VEVENT
BEGIN:VEVENT
DTSTART;TZID=UTC:20240618T180000
DTEND;TZID=UTC:20240618T203000
DTSTAMP:20260423T212125
CREATED:20240528T211038Z
LAST-MODIFIED:20240528T211038Z
UID:513222-1718733600-1718742600@kotaconnections.net
SUMMARY:KC Softball Games
DESCRIPTION:Spring is here and Softball Games will be held tonight at Aronson Park in Lakeville. *Weather Pending*
URL:https://kotaconnections.net/activity/kc-softball-games-7/
LOCATION:Aronson Park\, 8250 202nd St W\, Lakeville\, MN\, 55044\, United States
END:VEVENT
END:VCALENDAR