BEGIN:VCALENDAR
VERSION:2.0
PRODID:-//Kota Connections, Inc. - ECPv6.8.2.1//NONSGML v1.0//EN
CALSCALE:GREGORIAN
METHOD:PUBLISH
X-WR-CALNAME:Kota Connections, Inc.
X-ORIGINAL-URL:https://kotaconnections.net
X-WR-CALDESC:Events for Kota Connections, Inc.
REFRESH-INTERVAL;VALUE=DURATION:PT1H
X-Robots-Tag:noindex
X-PUBLISHED-TTL:PT1H
BEGIN:VTIMEZONE
TZID:UTC
BEGIN:STANDARD
TZOFFSETFROM:+0000
TZOFFSETTO:+0000
TZNAME:UTC
DTSTART:20210101T000000
END:STANDARD
END:VTIMEZONE
BEGIN:VEVENT
DTSTART;TZID=UTC:20211210T183000
DTEND;TZID=UTC:20211210T210000
DTSTAMP:20260423T164015
CREATED:20211208T025911Z
LAST-MODIFIED:20211208T025913Z
UID:511621-1639161000-1639170000@kotaconnections.net
SUMMARY:Project Explore Holiday Dance
DESCRIPTION:Attend the Project Explore Holiday Dance with Kota Connections. Please sign up and use Lyft or your own transportation if possible. If this is a popular event\, we may run out of spots in staff vehicles.
URL:https://kotaconnections.net/activity/project-explore-holiday-dance/
LOCATION:Apple Valley Middle School\, 900 Garden View Drive\, Apple Valley\, Minnesota\, 55124
END:VEVENT
BEGIN:VEVENT
DTSTART;TZID=UTC:20211209T000000
DTEND;TZID=UTC:20211210T235959
DTSTAMP:20260423T164015
CREATED:20211208T025729Z
LAST-MODIFIED:20211208T025730Z
UID:511618-1639008000-1639180799@kotaconnections.net
SUMMARY:Bentleyville Trip
DESCRIPTION:Join a small group in heading ton Duluth over night for a visit to the Bentleyville Christmas Light display. *Pre-Registered and not taking any more clients at this time.*
URL:https://kotaconnections.net/activity/bentleyville-trip/
END:VEVENT
BEGIN:VEVENT
DTSTART;TZID=UTC:20211208T190000
DTEND;TZID=UTC:20211208T213000
DTSTAMP:20260423T164015
CREATED:20211208T024517Z
LAST-MODIFIED:20211208T024518Z
UID:511588-1638990000-1638999000@kotaconnections.net
SUMMARY:MN Timberwolves vs. Utah Jazz
DESCRIPTION:Timberwolves take on the Utah Jazz
URL:https://kotaconnections.net/activity/mn-timberwolves-vs-utah-jazz/
LOCATION:Target Center\, 600 N 1st Ave\, Minneapolis\, MN\, 55403\, United States
END:VEVENT
BEGIN:VEVENT
DTSTART;TZID=UTC:20211207T180000
DTEND;TZID=UTC:20211207T203000
DTSTAMP:20260423T164015
CREATED:20211208T025557Z
LAST-MODIFIED:20211208T025559Z
UID:511615-1638900000-1638909000@kotaconnections.net
SUMMARY:Cooking Class: Christmas Cookies
DESCRIPTION:Come to the KC Office and join the group in making Christmas Cookies for the holiday season.
URL:https://kotaconnections.net/activity/cooking-class-christmas-cookies/
LOCATION:Kota Connections\, 8500 210th St W Suite 148\, Lakeville\, MN\, 55044\, United States
END:VEVENT
BEGIN:VEVENT
DTSTART;TZID=UTC:20211206T180000
DTEND;TZID=UTC:20211206T200000
DTSTAMP:20260423T164015
CREATED:20211208T025454Z
LAST-MODIFIED:20211208T025456Z
UID:511612-1638813600-1638820800@kotaconnections.net
SUMMARY:Christmas in Color at Valleyfair
DESCRIPTION:Take a ride around the Valleyfair parking lot to see their amazing Christmas light displays.
URL:https://kotaconnections.net/activity/christmas-in-color-at-valleyfair/
LOCATION:Valleyfair\, 1 Walley Fair Drive\, Shakopee\, MN\, 55379\, United States
END:VEVENT
BEGIN:VEVENT
DTSTART;TZID=UTC:20211204T180000
DTEND;TZID=UTC:20211204T203000
DTSTAMP:20260423T164015
CREATED:20211208T024342Z
LAST-MODIFIED:20211208T024343Z
UID:511585-1638640800-1638649800@kotaconnections.net
SUMMARY:MN Wild vs. Toronto Maple Leafs
DESCRIPTION:MN Wild take on the Toronto Maple Leafs
URL:https://kotaconnections.net/activity/mn-wild-vs-toronto-maple-leafs/
LOCATION:Xcel Center\, 199 W Kellogg Blvd\, St. Paul\, MN\, 55102\, United States
END:VEVENT
BEGIN:VEVENT
DTSTART;TZID=UTC:20211204T083000
DTEND;TZID=UTC:20211204T220000
DTSTAMP:20260423T164015
CREATED:20211208T025301Z
LAST-MODIFIED:20211208T025303Z
UID:511606-1638606600-1638655200@kotaconnections.net
SUMMARY:Fitness Walk @ MOA
DESCRIPTION:Join the group for the Fitness Walk at the Mall of America. Keep track of how far you have gone with your own device or a KC Fitbit.
URL:https://kotaconnections.net/activity/fitness-walk-moa/
LOCATION:Mall of America\, 60 E Broadway\, Bloomington\, MN\, 55425\, United States
END:VEVENT
BEGIN:VEVENT
DTSTART;TZID=UTC:20211203T000000
DTEND;TZID=UTC:20211203T235959
DTSTAMP:20260423T164015
CREATED:20211208T025352Z
LAST-MODIFIED:20211208T031826Z
UID:511609-1638489600-1638575999@kotaconnections.net
SUMMARY:***KC CHRISTMAS LUNCHEON RSVP'S DUE***
DESCRIPTION:RSVP’s for the Christmas Luncheon are due today
URL:https://kotaconnections.net/activity/kc-christmas-luncheon-rsvps-due/
END:VEVENT
BEGIN:VEVENT
DTSTART;TZID=UTC:20211202T190000
DTEND;TZID=UTC:20211202T213000
DTSTAMP:20260423T164015
CREATED:20211208T024236Z
LAST-MODIFIED:20211208T024237Z
UID:511582-1638471600-1638480600@kotaconnections.net
SUMMARY:MN Wild vs. New Jersey Devils
DESCRIPTION:MN Wild take on the New Jersey Devils
URL:https://kotaconnections.net/activity/mn-wild-vs-new-jersey-devils/
LOCATION:Xcel Center\, 199 W Kellogg Blvd\, St. Paul\, MN\, 55102\, United States
END:VEVENT
BEGIN:VEVENT
DTSTART;TZID=UTC:20211130T190000
DTEND;TZID=UTC:20211130T213000
DTSTAMP:20260423T164015
CREATED:20211023T023330Z
LAST-MODIFIED:20211023T023331Z
UID:511548-1638298800-1638307800@kotaconnections.net
SUMMARY:MN Wild vs. Coyotes
DESCRIPTION:The MN Wild take on the Coyotes tonight at the Xcel Center.
URL:https://kotaconnections.net/activity/mn-wild-vs-coyotes/
LOCATION:Xcel Center\, 199 W Kellogg Blvd\, St. Paul\, MN\, 55102\, United States
END:VEVENT
BEGIN:VEVENT
DTSTART;TZID=UTC:20211129T190000
DTEND;TZID=UTC:20211129T213000
DTSTAMP:20260423T164015
CREATED:20211023T024404Z
LAST-MODIFIED:20211023T024406Z
UID:511575-1638212400-1638221400@kotaconnections.net
SUMMARY:MN T-Wolves vs. Pacers
DESCRIPTION:The MN Timberwolves take on the Pacers tonight at the Target Center.
URL:https://kotaconnections.net/activity/mn-t-wolves-vs-pacers/
LOCATION:Target Center\, 600 N 1st Ave\, Minneapolis\, MN\, 55403\, United States
END:VEVENT
BEGIN:VEVENT
DTSTART;TZID=UTC:20211128T130000
DTEND;TZID=UTC:20211128T153000
DTSTAMP:20260423T164015
CREATED:20211023T023213Z
LAST-MODIFIED:20211023T023215Z
UID:511545-1638104400-1638113400@kotaconnections.net
SUMMARY:MN Wild vs. Lightning
DESCRIPTION:The MN Wild take on the Lightning tonight at the Xcel Center. This is the reigning Stanley Cup champions first trip to MN this year.
URL:https://kotaconnections.net/activity/mn-wild-vs-lightning/
LOCATION:Xcel Center\, 199 W Kellogg Blvd\, St. Paul\, MN\, 55102\, United States
END:VEVENT
BEGIN:VEVENT
DTSTART;TZID=UTC:20211126T143000
DTEND;TZID=UTC:20211126T170000
DTSTAMP:20260423T164015
CREATED:20211023T023048Z
LAST-MODIFIED:20211023T023049Z
UID:511542-1637937000-1637946000@kotaconnections.net
SUMMARY:MN Wild vs. the Jets
DESCRIPTION:The MN Wild take on the Jets tonight at the Xcel Center.
URL:https://kotaconnections.net/activity/mn-wild-vs-the-jets/
LOCATION:Xcel Center\, 199 W Kellogg Blvd\, St. Paul\, MN\, 55102\, United States
END:VEVENT
BEGIN:VEVENT
DTSTART;TZID=UTC:20211126T000000
DTEND;TZID=UTC:20211126T235959
DTSTAMP:20260423T164015
CREATED:20211022T022334Z
LAST-MODIFIED:20211023T025335Z
UID:511527-1637884800-1637971199@kotaconnections.net
SUMMARY:OFFICE CLOSED
DESCRIPTION:Kota Connections is closed today.
URL:https://kotaconnections.net/activity/office-closed-5/
END:VEVENT
BEGIN:VEVENT
DTSTART;TZID=UTC:20211125T000000
DTEND;TZID=UTC:20211125T235959
DTSTAMP:20260423T164015
CREATED:20211022T022300Z
LAST-MODIFIED:20211023T025116Z
UID:511524-1637798400-1637884799@kotaconnections.net
SUMMARY:OFFICE CLOSED
DESCRIPTION:Thanksgiving Day\, Kota Connections is closed this day.
URL:https://kotaconnections.net/activity/office-closed-4/
END:VEVENT
BEGIN:VEVENT
DTSTART;TZID=UTC:20211124T190000
DTEND;TZID=UTC:20211124T213000
DTSTAMP:20260423T164015
CREATED:20211023T024155Z
LAST-MODIFIED:20211023T024156Z
UID:511572-1637780400-1637789400@kotaconnections.net
SUMMARY:MN T-Wolves vs. Heat
DESCRIPTION:The MN Timberwolves take on the Heat tonight at the Target Center.
URL:https://kotaconnections.net/activity/mn-t-wolves-vs-heat/
LOCATION:Target Center\, 600 N 1st Ave\, Minneapolis\, MN\, 55403\, United States
END:VEVENT
BEGIN:VEVENT
DTSTART;TZID=UTC:20211123T180000
DTEND;TZID=UTC:20211123T200000
DTSTAMP:20260423T164015
CREATED:20211023T022133Z
LAST-MODIFIED:20211023T022135Z
UID:511520-1637690400-1637697600@kotaconnections.net
SUMMARY:Out to Dinner at Outback Steakhouse
DESCRIPTION:Join the group for Dinner at Outback Steakhouse in Burnsville.
URL:https://kotaconnections.net/activity/out-to-dinner-at-outback-steakhouse/
LOCATION:Outback Steakhouse\, 2034 County Rd 42 W\, Burnsville\, MN\, 55337\, United States
END:VEVENT
BEGIN:VEVENT
DTSTART;TZID=UTC:20211122T180000
DTEND;TZID=UTC:20211122T200000
DTSTAMP:20260423T164015
CREATED:20211023T021923Z
LAST-MODIFIED:20211023T021924Z
UID:511516-1637604000-1637611200@kotaconnections.net
SUMMARY:Out to Dinner at Red Lobster
DESCRIPTION:Join the group for dinner at Red Lobster.
URL:https://kotaconnections.net/activity/out-to-dinner-at-red-lobster/
LOCATION:Red Lobster\, 1301 County Rd 42 W\, burnsville\, MN\, 55306\, United States
END:VEVENT
BEGIN:VEVENT
DTSTART;TZID=UTC:20211120T190000
DTEND;TZID=UTC:20211120T213000
DTSTAMP:20260423T164015
CREATED:20211023T024106Z
LAST-MODIFIED:20211023T024107Z
UID:511569-1637434800-1637443800@kotaconnections.net
SUMMARY:MN T-Wolves vs. Grizzlies
DESCRIPTION:The MN Timberwolves take on the Grizzlies tonight at the Target Center.
URL:https://kotaconnections.net/activity/mn-t-wolves-vs-grizzlies/
LOCATION:Target Center\, 600 N 1st Ave\, Minneapolis\, MN\, 55403\, United States
END:VEVENT
BEGIN:VEVENT
DTSTART;TZID=UTC:20211120T083000
DTEND;TZID=UTC:20211120T103000
DTSTAMP:20260423T164015
CREATED:20211023T021654Z
LAST-MODIFIED:20211023T021656Z
UID:511512-1637397000-1637404200@kotaconnections.net
SUMMARY:Fitness Walk
DESCRIPTION:Get some exercise while walking around the Mall of America before it gets busy at the mall.
URL:https://kotaconnections.net/activity/fitness-walk/
LOCATION:Mall of America\, 60 E Broadway\, Bloomington\, MN\, 55425\, United States
END:VEVENT
BEGIN:VEVENT
DTSTART;TZID=UTC:20211118T190000
DTEND;TZID=UTC:20211118T213000
DTSTAMP:20260423T164015
CREATED:20211023T024001Z
LAST-MODIFIED:20211023T024002Z
UID:511566-1637262000-1637271000@kotaconnections.net
SUMMARY:MN T-Wolves vs. Spurs
DESCRIPTION:The MN Timberwolves take on the Spurs tonight at the Target Center.
URL:https://kotaconnections.net/activity/mn-t-wolves-vs-spurs/
LOCATION:Target Center\, 600 N 1st Ave\, Minneapolis\, MN\, 55403\, United States
END:VEVENT
BEGIN:VEVENT
DTSTART;TZID=UTC:20211118T190000
DTEND;TZID=UTC:20211118T213000
DTSTAMP:20260423T164015
CREATED:20211023T022928Z
LAST-MODIFIED:20211023T022930Z
UID:511539-1637262000-1637271000@kotaconnections.net
SUMMARY:MN Wild vs. Stars
DESCRIPTION:The MN Wild take on the Stars tonight at the Xcel Center.
URL:https://kotaconnections.net/activity/mn-wild-vs-stars/
LOCATION:Xcel Center\, 199 W Kellogg Blvd\, St. Paul\, MN\, 55102\, United States
END:VEVENT
BEGIN:VEVENT
DTSTART;TZID=UTC:20211117T190000
DTEND;TZID=UTC:20211117T213000
DTSTAMP:20260423T164015
CREATED:20211023T023911Z
LAST-MODIFIED:20211023T023913Z
UID:511563-1637175600-1637184600@kotaconnections.net
SUMMARY:MN T-Wolves vs. Kings
DESCRIPTION:The MN Timberwolves take on the Kings tonight at the Target Center.
URL:https://kotaconnections.net/activity/mn-t-wolves-vs-kings/
END:VEVENT
BEGIN:VEVENT
DTSTART;TZID=UTC:20211116T190000
DTEND;TZID=UTC:20211116T213000
DTSTAMP:20260423T164015
CREATED:20211023T022832Z
LAST-MODIFIED:20211023T022833Z
UID:511536-1637089200-1637098200@kotaconnections.net
SUMMARY:MN Wild vs. Sharks
DESCRIPTION:The MN Wild take on the Sharks tonight at the Xcel Center.
URL:https://kotaconnections.net/activity/mn-wild-vs-sharks/
LOCATION:Xcel Center\, 199 W Kellogg Blvd\, St. Paul\, MN\, 55102\, United States
END:VEVENT
BEGIN:VEVENT
DTSTART;TZID=UTC:20211115T190000
DTEND;TZID=UTC:20211115T213000
DTSTAMP:20260423T164015
CREATED:20211023T023822Z
LAST-MODIFIED:20211023T023824Z
UID:511560-1637002800-1637011800@kotaconnections.net
SUMMARY:MN T-Wolves vs. Suns
DESCRIPTION:The MN Timberwolves take on the Suns tonight at the Target Center.
URL:https://kotaconnections.net/activity/mn-t-wolves-vs-suns/
LOCATION:Target Center\, 600 N 1st Ave\, Minneapolis\, MN\, 55403\, United States
END:VEVENT
BEGIN:VEVENT
DTSTART;TZID=UTC:20211115T183000
DTEND;TZID=UTC:20211115T213000
DTSTAMP:20260423T164015
CREATED:20211023T021433Z
LAST-MODIFIED:20211023T021435Z
UID:511509-1637001000-1637011800@kotaconnections.net
SUMMARY:Movie Night
DESCRIPTION:Everyone will have a choice of movie’s showing around the same time. The movie theater will be decided closer to the date and the movie options as well.
URL:https://kotaconnections.net/activity/movie-night-5/
END:VEVENT
BEGIN:VEVENT
DTSTART;TZID=UTC:20211113T090000
DTEND;TZID=UTC:20211113T110000
DTSTAMP:20260423T164015
CREATED:20211023T021231Z
LAST-MODIFIED:20211023T021233Z
UID:511506-1636794000-1636801200@kotaconnections.net
SUMMARY:Target Shop + Beverage/Snack
DESCRIPTION:Get some apartment needs and some items you just want to have. You can also get a snack and/or beverage as well.
URL:https://kotaconnections.net/activity/target-shop-beverage-snack/
END:VEVENT
BEGIN:VEVENT
DTSTART;TZID=UTC:20211111T180000
DTEND;TZID=UTC:20211111T210000
DTSTAMP:20260423T164015
CREATED:20211023T020915Z
LAST-MODIFIED:20211023T020917Z
UID:511503-1636653600-1636664400@kotaconnections.net
SUMMARY:KC Christmas Shopping + Beverage/Snack
DESCRIPTION:Get your Christmas Shopping done early this year with others in the group. Please be sure to have a list of what you are looking to get and everyone can also buy a snack and/or beverage on this activity.
URL:https://kotaconnections.net/activity/kc-christmas-shopping-beverage-snack/
END:VEVENT
BEGIN:VEVENT
DTSTART;TZID=UTC:20211110T173000
DTEND;TZID=UTC:20211110T210000
DTSTAMP:20260423T164015
CREATED:20211023T015638Z
LAST-MODIFIED:20211023T015639Z
UID:511499-1636565400-1636578000@kotaconnections.net
SUMMARY:Dinner and Bingo @ Babes
DESCRIPTION:Join the group for Dinner and Bingo at Babe’s in Lakeville.
URL:https://kotaconnections.net/activity/dinner-and-bingo-babes/
LOCATION:Babes\, 20685 Holyoke Ave\, Lakeville\, MN\, 55044\, United States
END:VEVENT
BEGIN:VEVENT
DTSTART;TZID=UTC:20211108T180000
DTEND;TZID=UTC:20211108T210000
DTSTAMP:20260423T164015
CREATED:20211023T015214Z
LAST-MODIFIED:20211023T015215Z
UID:511495-1636394400-1636405200@kotaconnections.net
SUMMARY:Dinner and Bingo @ Wyatts
DESCRIPTION:Join the group going to Wyatts in Eagan for dinner and Bingo.
URL:https://kotaconnections.net/activity/dinner-and-bingo-wyatts/
LOCATION:Wyatts\, 1965 Cliff Lake Road Suite 108\, Eagan\, MN\, 55122\, United States
END:VEVENT
END:VCALENDAR