BEGIN:VCALENDAR
VERSION:2.0
PRODID:-//Kota Connections, Inc. - ECPv6.8.2.1//NONSGML v1.0//EN
CALSCALE:GREGORIAN
METHOD:PUBLISH
X-WR-CALNAME:Kota Connections, Inc.
X-ORIGINAL-URL:https://kotaconnections.net
X-WR-CALDESC:Events for Kota Connections, Inc.
REFRESH-INTERVAL;VALUE=DURATION:PT1H
X-Robots-Tag:noindex
X-PUBLISHED-TTL:PT1H
BEGIN:VTIMEZONE
TZID:UTC
BEGIN:STANDARD
TZOFFSETFROM:+0000
TZOFFSETTO:+0000
TZNAME:UTC
DTSTART:20240101T000000
END:STANDARD
END:VTIMEZONE
BEGIN:VEVENT
DTSTART;TZID=UTC:20240313T183000
DTEND;TZID=UTC:20240313T193000
DTSTAMP:20260423T105431
CREATED:20240215T214615Z
LAST-MODIFIED:20240215T214615Z
UID:513025-1710354600-1710358200@kotaconnections.net
SUMMARY:Virtual Bingo
DESCRIPTION:Kota Connections will be hosting a Virtual Bingo event tonight. There will be 2 offerings of a Virtual bingo this month and you CAN attend one or both if you are interested. The $5 cost will go towards the winners of each game and will be sent out as a bill after the event. Any winnings that individuals win\, will first go towards the $5 activity cost before being paid out\, unless the $5 is paid before the event.
URL:https://kotaconnections.net/activity/virtual-bingo-95/
LOCATION:MN
END:VEVENT
BEGIN:VEVENT
DTSTART;TZID=UTC:20240314T190000
DTEND;TZID=UTC:20240314T213000
DTSTAMP:20260423T105431
CREATED:20240215T214716Z
LAST-MODIFIED:20240215T214716Z
UID:513027-1710442800-1710451800@kotaconnections.net
SUMMARY:MN Wild
DESCRIPTION:Kota Connections has 4 tickets\, 1 staff and 3 clients\, to attend the MN Wild game today. **Xcel Energy Center does not accept cash\, so a card is required for concessions purchases.**
URL:https://kotaconnections.net/activity/mn-wild-38/
LOCATION:MN
END:VEVENT
BEGIN:VEVENT
DTSTART;TZID=UTC:20240316T110000
DTEND;TZID=UTC:20240316T140000
DTSTAMP:20260423T105431
CREATED:20240215T215001Z
LAST-MODIFIED:20240215T215018Z
UID:513029-1710586800-1710597600@kotaconnections.net
SUMMARY:KC Meeting Lunch + Bingo at Babe's
DESCRIPTION:Join the group at Babe’s for lunch and bingo today. The February calendars will also be handed out tonight. The cost is $20 for bingo and $20 for food.
URL:https://kotaconnections.net/activity/kc-meeting-bingo-at-babes/
LOCATION:Babes\, 20685 Holyoke Ave\, Lakeville\, MN\, 55044\, United States
END:VEVENT
BEGIN:VEVENT
DTSTART;TZID=UTC:20240318T183000
DTEND;TZID=UTC:20240318T200000
DTSTAMP:20260423T105431
CREATED:20240215T214407Z
LAST-MODIFIED:20240215T214407Z
UID:513021-1710786600-1710792000@kotaconnections.net
SUMMARY:Grand Slam
DESCRIPTION:Come play some mini golf\, videogames\, hit the batting cages\, and even get some food at Grand Slam tonight.
URL:https://kotaconnections.net/activity/grand-slam-10/
LOCATION:MN
END:VEVENT
BEGIN:VEVENT
DTSTART;TZID=UTC:20240319T200000
DTEND;TZID=UTC:20240319T223000
DTSTAMP:20260423T105431
CREATED:20240216T151123Z
LAST-MODIFIED:20240216T151123Z
UID:513034-1710878400-1710887400@kotaconnections.net
SUMMARY:MN Timberwolves
DESCRIPTION:Kota Connections has 4 tickets to today’s MN Timberwolves game. 1 staff member will be able to bring 3 individuals to the game. Ticket price needs to be paid to Staff upon pick up. Spending money for concessions is extra and not included in the ticket price. Target Center does not accept cash so a credit or debit card will be needed to make purchases. *Kota Connections has posted all MN Timberwolves tickets for sale so there is a chance that we will not be able to send a group to this game.*
URL:https://kotaconnections.net/activity/mn-timberwolves-33/
LOCATION:Target Center\, 600 N 1st Ave\, Minneapolis\, MN\, 55403\, United States
END:VEVENT
BEGIN:VEVENT
DTSTART;TZID=UTC:20240320T183000
DTEND;TZID=UTC:20240320T210000
DTSTAMP:20260423T105431
CREATED:20240216T151650Z
LAST-MODIFIED:20240216T151650Z
UID:513036-1710959400-1710968400@kotaconnections.net
SUMMARY:Nickelodeon @ MOA
DESCRIPTION:Join the group at Mall of America to go on rides at Nickelodeon Universe. The nation’s first indoor Nickelodeon theme park. Whether you are a roller coaster enthusiast or just along for the ride\, we have something for everyone.
URL:https://kotaconnections.net/activity/nickelodeon-moa-3/
LOCATION:Mall of America\, 60 E Broadway\, Bloomington\, MN\, 55425\, United States
END:VEVENT
BEGIN:VEVENT
DTSTART;TZID=UTC:20240321T183000
DTEND;TZID=UTC:20240321T210000
DTSTAMP:20260423T105431
CREATED:20240216T151743Z
LAST-MODIFIED:20240216T151743Z
UID:513038-1711045800-1711054800@kotaconnections.net
SUMMARY:Nickelodeon @ MOA
DESCRIPTION:Join the group at Mall of America to go on rides at Nickelodeon Universe. The nation’s first indoor Nickelodeon theme park. Whether you are a roller coaster enthusiast or just along for the ride\, we have something for everyone.
URL:https://kotaconnections.net/activity/nickelodeon-moa-4/
LOCATION:Mall of America\, 60 E Broadway\, Bloomington\, MN\, 55425\, United States
END:VEVENT
BEGIN:VEVENT
DTSTART;TZID=UTC:20240322T190000
DTEND;TZID=UTC:20240322T213000
DTSTAMP:20260423T105431
CREATED:20240216T152104Z
LAST-MODIFIED:20240216T152104Z
UID:513040-1711134000-1711143000@kotaconnections.net
SUMMARY:MN Timberwolves
DESCRIPTION:Kota Connections has 4 tickets to today’s MN Timberwolves game. 1 staff member will be able to bring 3 individuals to the game. Ticket price needs to be paid to Staff upon pick up. Spending money for concessions is extra and not included in the ticket price. Target Center does not accept cash so a credit or debit card will be needed to make purchases. *Kota Connections has posted all MN Timberwolves tickets for sale so there is a chance that we will not be able to send a group to this game.*
URL:https://kotaconnections.net/activity/mn-timberwolves-34/
LOCATION:Target Center\, 600 N 1st Ave\, Minneapolis\, MN\, 55403\, United States
END:VEVENT
BEGIN:VEVENT
DTSTART;TZID=UTC:20240323T110000
DTEND;TZID=UTC:20240323T140000
DTSTAMP:20260423T105431
CREATED:20240215T215131Z
LAST-MODIFIED:20240215T215131Z
UID:513032-1711191600-1711202400@kotaconnections.net
SUMMARY:KC Meeting Lunch + Bingo at Wild Bills
DESCRIPTION:Join the group at Wild Bill’s for lunch and bingo today. The February calendars will also be handed out tonight. The cost is $20 for bingo and $20 for food.
URL:https://kotaconnections.net/activity/kc-meeting-lunch-bingo-at-wild-bills/
LOCATION:MN
END:VEVENT
BEGIN:VEVENT
DTSTART;TZID=UTC:20240326T183000
DTEND;TZID=UTC:20240326T193000
DTSTAMP:20260423T105431
CREATED:20240216T152246Z
LAST-MODIFIED:20240216T152246Z
UID:513042-1711477800-1711481400@kotaconnections.net
SUMMARY:Virtual Bingo
DESCRIPTION:Kota Connections will be hosting a Virtual Bingo event tonight. There will be 2 offerings of a Virtual bingo this month and you CAN attend one or both if you are interested. The $5 cost will go towards the winners of each game and will be sent out as a bill after the event. Any winnings that individuals win\, will first go towards the $5 activity cost before being paid out\, unless the $5 is paid before the event.
URL:https://kotaconnections.net/activity/virtual-bingo-96/
LOCATION:MN
END:VEVENT
BEGIN:VEVENT
DTSTART;TZID=UTC:20240327T190000
DTEND;TZID=UTC:20240327T213000
DTSTAMP:20260423T105431
CREATED:20240216T152447Z
LAST-MODIFIED:20240216T152447Z
UID:513044-1711566000-1711575000@kotaconnections.net
SUMMARY:MN Timberwolves
DESCRIPTION:Kota Connections has 4 tickets to today’s MN Timberwolves game. 1 staff member will be able to bring 3 individuals to the game. Ticket price needs to be paid to Staff upon pick up. Spending money for concessions is extra and not included in the ticket price. Target Center does not accept cash so a credit or debit card will be needed to make purchases. *Kota Connections has posted all MN Timberwolves tickets for sale so there is a chance that we will not be able to send a group to this game.*
URL:https://kotaconnections.net/activity/mn-timberwolves-35/
LOCATION:Target Center\, 600 N 1st Ave\, Minneapolis\, MN\, 55403\, United States
END:VEVENT
BEGIN:VEVENT
DTSTART;TZID=UTC:20240328T183000
DTEND;TZID=UTC:20240328T210000
DTSTAMP:20260423T105431
CREATED:20240216T152736Z
LAST-MODIFIED:20240216T152736Z
UID:513048-1711650600-1711659600@kotaconnections.net
SUMMARY:Virtual Trivia
DESCRIPTION:Join Zoom to test your knowledge against your friends and peers. Prizes for trivia. (The cost of this activity will go towards the winning prizes.)
URL:https://kotaconnections.net/activity/virtual-trivia-2/
LOCATION:MN
END:VEVENT
BEGIN:VEVENT
DTSTART;TZID=UTC:20240328T190000
DTEND;TZID=UTC:20240328T213000
DTSTAMP:20260423T105431
CREATED:20240216T152602Z
LAST-MODIFIED:20240216T152602Z
UID:513046-1711652400-1711661400@kotaconnections.net
SUMMARY:MN Wild
DESCRIPTION:Kota Connections has 4 tickets\, 1 staff and 3 clients\, to attend the MN Wild game today. **Xcel Energy Center does not accept cash\, so a card is required for concessions purchases.**
URL:https://kotaconnections.net/activity/mn-wild-39/
LOCATION:Xcel Center\, 199 W Kellogg Blvd\, St. Paul\, MN\, 55102\, United States
END:VEVENT
BEGIN:VEVENT
DTSTART;TZID=UTC:20240329T080000
DTEND;TZID=UTC:20240329T170000
DTSTAMP:20260423T105431
CREATED:20240216T153109Z
LAST-MODIFIED:20240216T153109Z
UID:513050-1711699200-1711731600@kotaconnections.net
SUMMARY:Good Friday *OFFICE CLOSED*
DESCRIPTION:Kota Connections is closed today in observance of Good Friday.
URL:https://kotaconnections.net/activity/good-friday-office-closed-2/
LOCATION:MN
END:VEVENT
BEGIN:VEVENT
DTSTART;TZID=UTC:20240330T080000
DTEND;TZID=UTC:20240330T170000
DTSTAMP:20260423T105431
CREATED:20240216T153409Z
LAST-MODIFIED:20240216T153409Z
UID:513052-1711785600-1711818000@kotaconnections.net
SUMMARY:Easter Weekend
DESCRIPTION:Easter Weekend.
URL:https://kotaconnections.net/activity/easter-weekend/
LOCATION:MN
END:VEVENT
BEGIN:VEVENT
DTSTART;TZID=UTC:20240331T080000
DTEND;TZID=UTC:20240331T170000
DTSTAMP:20260423T105431
CREATED:20240216T153429Z
LAST-MODIFIED:20240216T153429Z
UID:513054-1711872000-1711904400@kotaconnections.net
SUMMARY:HAPPY EASTER
DESCRIPTION:We hope everyone has a good\, relaxing Easter Sunday!
URL:https://kotaconnections.net/activity/happy-easter-2/
LOCATION:MN
END:VEVENT
BEGIN:VEVENT
DTSTART;TZID=UTC:20240402T190000
DTEND;TZID=UTC:20240402T213000
DTSTAMP:20260423T105431
CREATED:20240327T184808Z
LAST-MODIFIED:20240327T184808Z
UID:513059-1712084400-1712093400@kotaconnections.net
SUMMARY:MN Wild
DESCRIPTION:Kota Connections has 4 tickets\, 1 staff and 3 clients\, to attend the MN Wild game today. **Xcel Energy Center does not accept cash\, so a card is required for concessions purchases.**
URL:https://kotaconnections.net/activity/mn-wild-40/
LOCATION:Xcel Center\, 199 W Kellogg Blvd\, St. Paul\, MN\, 55102\, United States
END:VEVENT
BEGIN:VEVENT
DTSTART;TZID=UTC:20240402T190000
DTEND;TZID=UTC:20240402T213000
DTSTAMP:20260423T105431
CREATED:20240327T185010Z
LAST-MODIFIED:20240327T185010Z
UID:513061-1712084400-1712093400@kotaconnections.net
SUMMARY:MN Timberwolves
DESCRIPTION:Kota Connections has 4 tickets to today’s MN Timberwolves game. 1 staff member will be able to bring 3 individuals to the game. Ticket price needs to be paid to Staff upon pick up. Spending money for concessions is extra and not included in the ticket price. Target Center does not accept cash so a credit or debit card will be needed to make purchases. *Kota Connections has posted all MN Timberwolves tickets for sale so there is a chance that we will not be able to send a group to this game.*
URL:https://kotaconnections.net/activity/mn-timberwolves-36/
LOCATION:Target Center\, 600 N 1st Ave\, Minneapolis\, MN\, 55403\, United States
END:VEVENT
BEGIN:VEVENT
DTSTART;TZID=UTC:20240403T190000
DTEND;TZID=UTC:20240403T213000
DTSTAMP:20260423T105431
CREATED:20240327T190118Z
LAST-MODIFIED:20240327T190118Z
UID:513063-1712170800-1712179800@kotaconnections.net
SUMMARY:MN Timberwolves
DESCRIPTION:Kota Connections has 4 tickets to today’s MN Timberwolves game. 1 staff member will be able to bring 3 individuals to the game. Ticket price needs to be paid to Staff upon pick up. Spending money for concessions is extra and not included in the ticket price. Target Center does not accept cash so a credit or debit card will be needed to make purchases. *Kota Connections has posted all MN Timberwolves tickets for sale so there is a chance that we will not be able to send a group to this game.*
URL:https://kotaconnections.net/activity/mn-timberwolves-37/
LOCATION:Target Center\, 600 N 1st Ave\, Minneapolis\, MN\, 55403\, United States
END:VEVENT
BEGIN:VEVENT
DTSTART;TZID=UTC:20240404T190000
DTEND;TZID=UTC:20240404T213000
DTSTAMP:20260423T105431
CREATED:20240327T190244Z
LAST-MODIFIED:20240327T190244Z
UID:513065-1712257200-1712266200@kotaconnections.net
SUMMARY:MN Wild
DESCRIPTION:Kota Connections has 4 tickets\, 1 staff and 3 clients\, to attend the MN Wild game today. **Xcel Energy Center does not accept cash\, so a card is required for concessions purchases.**
URL:https://kotaconnections.net/activity/mn-wild-41/
LOCATION:Xcel Center\, 199 W Kellogg Blvd\, St. Paul\, MN\, 55102\, United States
END:VEVENT
BEGIN:VEVENT
DTSTART;TZID=UTC:20240406T150000
DTEND;TZID=UTC:20240406T173000
DTSTAMP:20260423T105431
CREATED:20240327T190551Z
LAST-MODIFIED:20240327T190551Z
UID:513067-1712415600-1712424600@kotaconnections.net
SUMMARY:MN Wild
DESCRIPTION:Kota Connections has 4 tickets\, 1 staff and 3 clients\, to attend the MN Wild game today. **Xcel Energy Center does not accept cash\, so a card is required for concessions purchases.**
URL:https://kotaconnections.net/activity/mn-wild-42/
LOCATION:Xcel Center\, 199 W Kellogg Blvd\, St. Paul\, MN\, 55102\, United States
END:VEVENT
BEGIN:VEVENT
DTSTART;TZID=UTC:20240407T130000
DTEND;TZID=UTC:20240407T160000
DTSTAMP:20260423T105431
CREATED:20240327T190727Z
LAST-MODIFIED:20240327T190727Z
UID:513069-1712494800-1712505600@kotaconnections.net
SUMMARY:MN Twins
DESCRIPTION:Kota Connections has 4 tickets\, 1 staff and 3 clients\, to attend the MN Twins game today. **Target field does not accept cash\, so a card is required for concessions purchases.**
URL:https://kotaconnections.net/activity/mn-twins-53/
LOCATION:Target Field\, 1 Twins Way\, Minneapolis\, MN\, 55403\, United States
END:VEVENT
BEGIN:VEVENT
DTSTART;TZID=UTC:20240409T190000
DTEND;TZID=UTC:20240409T213000
DTSTAMP:20260423T105431
CREATED:20240327T194631Z
LAST-MODIFIED:20240327T194631Z
UID:513071-1712689200-1712698200@kotaconnections.net
SUMMARY:MN Timberwolves
DESCRIPTION:Kota Connections has 4 tickets to today’s MN Timberwolves game. 1 staff member will be able to bring 3 individuals to the game. Ticket price needs to be paid to Staff upon pick up. Spending money for concessions is extra and not included in the ticket price. Target Center does not accept cash so a credit or debit card will be needed to make purchases. *Kota Connections has posted all MN Timberwolves tickets for sale so there is a chance that we will not be able to send a group to this game.*
URL:https://kotaconnections.net/activity/mn-timberwolves-38/
LOCATION:Target Center\, 600 N 1st Ave\, Minneapolis\, MN\, 55403\, United States
END:VEVENT
BEGIN:VEVENT
DTSTART;TZID=UTC:20240410T183000
DTEND;TZID=UTC:20240410T193000
DTSTAMP:20260423T105431
CREATED:20240327T194744Z
LAST-MODIFIED:20240327T194744Z
UID:513073-1712773800-1712777400@kotaconnections.net
SUMMARY:Virtual Bingo
DESCRIPTION:Kota Connections will be hosting a Virtual Bingo event tonight. There will be 2 offerings of a Virtual bingo this month and you CAN attend one or both if you are interested. The $5 cost will go towards the winners of each game and will be sent out as a bill after the event. Any winnings that individuals win\, will first go towards the $5 activity cost before being paid out\, unless the $5 is paid before the event.
URL:https://kotaconnections.net/activity/virtual-bingo-97/
LOCATION:Zoom
END:VEVENT
BEGIN:VEVENT
DTSTART;TZID=UTC:20240412T183000
DTEND;TZID=UTC:20240412T210000
DTSTAMP:20260423T105431
CREATED:20240327T195126Z
LAST-MODIFIED:20240327T195126Z
UID:513078-1712946600-1712955600@kotaconnections.net
SUMMARY:PE Dance
DESCRIPTION:Kota Connections will be bringing a group the attend the Project Explore dance at Valley Middle School. Snacks and refreshments available.
URL:https://kotaconnections.net/activity/pe-dance-10/
LOCATION:Apple Valley Middle School\, 900 Garden View Drive\, Apple Valley\, Minnesota\, 55124
END:VEVENT
BEGIN:VEVENT
DTSTART;TZID=UTC:20240412T190000
DTEND;TZID=UTC:20240412T213000
DTSTAMP:20260423T105431
CREATED:20240327T195015Z
LAST-MODIFIED:20240327T195015Z
UID:513076-1712948400-1712957400@kotaconnections.net
SUMMARY:MN Timberwolves
DESCRIPTION:Kota Connections has 4 tickets to today’s MN Timberwolves game. 1 staff member will be able to bring 3 individuals to the game. Ticket price needs to be paid to Staff upon pick up. Spending money for concessions is extra and not included in the ticket price. Target Center does not accept cash so a credit or debit card will be needed to make purchases. *Kota Connections has posted all MN Timberwolves tickets for sale so there is a chance that we will not be able to send a group to this game.*
URL:https://kotaconnections.net/activity/mn-timberwolves-39/
LOCATION:Target Center\, 600 N 1st Ave\, Minneapolis\, MN\, 55403\, United States
END:VEVENT
BEGIN:VEVENT
DTSTART;TZID=UTC:20240413T100000
DTEND;TZID=UTC:20240413T130000
DTSTAMP:20260423T105431
CREATED:20240327T195420Z
LAST-MODIFIED:20240327T195420Z
UID:513080-1713002400-1713013200@kotaconnections.net
SUMMARY:Craft Fair at Canterbury Park
DESCRIPTION:Join us for the Spring Festival:  Art Craft Fair at Canterbury Park. $10 for admission free parking. \n\nHundreds of the nation’s finest artists and crafters will display and sell their work at the Spring Festival\, An Arts & Crafts Affair! \n\n\nThe event\, which runs from April 12 – 14\, has been voted one of the top 100 shows in the country by Sunshine Artist Magazine. \nThe expo features hourly gift certificate drawings\, food and drink\, free parking\, and lots of family fun!
URL:https://kotaconnections.net/activity/craft-fair-at-canterbury-park/
LOCATION:Canterbury Park\, 1100 Canterbury Road\, Shakopee\, MN\, 55379\, United States
END:VEVENT
BEGIN:VEVENT
DTSTART;TZID=UTC:20240415T183000
DTEND;TZID=UTC:20240415T203000
DTSTAMP:20260423T105431
CREATED:20240327T195645Z
LAST-MODIFIED:20240327T195645Z
UID:513082-1713205800-1713213000@kotaconnections.net
SUMMARY:MOA Mini Golf + Snack
DESCRIPTION:The group will be heading to Mall of America to play some Mini Golf at one of the courses they have there. The group will also be able to get a snack tonight as well.
URL:https://kotaconnections.net/activity/moa-mini-golf-snack-3/
LOCATION:Mall of America\, 60 E Broadway\, Bloomington\, MN\, 55425\, United States
END:VEVENT
BEGIN:VEVENT
DTSTART;TZID=UTC:20240416T180000
DTEND;TZID=UTC:20240416T200000
DTSTAMP:20260423T105431
CREATED:20240327T195845Z
LAST-MODIFIED:20240327T195845Z
UID:513086-1713290400-1713297600@kotaconnections.net
SUMMARY:KC Softball Practice
DESCRIPTION:Spring is here and Softball practice will be held tonight at Aronson Park in Lakeville. *Weather Pending*
URL:https://kotaconnections.net/activity/kc-softball-practice/
LOCATION:Aronson Park\, 8250 202nd St W\, Lakeville\, MN\, 55044\, United States
END:VEVENT
BEGIN:VEVENT
DTSTART;TZID=UTC:20240416T180000
DTEND;TZID=UTC:20240416T203000
DTSTAMP:20260423T105431
CREATED:20240415T144957Z
LAST-MODIFIED:20240416T200830Z
UID:513114-1713290400-1713299400@kotaconnections.net
SUMMARY:Softball Practice 'Cancelled'
DESCRIPTION:Softball Practice is cancelled for tonight. David will be there to collect forms for softball and had out registration sheets for those who still need to register.
URL:https://kotaconnections.net/activity/softball-practice-6/
LOCATION:Aronson Park\, 8250 202nd St W\, Lakeville\, MN\, 55044\, United States
CATEGORIES:Softball Games,Softball League
END:VEVENT
END:VCALENDAR