BEGIN:VCALENDAR
VERSION:2.0
PRODID:-//Kota Connections, Inc. - ECPv6.8.2.1//NONSGML v1.0//EN
CALSCALE:GREGORIAN
METHOD:PUBLISH
X-WR-CALNAME:Kota Connections, Inc.
X-ORIGINAL-URL:https://kotaconnections.net
X-WR-CALDESC:Events for Kota Connections, Inc.
REFRESH-INTERVAL;VALUE=DURATION:PT1H
X-Robots-Tag:noindex
X-PUBLISHED-TTL:PT1H
BEGIN:VTIMEZONE
TZID:UTC
BEGIN:STANDARD
TZOFFSETFROM:+0000
TZOFFSETTO:+0000
TZNAME:UTC
DTSTART:20240101T000000
END:STANDARD
END:VTIMEZONE
BEGIN:VEVENT
DTSTART;TZID=UTC:20240214T183000
DTEND;TZID=UTC:20240214T193000
DTSTAMP:20260422T220526
CREATED:20240123T192416Z
LAST-MODIFIED:20240123T192416Z
UID:512979-1707935400-1707939000@kotaconnections.net
SUMMARY:Virtual Bingo
DESCRIPTION:Kota Connections will be hosting a Virtual Bingo event tonight. There will be 2 offerings of a Virtual bingo this month and you CAN attend one or both if you are interested. The $5 cost will go towards the winners of each game and will be sent out as a bill after the event. Any winnings that individuals win\, will first go towards the $5 activity cost before being paid out\, unless the $5 is paid before the event.
URL:https://kotaconnections.net/activity/virtual-bingo-93/
LOCATION:Minnesota
END:VEVENT
BEGIN:VEVENT
DTSTART;TZID=UTC:20240215T183000
DTEND;TZID=UTC:20240215T203000
DTSTAMP:20260422T220526
CREATED:20240123T191856Z
LAST-MODIFIED:20240123T192323Z
UID:512971-1708021800-1708029000@kotaconnections.net
SUMMARY:Virtual Movie Night
DESCRIPTION:Join this Zoom activity to watch a movie with friends and peers. The movie will be chosen closer to the event. If this event goes well\, newer movies may be rented for the group to watch that would be recently released. This would be similar to our KC Movie Nights that have been held in the office in the past.
URL:https://kotaconnections.net/activity/virtual-movie-night-4/
LOCATION:Minnesota
END:VEVENT
BEGIN:VEVENT
DTSTART;TZID=UTC:20240217T083000
DTEND;TZID=UTC:20240217T103000
DTSTAMP:20260422T220526
CREATED:20240123T192222Z
LAST-MODIFIED:20240123T192222Z
UID:512977-1708158600-1708165800@kotaconnections.net
SUMMARY:Breakfast AV IHOP
DESCRIPTION:Kota Connections will be going to IHOP for breakfast. Everyone will pay $25 for breakfast this morning. If your meal is less than that\, you will have money at the office for the future. If you spend more the $25\, you will get a bill for what you went over.
URL:https://kotaconnections.net/activity/breakfast-av-ihop/
LOCATION:Minnesota
END:VEVENT
BEGIN:VEVENT
DTSTART;TZID=UTC:20240219T130000
DTEND;TZID=UTC:20240219T153000
DTSTAMP:20260422T220526
CREATED:20240123T191143Z
LAST-MODIFIED:20240123T191143Z
UID:512957-1708347600-1708356600@kotaconnections.net
SUMMARY:MN Wild
DESCRIPTION:Kota Connections has 4 tickets\, 1 staff and 3 clients\, to attend the MN Wild game today. **Xcel Energy Center does not accept cash\, so a card is required for concessions purchases.**
URL:https://kotaconnections.net/activity/mn-wild-33/
LOCATION:Xcel Center\, 199 W Kellogg Blvd\, St. Paul\, MN\, 55102\, United States
END:VEVENT
BEGIN:VEVENT
DTSTART;TZID=UTC:20240219T183000
DTEND;TZID=UTC:20240219T193000
DTSTAMP:20260422T220526
CREATED:20240124T153246Z
LAST-MODIFIED:20240124T153246Z
UID:512983-1708367400-1708371000@kotaconnections.net
SUMMARY:Virtual Trivia
DESCRIPTION:Join Zoom to test your knowledge against your friends and peers. Prizes for trivia. (The cost of this activity will go towards the winning prizes.)
URL:https://kotaconnections.net/activity/virtual-trivia/
LOCATION:Minnesota
END:VEVENT
BEGIN:VEVENT
DTSTART;TZID=UTC:20240221T183000
DTEND;TZID=UTC:20240221T203000
DTSTAMP:20260422T220526
CREATED:20240124T154322Z
LAST-MODIFIED:20240124T154437Z
UID:512985-1708540200-1708547400@kotaconnections.net
SUMMARY:KC Meeting / Video Game / Open Office
DESCRIPTION:Come to the office in Lakeville for the KC Meeting. April activity calendars and sign up cards will be handed out tonight. If you have any ideas for future activities\, this would be a great place to bring that up. Come play Videogames\, card games\, pool\, darts\, or a bunch of other games with your peers. Snack available for $5 or snack card
URL:https://kotaconnections.net/activity/kc-mtg-video-game-open-office/
LOCATION:Kota Connections\, 8500 210th St W Suite 148\, Lakeville\, MN\, 55044\, United States
END:VEVENT
BEGIN:VEVENT
DTSTART;TZID=UTC:20240222T183000
DTEND;TZID=UTC:20240222T203000
DTSTAMP:20260422T220526
CREATED:20240124T154410Z
LAST-MODIFIED:20240124T154410Z
UID:512987-1708626600-1708633800@kotaconnections.net
SUMMARY:KC Meeting / Video Game / Open Office
DESCRIPTION:Come to the office in Lakeville for the KC Meeting. April activity calendars and sign up cards will be handed out tonight. If you have any ideas for future activities\, this would be a great place to bring that up. Come play Videogames\, card games\, pool\, darts\, or a bunch of other games with your peers. Snack available for $5 or snack card
URL:https://kotaconnections.net/activity/kc-meeting-video-game-open-office/
LOCATION:Kota Connections\, 8500 210th St W Suite 148\, Lakeville\, MN\, 55044\, United States
END:VEVENT
BEGIN:VEVENT
DTSTART;TZID=UTC:20240223T190000
DTEND;TZID=UTC:20240223T213000
DTSTAMP:20260422T220526
CREATED:20240123T185722Z
LAST-MODIFIED:20240123T190458Z
UID:512949-1708714800-1708723800@kotaconnections.net
SUMMARY:MN Timberwolves
DESCRIPTION:Kota Connections has 4 tickets to today’s MN Timberwolves game. 1 staff member will be able to bring 3 individuals to the game. Ticket price needs to be paid to Staff upon pick up. Spending money for concessions is extra and not included in the ticket price. Target Center does not accept cash so a credit or debit card will be needed to make purchases. *Kota Connections has posted all MN Timberwolves tickets for sale so there is a chance that we will not be able to send a group to this game.*
URL:https://kotaconnections.net/activity/mn-timberwolves-26/
LOCATION:Target Center\, 600 N 1st Ave\, Minneapolis\, MN\, 55403\, United States
END:VEVENT
BEGIN:VEVENT
DTSTART;TZID=UTC:20240224T083000
DTEND;TZID=UTC:20240224T100000
DTSTAMP:20260422T220526
CREATED:20240124T155204Z
LAST-MODIFIED:20240124T155204Z
UID:512990-1708763400-1708768800@kotaconnections.net
SUMMARY:MOA Walk
DESCRIPTION:Join the group on a walk around the Mall of America before the stores open up. This is a fitness walk activity\, not a window shopping activity. Clients will be able to track how many steps/miles they walk on this event.
URL:https://kotaconnections.net/activity/moa-walk-8/
LOCATION:Mall of America\, 60 E Broadway\, Bloomington\, MN\, 55425\, United States
END:VEVENT
BEGIN:VEVENT
DTSTART;TZID=UTC:20240224T190000
DTEND;TZID=UTC:20240224T213000
DTSTAMP:20260422T220526
CREATED:20240123T190430Z
LAST-MODIFIED:20240123T190430Z
UID:512951-1708801200-1708810200@kotaconnections.net
SUMMARY:MN Timberwolves
DESCRIPTION:Kota Connections has 4 tickets to today’s MN Timberwolves game. 1 staff member will be able to bring 3 individuals to the game. Ticket price needs to be paid to Staff upon pick up. Spending money for concessions is extra and not included in the ticket price. Target Center does not accept cash so a credit or debit card will be needed to make purchases. *Kota Connections has posted all MN Timberwolves tickets for sale so there is a chance that we will not be able to send a group to this game.*
URL:https://kotaconnections.net/activity/mn-timberwolves-27/
LOCATION:Target Center\, 600 N 1st Ave\, Minneapolis\, MN\, 55403\, United States
END:VEVENT
BEGIN:VEVENT
DTSTART;TZID=UTC:20240226T183000
DTEND;TZID=UTC:20240226T203000
DTSTAMP:20260422T220526
CREATED:20240123T185323Z
LAST-MODIFIED:20240123T185422Z
UID:512945-1708972200-1708979400@kotaconnections.net
SUMMARY:Target Shop & Cold Stone
DESCRIPTION:Come get your Target needs with your peers on this event and Cold Stone ice cream. Cost of this event is $10 for ice cream and then extra money for Shopping.
URL:https://kotaconnections.net/activity/target-shop-cold-stone/
LOCATION:Minnesota
END:VEVENT
BEGIN:VEVENT
DTSTART;TZID=UTC:20240227T183000
DTEND;TZID=UTC:20240227T210000
DTSTAMP:20260422T220526
CREATED:20240123T190745Z
LAST-MODIFIED:20240123T190812Z
UID:512953-1709058600-1709067600@kotaconnections.net
SUMMARY:MN Timberwolves
DESCRIPTION:Kota Connections has 4 tickets to today’s MN Timberwolves game. 1 staff member will be able to bring 3 individuals to the game. Ticket price needs to be paid to Staff upon pick up. Spending money for concessions is extra and not included in the ticket price. Target Center does not accept cash so a credit or debit card will be needed to make purchases. *Kota Connections has posted all MN Timberwolves tickets for sale so there is a chance that we will not be able to send a group to this game.*
URL:https://kotaconnections.net/activity/mn-timberwolves-28/
LOCATION:Target Center\, 600 N 1st Ave\, Minneapolis\, MN\, 55403\, United States
END:VEVENT
BEGIN:VEVENT
DTSTART;TZID=UTC:20240227T190000
DTEND;TZID=UTC:20240227T213000
DTSTAMP:20260422T220526
CREATED:20240123T191218Z
LAST-MODIFIED:20240223T023838Z
UID:512959-1709060400-1709069400@kotaconnections.net
SUMMARY:MN Wild
DESCRIPTION:Kota Connections has 4 tickets\, 1 staff and 3 clients\, to attend the MN Wild game today. **Xcel Energy Center does not accept cash\, so a card is required for concessions purchases.**
URL:https://kotaconnections.net/activity/mn-wild-34/
LOCATION:Xcel Center\, 199 W Kellogg Blvd\, St. Paul\, MN\, 55102\, United States
END:VEVENT
BEGIN:VEVENT
DTSTART;TZID=UTC:20240228T183000
DTEND;TZID=UTC:20240228T193000
DTSTAMP:20260422T220526
CREATED:20240123T192447Z
LAST-MODIFIED:20240123T192447Z
UID:512981-1709145000-1709148600@kotaconnections.net
SUMMARY:Virtual Bingo
DESCRIPTION:Kota Connections will be hosting a Virtual Bingo event tonight. There will be 2 offerings of a Virtual bingo this month and you CAN attend one or both if you are interested. The $5 cost will go towards the winners of each game and will be sent out as a bill after the event. Any winnings that individuals win\, will first go towards the $5 activity cost before being paid out\, unless the $5 is paid before the event.
URL:https://kotaconnections.net/activity/virtual-bingo-94/
LOCATION:Minnesota
END:VEVENT
BEGIN:VEVENT
DTSTART;TZID=UTC:20240228T183000
DTEND;TZID=UTC:20240228T210000
DTSTAMP:20260422T220526
CREATED:20240123T190914Z
LAST-MODIFIED:20240123T190937Z
UID:512955-1709145000-1709154000@kotaconnections.net
SUMMARY:MN Timberwolves
DESCRIPTION:Kota Connections has 4 tickets to today’s MN Timberwolves game. 1 staff member will be able to bring 3 individuals to the game. Ticket price needs to be paid to Staff upon pick up. Spending money for concessions is extra and not included in the ticket price. Target Center does not accept cash so a credit or debit card will be needed to make purchases. *Kota Connections has posted all MN Timberwolves tickets for sale so there is a chance that we will not be able to send a group to this game.*
URL:https://kotaconnections.net/activity/mn-timberwolves-29/
LOCATION:Target Center\, 600 N 1st Ave\, Minneapolis\, MN\, 55403\, United States
END:VEVENT
BEGIN:VEVENT
DTSTART;TZID=UTC:20240229T180000
DTEND;TZID=UTC:20240229T203000
DTSTAMP:20260422T220526
CREATED:20240123T184132Z
LAST-MODIFIED:20240123T185042Z
UID:512940-1709229600-1709238600@kotaconnections.net
SUMMARY:Buck Hill
DESCRIPTION:Join a Kota Connections group for either Tubing or Skiing at Buck Hill. Ticket price may vary depending on if equipment rental is needed for skiing. There will also be a snack in the chalet at the end of the event. $45 for Tubing and $115 for Skiing.
URL:https://kotaconnections.net/activity/buck-hill-6/
LOCATION:Minnesota
END:VEVENT
BEGIN:VEVENT
DTSTART;TZID=UTC:20240301T190000
DTEND;TZID=UTC:20240301T213000
DTSTAMP:20260422T220526
CREATED:20240215T211807Z
LAST-MODIFIED:20240215T212304Z
UID:512996-1709319600-1709328600@kotaconnections.net
SUMMARY:MN Timberwolves
DESCRIPTION:Kota Connections has 4 tickets to today’s MN Timberwolves game. 1 staff member will be able to bring 3 individuals to the game. Ticket price needs to be paid to Staff upon pick up. Spending money for concessions is extra and not included in the ticket price. Target Center does not accept cash so a credit or debit card will be needed to make purchases. *Kota Connections has posted all MN Timberwolves tickets for sale so there is a chance that we will not be able to send a group to this game.*
URL:https://kotaconnections.net/activity/mn-timberwolves-31/
LOCATION:Target Center\, 600 N 1st Ave\, Minneapolis\, MN\, 55403\, United States
END:VEVENT
BEGIN:VEVENT
DTSTART;TZID=UTC:20240302T083000
DTEND;TZID=UTC:20240302T100000
DTSTAMP:20260422T220526
CREATED:20240215T212039Z
LAST-MODIFIED:20240215T212121Z
UID:512998-1709368200-1709373600@kotaconnections.net
SUMMARY:Target Shop
DESCRIPTION:Come get your Target needs with your peers on this event. Cost of this event is $15 for a coffee beverage\, snack\, and then extra money for Shopping.
URL:https://kotaconnections.net/activity/target-shop-9/
LOCATION:Minnesota
END:VEVENT
BEGIN:VEVENT
DTSTART;TZID=UTC:20240303T180000
DTEND;TZID=UTC:20240303T203000
DTSTAMP:20260422T220526
CREATED:20240215T212407Z
LAST-MODIFIED:20240215T212407Z
UID:513000-1709488800-1709497800@kotaconnections.net
SUMMARY:MN Wild
DESCRIPTION:Kota Connections has 4 tickets\, 1 staff and 3 clients\, to attend the MN Wild game today. **Xcel Energy Center does not accept cash\, so a card is required for concessions purchases.**
URL:https://kotaconnections.net/activity/mn-wild-35/
LOCATION:Xcel Center\, 199 W Kellogg Blvd\, St. Paul\, MN\, 55102\, United States
END:VEVENT
BEGIN:VEVENT
DTSTART;TZID=UTC:20240304T190000
DTEND;TZID=UTC:20240304T213000
DTSTAMP:20260422T220526
CREATED:20240215T212541Z
LAST-MODIFIED:20240215T212541Z
UID:513003-1709578800-1709587800@kotaconnections.net
SUMMARY:MN Timberwolves
DESCRIPTION:Kota Connections has 4 tickets to today’s MN Timberwolves game. 1 staff member will be able to bring 3 individuals to the game. Ticket price needs to be paid to Staff upon pick up. Spending money for concessions is extra and not included in the ticket price. Target Center does not accept cash so a credit or debit card will be needed to make purchases. *Kota Connections has posted all MN Timberwolves tickets for sale so there is a chance that we will not be able to send a group to this game.*
URL:https://kotaconnections.net/activity/mn-timberwolves-32/
LOCATION:Target Center\, 600 N 1st Ave\, Minneapolis\, MN\, 55403\, United States
END:VEVENT
BEGIN:VEVENT
DTSTART;TZID=UTC:20240305T183000
DTEND;TZID=UTC:20240305T203000
DTSTAMP:20260422T220527
CREATED:20240215T212855Z
LAST-MODIFIED:20240215T212919Z
UID:513005-1709663400-1709670600@kotaconnections.net
SUMMARY:KC Movie Night
DESCRIPTION:Come to the Kota Connections for an outdoor movie if the weather permits. If the weather does not permit\, the movie will be inside. Snacks will be available for purchase.
URL:https://kotaconnections.net/activity/kc-movie-night-6/
LOCATION:Minnesota
END:VEVENT
BEGIN:VEVENT
DTSTART;TZID=UTC:20240306T183000
DTEND;TZID=UTC:20240306T203000
DTSTAMP:20260422T220527
CREATED:20240215T213006Z
LAST-MODIFIED:20240215T213006Z
UID:513007-1709749800-1709757000@kotaconnections.net
SUMMARY:KC Movie Night
DESCRIPTION:Come to the Kota Connections for an outdoor movie if the weather permits. If the weather does not permit\, the movie will be inside. Snacks will be available for purchase.
URL:https://kotaconnections.net/activity/kc-movie-night-7/
LOCATION:Minnesota
END:VEVENT
BEGIN:VEVENT
DTSTART;TZID=UTC:20240307T180000
DTEND;TZID=UTC:20240307T203000
DTSTAMP:20260422T220527
CREATED:20240215T213137Z
LAST-MODIFIED:20240215T213137Z
UID:513009-1709834400-1709843400@kotaconnections.net
SUMMARY:Buck Hill Tubing / Skiing
DESCRIPTION:Join a Kota Connections group for either Tubing or Skiing at Buck Hill. Ticket price may vary depending on if equipment rental is needed for skiing. There will also be a snack in the chalet at the end of the event. $45 for Tubing and $115 for Skiing.
URL:https://kotaconnections.net/activity/buck-hill-tubing-skiing-3/
LOCATION:Minnesota
END:VEVENT
BEGIN:VEVENT
DTSTART;TZID=UTC:20240308T183000
DTEND;TZID=UTC:20240308T210000
DTSTAMP:20260422T220527
CREATED:20240215T213805Z
LAST-MODIFIED:20240215T213816Z
UID:513012-1709922600-1709931600@kotaconnections.net
SUMMARY:PE St. Patrick's Dance
DESCRIPTION:Kota Connections will be bringing a group the attend the Project Explore dance at Valley Middle School. Snacks and refreshments available.
URL:https://kotaconnections.net/activity/pe-st-patricks-dance-2/
LOCATION:Minnesota
END:VEVENT
BEGIN:VEVENT
DTSTART;TZID=UTC:20240309T083000
DTEND;TZID=UTC:20240309T100000
DTSTAMP:20260422T220527
CREATED:20240215T213913Z
LAST-MODIFIED:20240215T213913Z
UID:513015-1709973000-1709978400@kotaconnections.net
SUMMARY:MOA Walk
DESCRIPTION:Join the group on a walk around the Mall of America before the stores open up. This is a fitness walk activity\, not a window shopping activity. Clients will be able to track how many steps/miles they walk on this event.
URL:https://kotaconnections.net/activity/moa-walk-9/
LOCATION:Minnesota
END:VEVENT
BEGIN:VEVENT
DTSTART;TZID=UTC:20240310T143000
DTEND;TZID=UTC:20240310T170000
DTSTAMP:20260422T220527
CREATED:20240215T214027Z
LAST-MODIFIED:20240215T214027Z
UID:513017-1710081000-1710090000@kotaconnections.net
SUMMARY:MN Wild
DESCRIPTION:Kota Connections has 4 tickets\, 1 staff and 3 clients\, to attend the MN Wild game today. **Xcel Energy Center does not accept cash\, so a card is required for concessions purchases.**
URL:https://kotaconnections.net/activity/mn-wild-36/
LOCATION:Xcel Center\, 199 W Kellogg Blvd\, St. Paul\, MN\, 55102\, United States
END:VEVENT
BEGIN:VEVENT
DTSTART;TZID=UTC:20240311T183000
DTEND;TZID=UTC:20240311T200000
DTSTAMP:20260422T220527
CREATED:20240215T214327Z
LAST-MODIFIED:20240215T214327Z
UID:513019-1710181800-1710187200@kotaconnections.net
SUMMARY:Grand Slam
DESCRIPTION:Come play some mini golf\, videogames\, hit the batting cages\, and even get some food at Grand Slam tonight.
URL:https://kotaconnections.net/activity/grand-slam-9/
LOCATION:Minnesota
END:VEVENT
BEGIN:VEVENT
DTSTART;TZID=UTC:20240312T190000
DTEND;TZID=UTC:20240312T213000
DTSTAMP:20260422T220527
CREATED:20240215T214458Z
LAST-MODIFIED:20240307T220917Z
UID:513023-1710270000-1710279000@kotaconnections.net
SUMMARY:MN Wild
DESCRIPTION:Kota Connections has 4 tickets\, 1 staff and 3 clients\, to attend the MN Wild game today. **Xcel Energy Center does not accept cash\, so a card is required for concessions purchases.**
URL:https://kotaconnections.net/activity/mn-wild-37/
LOCATION:Xcel Center\, 199 W Kellogg Blvd\, St. Paul\, MN\, 55102\, United States
END:VEVENT
BEGIN:VEVENT
DTSTART;TZID=UTC:20240313T183000
DTEND;TZID=UTC:20240313T193000
DTSTAMP:20260422T220527
CREATED:20240215T214615Z
LAST-MODIFIED:20240215T214615Z
UID:513025-1710354600-1710358200@kotaconnections.net
SUMMARY:Virtual Bingo
DESCRIPTION:Kota Connections will be hosting a Virtual Bingo event tonight. There will be 2 offerings of a Virtual bingo this month and you CAN attend one or both if you are interested. The $5 cost will go towards the winners of each game and will be sent out as a bill after the event. Any winnings that individuals win\, will first go towards the $5 activity cost before being paid out\, unless the $5 is paid before the event.
URL:https://kotaconnections.net/activity/virtual-bingo-95/
LOCATION:Minnesota
END:VEVENT
BEGIN:VEVENT
DTSTART;TZID=UTC:20240314T190000
DTEND;TZID=UTC:20240314T213000
DTSTAMP:20260422T220527
CREATED:20240215T214716Z
LAST-MODIFIED:20240215T214716Z
UID:513027-1710442800-1710451800@kotaconnections.net
SUMMARY:MN Wild
DESCRIPTION:Kota Connections has 4 tickets\, 1 staff and 3 clients\, to attend the MN Wild game today. **Xcel Energy Center does not accept cash\, so a card is required for concessions purchases.**
URL:https://kotaconnections.net/activity/mn-wild-38/
LOCATION:Minnesota
END:VEVENT
END:VCALENDAR