BEGIN:VCALENDAR
VERSION:2.0
PRODID:-//Kota Connections, Inc. - ECPv6.8.2.1//NONSGML v1.0//EN
CALSCALE:GREGORIAN
METHOD:PUBLISH
X-WR-CALNAME:Kota Connections, Inc.
X-ORIGINAL-URL:https://kotaconnections.net
X-WR-CALDESC:Events for Kota Connections, Inc.
REFRESH-INTERVAL;VALUE=DURATION:PT1H
X-Robots-Tag:noindex
X-PUBLISHED-TTL:PT1H
BEGIN:VTIMEZONE
TZID:UTC
BEGIN:STANDARD
TZOFFSETFROM:+0000
TZOFFSETTO:+0000
TZNAME:UTC
DTSTART:20220101T000000
END:STANDARD
END:VTIMEZONE
BEGIN:VEVENT
DTSTART;TZID=UTC:20220420T180000
DTEND;TZID=UTC:20220420T200000
DTSTAMP:20260423T063537
CREATED:20220408T013115Z
LAST-MODIFIED:20220408T013115Z
UID:511880-1650477600-1650484800@kotaconnections.net
SUMMARY:KC Meeting
DESCRIPTION:The location of the Meeting is not yet decided as it will depend on what the weather is like. Come join the meeting with other participants and learn about what is going on and what activities will be offered in May.
URL:https://kotaconnections.net/activity/kc-meeting-5/
LOCATION:MN
END:VEVENT
BEGIN:VEVENT
DTSTART;TZID=UTC:20220419T180000
DTEND;TZID=UTC:20220419T200000
DTSTAMP:20260423T063537
CREATED:20220408T012905Z
LAST-MODIFIED:20220408T012905Z
UID:511876-1650391200-1650398400@kotaconnections.net
SUMMARY:Softball Practice
DESCRIPTION:The Dakota County Softball league has practice tonight. Teams will be finalized before games start in the middle of May.  If you are looking for a registration\, come on down for the first week of practice to get a form. We have not yet gotten a chance to upload the registration to this website.
URL:https://kotaconnections.net/activity/softball-practice-2/
LOCATION:Aronson Park\, 8250 202nd St W\, Lakeville\, MN\, 55044\, United States
CATEGORIES:Softball League
END:VEVENT
BEGIN:VEVENT
DTSTART;VALUE=DATE:20220417
DTEND;VALUE=DATE:20220418
DTSTAMP:20260423T063537
CREATED:20220408T012644Z
LAST-MODIFIED:20220408T012644Z
UID:511874-1650153600-1650239999@kotaconnections.net
SUMMARY:HAPPY EASTER
DESCRIPTION:We hope everyone has a good\, relaxing Easter Sunday!
URL:https://kotaconnections.net/activity/happy-easter/
LOCATION:MN
END:VEVENT
BEGIN:VEVENT
DTSTART;VALUE=DATE:20220415
DTEND;VALUE=DATE:20220416
DTSTAMP:20260423T063537
CREATED:20220408T012602Z
LAST-MODIFIED:20220408T012602Z
UID:511872-1649980800-1650067199@kotaconnections.net
SUMMARY:Good Friday *OFFICE CLOSED*
DESCRIPTION:Kota Connections is closed today in observance of Good Friday.
URL:https://kotaconnections.net/activity/good-friday-office-closed/
LOCATION:MN
END:VEVENT
BEGIN:VEVENT
DTSTART;TZID=UTC:20220414T180000
DTEND;TZID=UTC:20220414T203000
DTSTAMP:20260423T063537
CREATED:20220408T012528Z
LAST-MODIFIED:20220408T012528Z
UID:511870-1649959200-1649968200@kotaconnections.net
SUMMARY:Client Scrapbook
DESCRIPTION:Come to the Lakeville office and work on some scrapbooking for the 30 year memory book. This is Kota Connections 30th year in business!
URL:https://kotaconnections.net/activity/client-scrapbook/
LOCATION:Kota Connections\, 8500 210th St W Suite 148\, Lakeville\, MN\, 55044\, United States
END:VEVENT
BEGIN:VEVENT
DTSTART;TZID=UTC:20220413T120000
DTEND;TZID=UTC:20220413T170000
DTSTAMP:20260423T063537
CREATED:20220408T012202Z
LAST-MODIFIED:20220408T012202Z
UID:511864-1649851200-1649869200@kotaconnections.net
SUMMARY:MN Twins vs. Dodgers
DESCRIPTION:The MN Twins take on the Dodgers. Kota Connections has 4 tickets so it is one staff with 3 clients for this event.
URL:https://kotaconnections.net/activity/mn-twins-vs-dodgers/
LOCATION:Target Field\, 1 Twins Way\, Minneapolis\, MN\, 55403\, United States
END:VEVENT
BEGIN:VEVENT
DTSTART;TZID=UTC:20220412T190000
DTEND;TZID=UTC:20220412T213000
DTSTAMP:20260423T063537
CREATED:20220408T011745Z
LAST-MODIFIED:20220408T011745Z
UID:511858-1649790000-1649799000@kotaconnections.net
SUMMARY:MN Wild vs. Oilers
DESCRIPTION:The MN Wild take on the Oilers. Kota Connections has 4 tickets so it is one staff with 3 clients for this event.
URL:https://kotaconnections.net/activity/mn-wild-vs-oilers/
LOCATION:Xcel Center\, 199 W Kellogg Blvd\, St. Paul\, MN\, 55102\, United States
END:VEVENT
BEGIN:VEVENT
DTSTART;TZID=UTC:20220410T193000
DTEND;TZID=UTC:20220410T220000
DTSTAMP:20260423T063537
CREATED:20220408T011548Z
LAST-MODIFIED:20220408T011548Z
UID:511854-1649619000-1649628000@kotaconnections.net
SUMMARY:MN T-Wolves vs. Bulls
DESCRIPTION:The MN Tomberwolves take on the Bulls. Kota Connections has 4 tickets so it is one staff with 3 clients for this event. \n 
URL:https://kotaconnections.net/activity/mn-t-wolves-vs-bulls/
LOCATION:Target Center\, 600 N 1st Ave\, Minneapolis\, MN\, 55403\, United States
END:VEVENT
BEGIN:VEVENT
DTSTART;TZID=UTC:20220410T160000
DTEND;TZID=UTC:20220410T190000
DTSTAMP:20260423T063537
CREATED:20220408T011656Z
LAST-MODIFIED:20220408T011656Z
UID:511856-1649606400-1649617200@kotaconnections.net
SUMMARY:MN Wild vs. Kings
DESCRIPTION:The MN Wild take on the Kings. Kota Connections has 4 tickets so it is one staff with 3 clients for this event.
URL:https://kotaconnections.net/activity/mn-wild-vs-kings/
LOCATION:Xcel Center\, 199 W Kellogg Blvd\, St. Paul\, MN\, 55102\, United States
END:VEVENT
BEGIN:VEVENT
DTSTART;TZID=UTC:20220407T190000
DTEND;TZID=UTC:20220407T213000
DTSTAMP:20260423T063537
CREATED:20220408T011502Z
LAST-MODIFIED:20220408T011502Z
UID:511852-1649358000-1649367000@kotaconnections.net
SUMMARY:MN T-Wolves vs. Spurs
DESCRIPTION:The MN Tomberwolves take on the Spurs. Kota Connections has 4 tickets so it is one staff with 3 clients for this event.
URL:https://kotaconnections.net/activity/mn-t-wolves-vs-spurs-2/
LOCATION:Target Center\, 600 N 1st Ave\, Minneapolis\, MN\, 55403\, United States
END:VEVENT
BEGIN:VEVENT
DTSTART;TZID=UTC:20220405T190000
DTEND;TZID=UTC:20220405T213000
DTSTAMP:20260423T063537
CREATED:20220408T011401Z
LAST-MODIFIED:20220408T011401Z
UID:511850-1649185200-1649194200@kotaconnections.net
SUMMARY:MN T-Wolves vs. Kings
DESCRIPTION:The MN Tomberwolves take on the Kings. Kota Connections has 4 tickets so it is one staff with 3 clients for this event.
URL:https://kotaconnections.net/activity/mn-t-wolves-vs-kings-2/
LOCATION:Target Center\, 600 N 1st Ave\, Minneapolis\, MN\, 55403\, United States
END:VEVENT
BEGIN:VEVENT
DTSTART;TZID=UTC:20220331T190000
DTEND;TZID=UTC:20220331T213000
DTSTAMP:20260423T063537
CREATED:20220223T042124Z
LAST-MODIFIED:20220223T042124Z
UID:511811-1648753200-1648762200@kotaconnections.net
SUMMARY:MN Wild vs. Pittsburgh
DESCRIPTION:MN Wild take on the Pittsburgh Penguins in tonights Wild game.
URL:https://kotaconnections.net/activity/mn-wild-vs-pittsburgh/
LOCATION:Xcel Center\, 199 W Kellogg Blvd\, St. Paul\, MN\, 55102\, United States
END:VEVENT
BEGIN:VEVENT
DTSTART;TZID=UTC:20220329T183000
DTEND;TZID=UTC:20220329T210000
DTSTAMP:20260423T063537
CREATED:20220223T045353Z
LAST-MODIFIED:20220223T045353Z
UID:511847-1648578600-1648587600@kotaconnections.net
SUMMARY:KC Movie Night
DESCRIPTION:Come to the KC Office for a movie night. There will be two options and they will be decided closer to the date of the event. Snacks will be available for purchase. \n**Anyone who can get their own rides would be greatly appreciated.**
URL:https://kotaconnections.net/activity/kc-movie-night-2/
LOCATION:MN
END:VEVENT
BEGIN:VEVENT
DTSTART;TZID=UTC:20220327T170000
DTEND;TZID=UTC:20220327T193000
DTSTAMP:20260423T063537
CREATED:20220223T041942Z
LAST-MODIFIED:20220223T041942Z
UID:511809-1648400400-1648409400@kotaconnections.net
SUMMARY:MN Wild vs. Colorado
DESCRIPTION:MN Wild take on the Colorado Avalanche in tonights Wild game.
URL:https://kotaconnections.net/activity/mn-wild-vs-colorado/
LOCATION:Xcel Center\, 199 W Kellogg Blvd\, St. Paul\, MN\, 55102\, United States
END:VEVENT
BEGIN:VEVENT
DTSTART;TZID=UTC:20220326T190000
DTEND;TZID=UTC:20220326T213000
DTSTAMP:20260423T063537
CREATED:20220223T041757Z
LAST-MODIFIED:20220223T041757Z
UID:511807-1648321200-1648330200@kotaconnections.net
SUMMARY:MN Wild vs. Columbus
DESCRIPTION:MN Wild take on the Columbus Blue Jackets in tonights Wild game.
URL:https://kotaconnections.net/activity/mn-wild-vs-columbus/
LOCATION:Xcel Center\, 199 W Kellogg Blvd\, St. Paul\, MN\, 55102\, United States
END:VEVENT
BEGIN:VEVENT
DTSTART;TZID=UTC:20220325T190000
DTEND;TZID=UTC:20220325T213000
DTSTAMP:20260423T063537
CREATED:20220223T043440Z
LAST-MODIFIED:20220223T043440Z
UID:511825-1648234800-1648243800@kotaconnections.net
SUMMARY:MN Timberwolves vs. Dallas
DESCRIPTION:The Timberwolves take on the Mavericks in tonights game.
URL:https://kotaconnections.net/activity/mn-timberwolves-vs-dallas/
LOCATION:Target Center\, 600 N 1st Ave\, Minneapolis\, MN\, 55403\, United States
END:VEVENT
BEGIN:VEVENT
DTSTART;TZID=UTC:20220324T180000
DTEND;TZID=UTC:20220324T203000
DTSTAMP:20260423T063537
CREATED:20220223T045235Z
LAST-MODIFIED:20220223T045235Z
UID:511845-1648144800-1648153800@kotaconnections.net
SUMMARY:Grand Slam
DESCRIPTION:Join the group at Grand Slam to play arcade games\, laser tag\, mini golf\, or jump into the batting cages. \n**Anyone who can get their own rides would be greatly appreciated.**
URL:https://kotaconnections.net/activity/grand-slam-4/
LOCATION:MN
END:VEVENT
BEGIN:VEVENT
DTSTART;TZID=UTC:20220323T190000
DTEND;TZID=UTC:20220323T213000
DTSTAMP:20260423T063537
CREATED:20220223T043317Z
LAST-MODIFIED:20220223T043317Z
UID:511823-1648062000-1648071000@kotaconnections.net
SUMMARY:MN Timberwolves vs. Phoenix
DESCRIPTION:The Timberwolves take on the Suns in tonights game.
URL:https://kotaconnections.net/activity/mn-timberwolves-vs-phoenix/
LOCATION:Target Center\, 600 N 1st Ave\, Minneapolis\, MN\, 55403\, United States
END:VEVENT
BEGIN:VEVENT
DTSTART;TZID=UTC:20220322T180000
DTEND;TZID=UTC:20220322T203000
DTSTAMP:20260423T063537
CREATED:20220223T045122Z
LAST-MODIFIED:20220223T045122Z
UID:511843-1647972000-1647981000@kotaconnections.net
SUMMARY:Target Shop + Beverage or Snack
DESCRIPTION:Go to Target and get what you need from the store. \n**Anyone who can get their own rides would be greatly appreciated.**
URL:https://kotaconnections.net/activity/target-shop-beverage-or-snack/
LOCATION:MN
END:VEVENT
BEGIN:VEVENT
DTSTART;TZID=UTC:20220321T190000
DTEND;TZID=UTC:20220321T213000
DTSTAMP:20260423T063537
CREATED:20220223T041631Z
LAST-MODIFIED:20220223T041631Z
UID:511805-1647889200-1647898200@kotaconnections.net
SUMMARY:MN Wild vs. Vegas
DESCRIPTION:MN Wild take on the Vegas Golden Knights in tonights Wild game
URL:https://kotaconnections.net/activity/mn-wild-vs-vegas/
LOCATION:Xcel Center\, 199 W Kellogg Blvd\, St. Paul\, MN\, 55102\, United States
END:VEVENT
BEGIN:VEVENT
DTSTART;TZID=UTC:20220319T130000
DTEND;TZID=UTC:20220319T153000
DTSTAMP:20260423T063537
CREATED:20220223T041517Z
LAST-MODIFIED:20220223T041517Z
UID:511803-1647694800-1647703800@kotaconnections.net
SUMMARY:MN Wild vs. Chicago
DESCRIPTION:MN Wild take on the Chicago Blackhawks in tonights Wild game
URL:https://kotaconnections.net/activity/mn-wild-vs-chicago/
LOCATION:Xcel Center\, 199 W Kellogg Blvd\, St. Paul\, MN\, 55102\, United States
END:VEVENT
BEGIN:VEVENT
DTSTART;TZID=UTC:20220317T180000
DTEND;TZID=UTC:20220317T210000
DTSTAMP:20260423T063537
CREATED:20220223T044932Z
LAST-MODIFIED:20220223T044932Z
UID:511841-1647540000-1647550800@kotaconnections.net
SUMMARY:KC Meeting + Outback Steakhouse Dinner
DESCRIPTION:Join the group for the KC Meeting and get dinner at Outback Steakhouse. \n**Anyone who can get their own rides would be greatly appreciated.**
URL:https://kotaconnections.net/activity/kc-meeting-outback-steakhouse-dinner/
LOCATION:MN
END:VEVENT
BEGIN:VEVENT
DTSTART;TZID=UTC:20220316T190000
DTEND;TZID=UTC:20220316T213000
DTSTAMP:20260423T063537
CREATED:20220223T043152Z
LAST-MODIFIED:20220223T043152Z
UID:511821-1647457200-1647466200@kotaconnections.net
SUMMARY:MN Timberwolves vs. Los Angeles
DESCRIPTION:The Timberwolves take on the Lakers in tonights game.
URL:https://kotaconnections.net/activity/mn-timberwolves-vs-los-angeles/
LOCATION:Target Center\, 600 N 1st Ave\, Minneapolis\, MN\, 55403\, United States
END:VEVENT
BEGIN:VEVENT
DTSTART;TZID=UTC:20220316T190000
DTEND;TZID=UTC:20220316T213000
DTSTAMP:20260423T063537
CREATED:20220223T041402Z
LAST-MODIFIED:20220223T041402Z
UID:511801-1647457200-1647466200@kotaconnections.net
SUMMARY:MN Wild vs. Boston
DESCRIPTION:MN Wild take on the Boston Bruins in tonights Wild game.
URL:https://kotaconnections.net/activity/mn-wild-vs-boston/
LOCATION:Xcel Center\, 199 W Kellogg Blvd\, St. Paul\, MN\, 55102\, United States
END:VEVENT
BEGIN:VEVENT
DTSTART;TZID=UTC:20220315T180000
DTEND;TZID=UTC:20220315T210000
DTSTAMP:20260423T063537
CREATED:20220223T044819Z
LAST-MODIFIED:20220223T044819Z
UID:511839-1647367200-1647378000@kotaconnections.net
SUMMARY:KC Meeting + Dinner at Texas Roadhouse
DESCRIPTION:Join the group at Texas Roadhouse for the KC Meeting and dinner. \n**Anyone who can get their own rides would be greatly appreciated.**
URL:https://kotaconnections.net/activity/kc-meeting-dinner-at-texas-roadhouse/
LOCATION:MN
END:VEVENT
BEGIN:VEVENT
DTSTART;TZID=UTC:20220312T110000
DTEND;TZID=UTC:20220312T150000
DTSTAMP:20260423T063537
CREATED:20220223T044702Z
LAST-MODIFIED:20220223T044702Z
UID:511837-1647082800-1647097200@kotaconnections.net
SUMMARY:Chanhassen Dinner Theater: Footloose
DESCRIPTION:PRE-PAID ACTIVITY. Tickets have already been purchased and paid for for this event.
URL:https://kotaconnections.net/activity/chanhassen-dinner-theater-footloose/
LOCATION:MN
END:VEVENT
BEGIN:VEVENT
DTSTART;TZID=UTC:20220311T183000
DTEND;TZID=UTC:20220311T210000
DTSTAMP:20260423T063537
CREATED:20220223T044543Z
LAST-MODIFIED:20220223T044543Z
UID:511835-1647023400-1647032400@kotaconnections.net
SUMMARY:PE St. Patrick's Dance
DESCRIPTION:Kota Connections is attending the Project Explore St. Patricks Dance at Valley Middle School.
URL:https://kotaconnections.net/activity/pe-st-patricks-dance/
LOCATION:Apple Valley Middle School\, 900 Garden View Drive\, Apple Valley\, Minnesota\, 55124
END:VEVENT
BEGIN:VEVENT
DTSTART;TZID=UTC:20220310T180000
DTEND;TZID=UTC:20220310T200000
DTSTAMP:20260423T063537
CREATED:20220223T044434Z
LAST-MODIFIED:20220223T044434Z
UID:511833-1646935200-1646942400@kotaconnections.net
SUMMARY:Client Scrapbook Workshop
DESCRIPTION:Work on your personal page for the Kota Connections 30 year book that will be completed at the end of the year. \n**Anyone who can get their own rides would be greatly appreciated.**
URL:https://kotaconnections.net/activity/client-scrapbook-workshop/
LOCATION:MN
END:VEVENT
BEGIN:VEVENT
DTSTART;TZID=UTC:20220309T190000
DTEND;TZID=UTC:20220309T213000
DTSTAMP:20260423T063537
CREATED:20220223T043003Z
LAST-MODIFIED:20220223T043003Z
UID:511819-1646852400-1646861400@kotaconnections.net
SUMMARY:MN Timberwolves vs. Oklahoma City
DESCRIPTION:The Timberwolves take on the Thunder in tonights game.
URL:https://kotaconnections.net/activity/mn-timberwolves-vs-oklahoma-city/
LOCATION:Target Center\, 600 N 1st Ave\, Minneapolis\, MN\, 55403\, United States
END:VEVENT
BEGIN:VEVENT
DTSTART;TZID=UTC:20220308T183000
DTEND;TZID=UTC:20220308T210000
DTSTAMP:20260423T063537
CREATED:20220223T044306Z
LAST-MODIFIED:20220223T045520Z
UID:511831-1646764200-1646773200@kotaconnections.net
SUMMARY:KC Movie Night
DESCRIPTION:Join the group at the KC Office for a Movie. There will be 2 choices that will be decided on closer to the date. There will be snacks for purchase. \n**Anyone who can get their own rides would be greatly appreciated.**
URL:https://kotaconnections.net/activity/kc-movie-night/
LOCATION:MN
END:VEVENT
END:VCALENDAR