BEGIN:VCALENDAR
VERSION:2.0
PRODID:-//Kota Connections, Inc. - ECPv6.8.2.1//NONSGML v1.0//EN
CALSCALE:GREGORIAN
METHOD:PUBLISH
X-WR-CALNAME:Kota Connections, Inc.
X-ORIGINAL-URL:https://kotaconnections.net
X-WR-CALDESC:Events for Kota Connections, Inc.
REFRESH-INTERVAL;VALUE=DURATION:PT1H
X-Robots-Tag:noindex
X-PUBLISHED-TTL:PT1H
BEGIN:VTIMEZONE
TZID:UTC
BEGIN:STANDARD
TZOFFSETFROM:+0000
TZOFFSETTO:+0000
TZNAME:UTC
DTSTART:20210101T000000
END:STANDARD
END:VTIMEZONE
BEGIN:VEVENT
DTSTART;TZID=UTC:20220130T190000
DTEND;TZID=UTC:20220130T213000
DTSTAMP:20260423T075958
CREATED:20211230T031956Z
LAST-MODIFIED:20211230T031958Z
UID:511670-1643569200-1643578200@kotaconnections.net
SUMMARY:MN Timberwolves vs. Utah Jazz
DESCRIPTION:The Timberwolves take on the Jazz
URL:https://kotaconnections.net/activity/mn-timberwolves-vs-utah-jazz-2/
LOCATION:Target Center\, 600 N 1st Ave\, Minneapolis\, MN\, 55403\, United States
END:VEVENT
BEGIN:VEVENT
DTSTART;TZID=UTC:20220128T183000
DTEND;TZID=UTC:20220128T210000
DTSTAMP:20260423T075958
CREATED:20211230T034711Z
LAST-MODIFIED:20211230T034712Z
UID:511709-1643394600-1643403600@kotaconnections.net
SUMMARY:Buck Hill Skiing or Tubing
DESCRIPTION:Join the group at Buck Hill to go skiing or tubing.
URL:https://kotaconnections.net/activity/buck-hill-skiing-or-tubing/
END:VEVENT
BEGIN:VEVENT
DTSTART;TZID=UTC:20220127T180000
DTEND;TZID=UTC:20220127T200000
DTSTAMP:20260423T075958
CREATED:20211230T034554Z
LAST-MODIFIED:20211230T034556Z
UID:511706-1643306400-1643313600@kotaconnections.net
SUMMARY:Target Shop and Beverage/Snack
DESCRIPTION:If you need some items from Target for your apartment\, join the group to get them at Target.
URL:https://kotaconnections.net/activity/target-shop-and-beverage-snack-2/
END:VEVENT
BEGIN:VEVENT
DTSTART;TZID=UTC:20220125T180000
DTEND;TZID=UTC:20220125T203000
DTSTAMP:20260423T075958
CREATED:20211230T034428Z
LAST-MODIFIED:20211230T034429Z
UID:511703-1643133600-1643142600@kotaconnections.net
SUMMARY:Mini Golf Beverage and Snack
DESCRIPTION:Join the group going to the Mall of America to go mini golfing and getting a beverage and snacks.
URL:https://kotaconnections.net/activity/mini-golf-beverage-and-snack/
LOCATION:Mall of America\, 60 E Broadway\, Bloomington\, MN\, 55425\, United States
END:VEVENT
BEGIN:VEVENT
DTSTART;TZID=UTC:20220124T190000
DTEND;TZID=UTC:20220124T213000
DTSTAMP:20260423T075958
CREATED:20211230T034215Z
LAST-MODIFIED:20211230T034217Z
UID:511700-1643050800-1643059800@kotaconnections.net
SUMMARY:MN Wild vs. Montreal Canadians
DESCRIPTION:The MN Wild take on the Canadians.
URL:https://kotaconnections.net/activity/mn-wild-vs-montreal-canadians/
LOCATION:Xcel Center\, 199 W Kellogg Blvd\, St. Paul\, MN\, 55102\, United States
END:VEVENT
BEGIN:VEVENT
DTSTART;TZID=UTC:20220123T190000
DTEND;TZID=UTC:20220123T213000
DTSTAMP:20260423T075958
CREATED:20211230T031710Z
LAST-MODIFIED:20211230T031712Z
UID:511667-1642964400-1642973400@kotaconnections.net
SUMMARY:MN Timberwolves vs. Brooklyn Nets
DESCRIPTION:The Timberwolves take on the Nets
URL:https://kotaconnections.net/activity/mn-timberwolves-vs-brooklyn-nets/
LOCATION:Target Center\, 600 N 1st Ave\, Minneapolis\, MN\, 55403\, United States
END:VEVENT
BEGIN:VEVENT
DTSTART;TZID=UTC:20220122T083000
DTEND;TZID=UTC:20220122T220000
DTSTAMP:20260423T075958
CREATED:20211230T034109Z
LAST-MODIFIED:20211230T034111Z
UID:511697-1642840200-1642888800@kotaconnections.net
SUMMARY:Fitness Walk
DESCRIPTION:Come walk around the Mall of America with Kota Connections.
URL:https://kotaconnections.net/activity/fitness-walk-2/
LOCATION:Mall of America\, 60 E Broadway\, Bloomington\, MN\, 55425\, United States
END:VEVENT
BEGIN:VEVENT
DTSTART;TZID=UTC:20220120T180000
DTEND;TZID=UTC:20220120T203000
DTSTAMP:20260423T075958
CREATED:20211230T034007Z
LAST-MODIFIED:20211230T034009Z
UID:511694-1642701600-1642710600@kotaconnections.net
SUMMARY:Open Office and Videogame Night
DESCRIPTION:Join the group at the Lakeville office for Open Office and videogame night.
URL:https://kotaconnections.net/activity/open-office-and-videogame-night/
LOCATION:Kota Connections\, 8500 210th St W Suite 148\, Lakeville\, MN\, 55044\, United States
END:VEVENT
BEGIN:VEVENT
DTSTART;TZID=UTC:20220119T180000
DTEND;TZID=UTC:20220119T203000
DTSTAMP:20260423T075958
CREATED:20211230T033900Z
LAST-MODIFIED:20211230T033901Z
UID:511691-1642615200-1642624200@kotaconnections.net
SUMMARY:KC Meeting\, Dinner\, and Bingo @ Wild Bills
DESCRIPTION:Join the group for dinner\, bingo\, and the KC Meeting at Wild Bills
URL:https://kotaconnections.net/activity/kc-meeting-dinner-and-bingo-wild-bills-2/
END:VEVENT
BEGIN:VEVENT
DTSTART;TZID=UTC:20220118T173000
DTEND;TZID=UTC:20220118T203000
DTSTAMP:20260423T075958
CREATED:20211230T033741Z
LAST-MODIFIED:20211230T033742Z
UID:511688-1642527000-1642537800@kotaconnections.net
SUMMARY:KC Meeting\, Dinner\, and Bingo @ The Mad Cow
DESCRIPTION:Join the group for dinner\, bingo and the KC Meeting at the Mad Cow.
URL:https://kotaconnections.net/activity/kc-meeting-dinner-and-bingo-the-mad-cow/
END:VEVENT
BEGIN:VEVENT
DTSTART;TZID=UTC:20220117T180000
DTEND;TZID=UTC:20220117T213000
DTSTAMP:20260423T075958
CREATED:20211230T033526Z
LAST-MODIFIED:20211230T033528Z
UID:511685-1642442400-1642455000@kotaconnections.net
SUMMARY:Movie Night
DESCRIPTION:The Movie Theater and movie choices will be decided closer to the event.
URL:https://kotaconnections.net/activity/movie-night-8/
END:VEVENT
BEGIN:VEVENT
DTSTART;TZID=UTC:20220116T190000
DTEND;TZID=UTC:20220116T213000
DTSTAMP:20260423T075958
CREATED:20211230T031601Z
LAST-MODIFIED:20211230T031602Z
UID:511664-1642359600-1642368600@kotaconnections.net
SUMMARY:MN Timberwolves vs. Golden State Warriors
DESCRIPTION:The Timberwolves take on the Warriors
URL:https://kotaconnections.net/activity/mn-timberwolves-vs-golden-state-warriors/
LOCATION:Target Center\, 600 N 1st Ave\, Minneapolis\, MN\, 55403\, United States
END:VEVENT
BEGIN:VEVENT
DTSTART;TZID=UTC:20220115T080000
DTEND;TZID=UTC:20220115T213000
DTSTAMP:20260423T075958
CREATED:20211230T033426Z
LAST-MODIFIED:20211230T033428Z
UID:511682-1642233600-1642282200@kotaconnections.net
SUMMARY:Out to Breakfast @ The Mason Jar
DESCRIPTION:Join the group for breakfast at the Mason Jar.
URL:https://kotaconnections.net/activity/out-to-breakfast-the-mason-jar/
END:VEVENT
BEGIN:VEVENT
DTSTART;TZID=UTC:20220113T183000
DTEND;TZID=UTC:20220113T203000
DTSTAMP:20260423T075958
CREATED:20211230T033144Z
LAST-MODIFIED:20211230T033146Z
UID:511679-1642098600-1642105800@kotaconnections.net
SUMMARY:Nature Illuminated Walk thru
DESCRIPTION:Join the group walking through Nature Illuminated at the MN Zoo.
URL:https://kotaconnections.net/activity/nature-illuminated-walk-thru/
END:VEVENT
BEGIN:VEVENT
DTSTART;TZID=UTC:20220112T080000
DTEND;TZID=UTC:20220112T093000
DTSTAMP:20260423T075958
CREATED:20211230T033038Z
LAST-MODIFIED:20211230T033040Z
UID:511676-1641974400-1641979800@kotaconnections.net
SUMMARY:Out to Breakfast at IHOP
DESCRIPTION:Join the group for Breakfast at IHOP
URL:https://kotaconnections.net/activity/out-to-breakfast-at-ihop/
END:VEVENT
BEGIN:VEVENT
DTSTART;TZID=UTC:20220107T183000
DTEND;TZID=UTC:20220107T210000
DTSTAMP:20260423T075958
CREATED:20211230T032937Z
LAST-MODIFIED:20211230T032938Z
UID:511673-1641580200-1641589200@kotaconnections.net
SUMMARY:PE Dance
DESCRIPTION:Project Explore is hosting a dance at Valley Middle School
URL:https://kotaconnections.net/activity/pe-dance/
LOCATION:Apple Valley Middle School\, 900 Garden View Drive\, Apple Valley\, Minnesota\, 55124
END:VEVENT
BEGIN:VEVENT
DTSTART;TZID=UTC:20220105T190000
DTEND;TZID=UTC:20220105T213000
DTSTAMP:20260423T075958
CREATED:20211230T031426Z
LAST-MODIFIED:20211230T031428Z
UID:511661-1641409200-1641418200@kotaconnections.net
SUMMARY:MN Timberwolves vs. Oklahoma City Thunder
DESCRIPTION:The Timberwolves take on the Thunder
URL:https://kotaconnections.net/activity/mn-timberwolves-vs-oklahoma-city-thunder/
LOCATION:Target Center\, 600 N 1st Ave\, Minneapolis\, MN\, 55403\, United States
END:VEVENT
BEGIN:VEVENT
DTSTART;TZID=UTC:20211231T000000
DTEND;TZID=UTC:20211231T235959
DTSTAMP:20260423T075958
CREATED:20211208T031336Z
LAST-MODIFIED:20211208T031338Z
UID:511649-1640908800-1640995199@kotaconnections.net
SUMMARY:***OFFICE CLOSED***
DESCRIPTION:Kota Connections office is recognizing today as the New Years Holiday and so the office is closed.
URL:https://kotaconnections.net/activity/office-closed-8/
END:VEVENT
BEGIN:VEVENT
DTSTART;TZID=UTC:20211230T183000
DTEND;TZID=UTC:20211230T220000
DTSTAMP:20260423T075958
CREATED:20211208T031637Z
LAST-MODIFIED:20211208T031639Z
UID:511655-1640889000-1640901600@kotaconnections.net
SUMMARY:KC New Year's Eve Party
DESCRIPTION:Be prepared for a little later night than usual. KC is throwing a New Year’s Eve party a little early to celebrate the New Year coming up.
URL:https://kotaconnections.net/activity/kc-new-years-eve-party/
LOCATION:Kota Connections\, 8500 210th St W Suite 148\, Lakeville\, MN\, 55044\, United States
END:VEVENT
BEGIN:VEVENT
DTSTART;TZID=UTC:20211229T183000
DTEND;TZID=UTC:20211229T213000
DTSTAMP:20260423T075958
CREATED:20211208T031457Z
LAST-MODIFIED:20211208T031459Z
UID:511652-1640802600-1640813400@kotaconnections.net
SUMMARY:Buck Hill
DESCRIPTION:Join the group in either Skiing or tubing at Buck Hill. *Tubing is $30 and Skiing is $100 to rent and ski*
URL:https://kotaconnections.net/activity/buck-hill/
END:VEVENT
BEGIN:VEVENT
DTSTART;TZID=UTC:20211228T190000
DTEND;TZID=UTC:20211228T213000
DTSTAMP:20260423T075958
CREATED:20211208T025024Z
LAST-MODIFIED:20211208T025026Z
UID:511603-1640718000-1640727000@kotaconnections.net
SUMMARY:MN Timberwolves vs. New York Knicks
DESCRIPTION:Timberwolves take on the Knicks
URL:https://kotaconnections.net/activity/mn-timberwolves-vs-new-york-knicks/
LOCATION:Target Center\, 600 N 1st Ave\, Minneapolis\, MN\, 55403\, United States
END:VEVENT
BEGIN:VEVENT
DTSTART;TZID=UTC:20211224T000000
DTEND;TZID=UTC:20211224T235959
DTSTAMP:20260423T075958
CREATED:20211208T031257Z
LAST-MODIFIED:20211208T031259Z
UID:511646-1640304000-1640390399@kotaconnections.net
SUMMARY:***OFFICE CLOSED***
DESCRIPTION:Kota Connections office is recognizing today as the Christmas Holiday and so the office is closed.
URL:https://kotaconnections.net/activity/office-closed-7/
END:VEVENT
BEGIN:VEVENT
DTSTART;TZID=UTC:20211223T000000
DTEND;TZID=UTC:20211223T235959
DTSTAMP:20260423T075958
CREATED:20211208T031123Z
LAST-MODIFIED:20211208T031752Z
UID:511643-1640217600-1640303999@kotaconnections.net
SUMMARY:***OFFICE CLOSED***
DESCRIPTION:Kota Connections office is recognizing today as the Christmas Eve Holiday and so the office is closed.
URL:https://kotaconnections.net/activity/office-closed-6/
END:VEVENT
BEGIN:VEVENT
DTSTART;TZID=UTC:20211222T180000
DTEND;TZID=UTC:20211222T190000
DTSTAMP:20260423T075958
CREATED:20211208T031015Z
LAST-MODIFIED:20211208T031016Z
UID:511640-1640196000-1640199600@kotaconnections.net
SUMMARY:KC Virtual Bingo
DESCRIPTION:Kota Connections is bringing back virtual bingo for those that are not comfortable going in person at this time. Join and see if you can have the lucky cards tonight!
URL:https://kotaconnections.net/activity/kc-virtual-bingo/
END:VEVENT
BEGIN:VEVENT
DTSTART;TZID=UTC:20211220T180000
DTEND;TZID=UTC:20211220T213000
DTSTAMP:20260423T075958
CREATED:20211208T030303Z
LAST-MODIFIED:20211208T030305Z
UID:511630-1640023200-1640035800@kotaconnections.net
SUMMARY:Movie Night
DESCRIPTION:Join the group at the Movie Theater for a movie tonight. The movie theater will be decided as the date gets closer with whichever theater has the best options. Price does not include spending money.
URL:https://kotaconnections.net/activity/movie-night-7/
END:VEVENT
BEGIN:VEVENT
DTSTART;TZID=UTC:20211219T190000
DTEND;TZID=UTC:20211219T213000
DTSTAMP:20260423T075958
CREATED:20211208T024858Z
LAST-MODIFIED:20211208T024900Z
UID:511600-1639940400-1639949400@kotaconnections.net
SUMMARY:MN Timberwolves vs. Dallas Mavericks
DESCRIPTION:Timberwolves take on the Mavericks
URL:https://kotaconnections.net/activity/mn-timberwolves-vs-dallas-mavericks/
LOCATION:Target Center\, 600 N 1st Ave\, Minneapolis\, MN\, 55403\, United States
END:VEVENT
BEGIN:VEVENT
DTSTART;TZID=UTC:20211218T130000
DTEND;TZID=UTC:20211218T153000
DTSTAMP:20260423T075958
CREATED:20211208T024805Z
LAST-MODIFIED:20211208T024807Z
UID:511597-1639832400-1639841400@kotaconnections.net
SUMMARY:MN Wild vs. Florida Panthers
DESCRIPTION:Wild take on the Panthers
URL:https://kotaconnections.net/activity/mn-wild-vs-florida-panthers/
LOCATION:Xcel Center\, 199 W Kellogg Blvd\, St. Paul\, MN\, 55102\, United States
END:VEVENT
BEGIN:VEVENT
DTSTART;TZID=UTC:20211217T110000
DTEND;TZID=UTC:20211217T200000
DTSTAMP:20260423T075958
CREATED:20211208T030834Z
LAST-MODIFIED:20211208T030836Z
UID:511636-1639738800-1639771200@kotaconnections.net
SUMMARY:KC Christmas Luncheon
DESCRIPTION:Kota Connections Holiday Luncheon is back after taking a year off due to COVID. RSVP’s were due by 12/3. After the Lucheon\, the rest of the days events are a surprise that only David knows what is happening the rest of the day. *Cost for the Lunch is $25. Cost for the rest of the day is $50*
URL:https://kotaconnections.net/activity/kc-christmas-luncheon/
LOCATION:Bracketts Crossing\, 17976 Judicial Rd\, Lakeville\, MN\, 55044\, United States
END:VEVENT
BEGIN:VEVENT
DTSTART;TZID=UTC:20211216T190000
DTEND;TZID=UTC:20211216T213000
DTSTAMP:20260423T075958
CREATED:20211208T024714Z
LAST-MODIFIED:20211208T024716Z
UID:511594-1639681200-1639690200@kotaconnections.net
SUMMARY:MN Wild vs. Buffalo Sabres
DESCRIPTION:Wild take on the Sabres
URL:https://kotaconnections.net/activity/mn-wild-vs-buffalo-sabres/
LOCATION:Xcel Center\, 199 W Kellogg Blvd\, St. Paul\, MN\, 55102\, United States
END:VEVENT
BEGIN:VEVENT
DTSTART;TZID=UTC:20211215T180000
DTEND;TZID=UTC:20211215T203000
DTSTAMP:20260423T075958
CREATED:20211208T030435Z
LAST-MODIFIED:20211208T030437Z
UID:511633-1639591200-1639600200@kotaconnections.net
SUMMARY:Open Office/Videogame Night
DESCRIPTION:Join the group for some office games or play some videogames with your peers.
URL:https://kotaconnections.net/activity/open-office-videogame-night-2/
LOCATION:Kota Connections\, 8500 210th St W Suite 148\, Lakeville\, MN\, 55044\, United States
END:VEVENT
END:VCALENDAR