BEGIN:VCALENDAR
VERSION:2.0
PRODID:-//Kota Connections, Inc. - ECPv6.8.2.1//NONSGML v1.0//EN
CALSCALE:GREGORIAN
METHOD:PUBLISH
X-WR-CALNAME:Kota Connections, Inc.
X-ORIGINAL-URL:https://kotaconnections.net
X-WR-CALDESC:Events for Kota Connections, Inc.
REFRESH-INTERVAL;VALUE=DURATION:PT1H
X-Robots-Tag:noindex
X-PUBLISHED-TTL:PT1H
BEGIN:VTIMEZONE
TZID:UTC
BEGIN:STANDARD
TZOFFSETFROM:+0000
TZOFFSETTO:+0000
TZNAME:UTC
DTSTART:20230101T000000
END:STANDARD
END:VTIMEZONE
BEGIN:VEVENT
DTSTART;TZID=UTC:20231003T183000
DTEND;TZID=UTC:20231003T210000
DTSTAMP:20260422T224536
CREATED:20231018T191418Z
LAST-MODIFIED:20231018T191418Z
UID:512748-1696357800-1696366800@kotaconnections.net
SUMMARY:Movie Night
DESCRIPTION:The group will attend Movie Night at a local theater. The theater will be chosen closer to the activity date. There will be movie options that everyone can choose from for what movie they want to see. Cost of the event is $15 for a movie ticket and extra spending money is suggested for concessions.
URL:https://kotaconnections.net/activity/movie-night-30/
END:VEVENT
BEGIN:VEVENT
DTSTART;TZID=UTC:20231007T083000
DTEND;TZID=UTC:20231007T100000
DTSTAMP:20260422T224536
CREATED:20231018T191951Z
LAST-MODIFIED:20231018T191951Z
UID:512762-1696667400-1696672800@kotaconnections.net
SUMMARY:Target Shop
DESCRIPTION:Come get your Target needs with your peers on this event. Cost of this event is $15 for a coffee beverage\, snack\, and then extra money for Shopping.
URL:https://kotaconnections.net/activity/target-shop-4/
END:VEVENT
BEGIN:VEVENT
DTSTART;TZID=UTC:20231007T170000
DTEND;TZID=UTC:20231007T200000
DTSTAMP:20260422T224536
CREATED:20231018T191551Z
LAST-MODIFIED:20231018T191551Z
UID:512752-1696698000-1696708800@kotaconnections.net
SUMMARY:MN Wild
DESCRIPTION:Kota Connections has 4 tickets\, 1 staff and 3 clients\, to attend the MN Wild game today. **Xcel Energy Center does not accept cash\, so a card is required for concessions purchases.**
URL:https://kotaconnections.net/activity/mn-wild-13/
LOCATION:Xcel Center\, 199 W Kellogg Blvd\, St. Paul\, MN\, 55102\, United States
END:VEVENT
BEGIN:VEVENT
DTSTART;TZID=UTC:20231010T180000
DTEND;TZID=UTC:20231010T203000
DTSTAMP:20260422T224536
CREATED:20231018T191804Z
LAST-MODIFIED:20231018T191804Z
UID:512758-1696960800-1696969800@kotaconnections.net
SUMMARY:Open Office
DESCRIPTION:Come play Videogames\, card games\, pool\, darts\, or a bunch of other games with your peers. *Snacks will be available for purchase.*
URL:https://kotaconnections.net/activity/open-office-5/
LOCATION:Kota Connections\, 8500 210th St W Suite 148\, Lakeville\, MN\, 55044\, United States
END:VEVENT
BEGIN:VEVENT
DTSTART;TZID=UTC:20231011T180000
DTEND;TZID=UTC:20231011T203000
DTSTAMP:20260422T224536
CREATED:20231018T191848Z
LAST-MODIFIED:20231018T191848Z
UID:512760-1697047200-1697056200@kotaconnections.net
SUMMARY:Open Office
DESCRIPTION:Come play Videogames\, card games\, pool\, darts\, or a bunch of other games with your peers. *Snacks will be available for purchase.*
URL:https://kotaconnections.net/activity/open-office-6/
LOCATION:Kota Connections\, 8500 210th St W Suite 148\, Lakeville\, MN\, 55044\, United States
END:VEVENT
BEGIN:VEVENT
DTSTART;TZID=UTC:20231013T180000
DTEND;TZID=UTC:20231013T220000
DTSTAMP:20260422T224536
CREATED:20231018T192136Z
LAST-MODIFIED:20231018T192136Z
UID:512764-1697220000-1697234400@kotaconnections.net
SUMMARY:Nowhere Haunted House
DESCRIPTION:Kota Connections switched this event to Nowhere Haunted House because of rainy weather. Join the group for an evening at a haunted house to get in the spirit for Halloween.
URL:https://kotaconnections.net/activity/nowhere-haunted-house/
END:VEVENT
BEGIN:VEVENT
DTSTART;TZID=UTC:20231014T090000
DTEND;TZID=UTC:20231014T120000
DTSTAMP:20260422T224536
CREATED:20231018T192621Z
LAST-MODIFIED:20231018T192621Z
UID:512766-1697274000-1697284800@kotaconnections.net
SUMMARY:McDonald's + Candy Store + PE Craft Fair
DESCRIPTION:Kota Connections adjusted this event due to bad weather. Join the group for breakfast at McDonald’s before heading the to Cady Store in Jordan and the the Project Explore Craft Fair at Valley Middle School.
URL:https://kotaconnections.net/activity/mcdonalds-candy-store-pe-craft-fair/
END:VEVENT
BEGIN:VEVENT
DTSTART;TZID=UTC:20231017T183000
DTEND;TZID=UTC:20231017T200000
DTSTAMP:20260422T224536
CREATED:20231018T193247Z
LAST-MODIFIED:20231018T193247Z
UID:512768-1697567400-1697572800@kotaconnections.net
SUMMARY:KC Meeting
DESCRIPTION:Come to the office in Lakeville for the KC Meeting. November activity calendars and sign up cards will be handed out tonight. If you have any ideas for future activities\, this would be a great place to bring that up.
URL:https://kotaconnections.net/activity/kc-meeting-19/
LOCATION:Kota Connections\, 8500 210th St W Suite 148\, Lakeville\, MN\, 55044\, United States
END:VEVENT
BEGIN:VEVENT
DTSTART;TZID=UTC:20231018T183000
DTEND;TZID=UTC:20231018T200000
DTSTAMP:20260422T224536
CREATED:20231018T193315Z
LAST-MODIFIED:20231018T193315Z
UID:512770-1697653800-1697659200@kotaconnections.net
SUMMARY:KC Meeting
DESCRIPTION:Come to the office in Lakeville for the KC Meeting. November activity calendars and sign up cards will be handed out tonight. If you have any ideas for future activities\, this would be a great place to bring that up.
URL:https://kotaconnections.net/activity/kc-meeting-20/
LOCATION:Kota Connections\, 8500 210th St W Suite 148\, Lakeville\, MN\, 55044\, United States
END:VEVENT
BEGIN:VEVENT
DTSTART;TZID=UTC:20231019T190000
DTEND;TZID=UTC:20231019T213000
DTSTAMP:20260422T224536
CREATED:20231018T191627Z
LAST-MODIFIED:20231018T191627Z
UID:512754-1697742000-1697751000@kotaconnections.net
SUMMARY:MN Wild
DESCRIPTION:Kota Connections has 4 tickets\, 1 staff and 3 clients\, to attend the MN Wild game today. **Xcel Energy Center does not accept cash\, so a card is required for concessions purchases.**
URL:https://kotaconnections.net/activity/mn-wild-14/
LOCATION:Xcel Center\, 199 W Kellogg Blvd\, St. Paul\, MN\, 55102\, United States
END:VEVENT
BEGIN:VEVENT
DTSTART;TZID=UTC:20231021T080000
DTEND;TZID=UTC:20231021T100000
DTSTAMP:20260422T224536
CREATED:20231018T194027Z
LAST-MODIFIED:20231018T194027Z
UID:512772-1697875200-1697882400@kotaconnections.net
SUMMARY:Breakfast @ Denny's
DESCRIPTION:Kota Connections will be going to Denny’s for breakfast. Everyone will pay $25 for breakfast this morning. If your meal is less than that\, you will have money at the office for the future. If you spend more the $25\, you will get a bill for what you went over.
URL:https://kotaconnections.net/activity/breakfast-dennys/
END:VEVENT
BEGIN:VEVENT
DTSTART;TZID=UTC:20231024T183000
DTEND;TZID=UTC:20231024T210000
DTSTAMP:20260422T224536
CREATED:20231018T191452Z
LAST-MODIFIED:20231018T191452Z
UID:512750-1698172200-1698181200@kotaconnections.net
SUMMARY:Movie Night
DESCRIPTION:The group will attend Movie Night at a local theater. The theater will be chosen closer to the activity date. There will be movie options that everyone can choose from for what movie they want to see. Cost of the event is $15 for a movie ticket and extra spending money is suggested for concessions.
URL:https://kotaconnections.net/activity/movie-night-31/
END:VEVENT
BEGIN:VEVENT
DTSTART;TZID=UTC:20231024T200000
DTEND;TZID=UTC:20231024T230000
DTSTAMP:20260422T224536
CREATED:20231018T191709Z
LAST-MODIFIED:20231018T191709Z
UID:512756-1698177600-1698188400@kotaconnections.net
SUMMARY:MN Wild
DESCRIPTION:Kota Connections has 4 tickets\, 1 staff and 3 clients\, to attend the MN Wild game today. **Xcel Energy Center does not accept cash\, so a card is required for concessions purchases.**
URL:https://kotaconnections.net/activity/mn-wild-15/
LOCATION:Xcel Center\, 199 W Kellogg Blvd\, St. Paul\, MN\, 55102\, United States
END:VEVENT
BEGIN:VEVENT
DTSTART;TZID=UTC:20231026T183000
DTEND;TZID=UTC:20231026T203000
DTSTAMP:20260422T224536
CREATED:20231018T194448Z
LAST-MODIFIED:20231018T194448Z
UID:512774-1698345000-1698352200@kotaconnections.net
SUMMARY:KC Pumpkin Carving
DESCRIPTION:Get your creativity going with a night to carve pumpkins with your friends. The cost of this event will include a snack and the Pumpkin which you will get to take home!
URL:https://kotaconnections.net/activity/kc-pumpkin-carving-2/
LOCATION:Kota Connections\, 8500 210th St W Suite 148\, Lakeville\, MN\, 55044\, United States
END:VEVENT
BEGIN:VEVENT
DTSTART;TZID=UTC:20231027T183000
DTEND;TZID=UTC:20231027T210000
DTSTAMP:20260422T224536
CREATED:20231018T194633Z
LAST-MODIFIED:20231018T194633Z
UID:512776-1698431400-1698440400@kotaconnections.net
SUMMARY:PE Halloween Dance
DESCRIPTION:Project Explore is hosting the monthly dance. This month\, make sure the wear your best Halloween costume because tonight will be the Halloween Dance. A costume is NOT required to attend.
URL:https://kotaconnections.net/activity/pe-halloween-dance-2/
LOCATION:Farmington High School\, 20655 Flagstaff Ave\, Farmington\, MN\, 55024\, United States
END:VEVENT
BEGIN:VEVENT
DTSTART;TZID=UTC:20231028T150000
DTEND;TZID=UTC:20231028T190000
DTSTAMP:20260422T224536
CREATED:20231018T194724Z
LAST-MODIFIED:20231018T194724Z
UID:512778-1698505200-1698519600@kotaconnections.net
SUMMARY:Valleyfair
DESCRIPTION:Take the day and head out to Valleyfair to go on some rides or just walk around the park. **Valleyfair does not accept cash. Card is required to make purchases.***
URL:https://kotaconnections.net/activity/valleyfair-12/
LOCATION:Valleyfair\, 1 Walley Fair Drive\, Shakopee\, MN\, 55379\, United States
END:VEVENT
BEGIN:VEVENT
DTSTART;TZID=UTC:20231101T190000
DTEND;TZID=UTC:20231101T213000
DTSTAMP:20260422T224536
CREATED:20231018T195339Z
LAST-MODIFIED:20231018T195339Z
UID:512780-1698865200-1698874200@kotaconnections.net
SUMMARY:MN Timberwolves
DESCRIPTION:Kota Connections has 4 tickets\, 1 staff and 3 clients\, to attend the MN Timberwolves game tonight. **Target center does not accept cash\, so a card is required for concessions purchases.**
URL:https://kotaconnections.net/activity/mn-timberwolves-9/
LOCATION:Target Center\, 600 N 1st Ave\, Minneapolis\, MN\, 55403\, United States
END:VEVENT
BEGIN:VEVENT
DTSTART;TZID=UTC:20231102T190000
DTEND;TZID=UTC:20231102T220000
DTSTAMP:20260422T224536
CREATED:20231018T200447Z
LAST-MODIFIED:20231018T200447Z
UID:512796-1698951600-1698962400@kotaconnections.net
SUMMARY:MN Wild
DESCRIPTION:Kota Connections has 4 tickets\, 1 staff and 3 clients\, to attend the MN Wild game today. **Xcel Energy Center does not accept cash\, so a card is required for concessions purchases.**
URL:https://kotaconnections.net/activity/mn-wild-16/
LOCATION:Xcel Center\, 199 W Kellogg Blvd\, St. Paul\, MN\, 55102\, United States
END:VEVENT
BEGIN:VEVENT
DTSTART;TZID=UTC:20231104T190000
DTEND;TZID=UTC:20231104T213000
DTSTAMP:20260422T224536
CREATED:20231018T195423Z
LAST-MODIFIED:20231018T195423Z
UID:512782-1699124400-1699133400@kotaconnections.net
SUMMARY:MN Timberwolves
DESCRIPTION:Kota Connections has 4 tickets\, 1 staff and 3 clients\, to attend the MN Timberwolves game tonight. **Target center does not accept cash\, so a card is required for concessions purchases.**
URL:https://kotaconnections.net/activity/mn-timberwolves-10/
LOCATION:Target Center\, 600 N 1st Ave\, Minneapolis\, MN\, 55403\, United States
END:VEVENT
BEGIN:VEVENT
DTSTART;TZID=UTC:20231104T190000
DTEND;TZID=UTC:20231104T220000
DTSTAMP:20260422T224536
CREATED:20231018T200522Z
LAST-MODIFIED:20231018T200522Z
UID:512798-1699124400-1699135200@kotaconnections.net
SUMMARY:MN Wild
DESCRIPTION:Kota Connections has 4 tickets\, 1 staff and 3 clients\, to attend the MN Wild game today. **Xcel Energy Center does not accept cash\, so a card is required for concessions purchases.**
URL:https://kotaconnections.net/activity/mn-wild-17/
LOCATION:Xcel Center\, 199 W Kellogg Blvd\, St. Paul\, MN\, 55102\, United States
END:VEVENT
BEGIN:VEVENT
DTSTART;TZID=UTC:20231106T190000
DTEND;TZID=UTC:20231106T213000
DTSTAMP:20260422T224536
CREATED:20231018T195459Z
LAST-MODIFIED:20231018T195459Z
UID:512784-1699297200-1699306200@kotaconnections.net
SUMMARY:MN Timberwolves
DESCRIPTION:Kota Connections has 4 tickets\, 1 staff and 3 clients\, to attend the MN Timberwolves game tonight. **Target center does not accept cash\, so a card is required for concessions purchases.**
URL:https://kotaconnections.net/activity/mn-timberwolves-11/
LOCATION:Target Center\, 600 N 1st Ave\, Minneapolis\, MN\, 55403\, United States
END:VEVENT
BEGIN:VEVENT
DTSTART;TZID=UTC:20231107T180000
DTEND;TZID=UTC:20231107T203000
DTSTAMP:20260422T224536
CREATED:20231018T200746Z
LAST-MODIFIED:20231018T200746Z
UID:512804-1699380000-1699389000@kotaconnections.net
SUMMARY:KC Movie Night
DESCRIPTION:Come to the Kota Connections for an outdoor movie if the weather permits. If the weather does not permit\, the movie will be inside. Snacks will be available for purchase.
URL:https://kotaconnections.net/activity/kc-movie-night-4/
LOCATION:Kota Connections\, 8500 210th St W Suite 148\, Lakeville\, MN\, 55044\, United States
END:VEVENT
BEGIN:VEVENT
DTSTART;TZID=UTC:20231108T180000
DTEND;TZID=UTC:20231108T203000
DTSTAMP:20260422T224536
CREATED:20231018T200818Z
LAST-MODIFIED:20231018T200818Z
UID:512806-1699466400-1699475400@kotaconnections.net
SUMMARY:KC Movie Night
DESCRIPTION:Come to the Kota Connections for an outdoor movie if the weather permits. If the weather does not permit\, the movie will be inside. Snacks will be available for purchase.
URL:https://kotaconnections.net/activity/kc-movie-night-5/
LOCATION:Kota Connections\, 8500 210th St W Suite 148\, Lakeville\, MN\, 55044\, United States
END:VEVENT
BEGIN:VEVENT
DTSTART;TZID=UTC:20231108T190000
DTEND;TZID=UTC:20231108T213000
DTSTAMP:20260422T224536
CREATED:20231018T195637Z
LAST-MODIFIED:20231018T195637Z
UID:512786-1699470000-1699479000@kotaconnections.net
SUMMARY:MN Timberwolves
DESCRIPTION:Kota Connections has 4 tickets\, 1 staff and 3 clients\, to attend the MN Timberwolves game tonight. **Target center does not accept cash\, so a card is required for concessions purchases.**
URL:https://kotaconnections.net/activity/mn-timberwolves-12/
LOCATION:Target Center\, 600 N 1st Ave\, Minneapolis\, MN\, 55403\, United States
END:VEVENT
BEGIN:VEVENT
DTSTART;TZID=UTC:20231109T180000
DTEND;TZID=UTC:20231109T190000
DTSTAMP:20260422T224536
CREATED:20231018T201012Z
LAST-MODIFIED:20231018T201012Z
UID:512810-1699552800-1699556400@kotaconnections.net
SUMMARY:Virtual Bingo
DESCRIPTION:Come join the Zoom meeting to play BINGO against your peers and see if you can be lucky enough to win tonight.
URL:https://kotaconnections.net/activity/virtual-bingo-87/
END:VEVENT
BEGIN:VEVENT
DTSTART;TZID=UTC:20231111T090000
DTEND;TZID=UTC:20231111T103000
DTSTAMP:20260422T224536
CREATED:20231018T200916Z
LAST-MODIFIED:20231018T200916Z
UID:512808-1699693200-1699698600@kotaconnections.net
SUMMARY:Target Shop
DESCRIPTION:Come get your Target needs with your peers on this event. Cost of this event is $15 for a coffee beverage\, snack\, and then extra money for Shopping.
URL:https://kotaconnections.net/activity/target-shop-5/
END:VEVENT
BEGIN:VEVENT
DTSTART;TZID=UTC:20231112T170000
DTEND;TZID=UTC:20231112T200000
DTSTAMP:20260422T224536
CREATED:20231018T200558Z
LAST-MODIFIED:20231018T200558Z
UID:512800-1699808400-1699819200@kotaconnections.net
SUMMARY:MN Wild
DESCRIPTION:Kota Connections has 4 tickets\, 1 staff and 3 clients\, to attend the MN Wild game today. **Xcel Energy Center does not accept cash\, so a card is required for concessions purchases.**
URL:https://kotaconnections.net/activity/mn-wild-18/
LOCATION:Xcel Center\, 199 W Kellogg Blvd\, St. Paul\, MN\, 55102\, United States
END:VEVENT
BEGIN:VEVENT
DTSTART;TZID=UTC:20231114T180000
DTEND;TZID=UTC:20231114T200000
DTSTAMP:20260422T224536
CREATED:20231018T201347Z
LAST-MODIFIED:20231018T201347Z
UID:512814-1699984800-1699992000@kotaconnections.net
SUMMARY:KC Meeting @ Red Lobster
DESCRIPTION:In the spirit of Thanksgiving\, Kota Connections always likes to gather with as many clients as possible for a meal. This event used to be at Old Country Buffet. Since that has closed\, this will be an event spread out between 3 different restaurants on 3 different nights. *Clients can only attend one of these three events.* Every client will pay $30 for the dinner. If your meal is less than $30\, you will have a credit towards future events. If you go over $30\, you will get a bill for the amount you went over. Tonight’s restaurant is RED LOBSTER.
URL:https://kotaconnections.net/activity/kc-meeting-red-lobster/
END:VEVENT
BEGIN:VEVENT
DTSTART;TZID=UTC:20231115T180000
DTEND;TZID=UTC:20231115T200000
DTSTAMP:20260422T224536
CREATED:20231018T201445Z
LAST-MODIFIED:20231018T201445Z
UID:512816-1700071200-1700078400@kotaconnections.net
SUMMARY:KC Meeting @ Texas Roadhouse
DESCRIPTION:In the spirit of Thanksgiving\, Kota Connections always likes to gather with as many clients as possible for a meal. This event used to be at Old Country Buffet. Since that has closed\, this will be an event spread out between 3 different restaurants on 3 different nights. *Clients can only attend one of these three events.* Every client will pay $30 for the dinner. If your meal is less than $30\, you will have a credit towards future events. If you go over $30\, you will get a bill for the amount you went over. Tonight’s restaurant is TEXAS ROADHOUSE.
URL:https://kotaconnections.net/activity/kc-meeting-texas-roadhouse-2/
END:VEVENT
BEGIN:VEVENT
DTSTART;TZID=UTC:20231116T180000
DTEND;TZID=UTC:20231116T200000
DTSTAMP:20260422T224536
CREATED:20231018T201536Z
LAST-MODIFIED:20231018T201536Z
UID:512818-1700157600-1700164800@kotaconnections.net
SUMMARY:KC Meeting @ Chianti Grill
DESCRIPTION:In the spirit of Thanksgiving\, Kota Connections always likes to gather with as many clients as possible for a meal. This event used to be at Old Country Buffet. Since that has closed\, this will be an event spread out between 3 different restaurants on 3 different nights. *Clients can only attend one of these three events.* Every client will pay $30 for the dinner. If your meal is less than $30\, you will have a credit towards future events. If you go over $30\, you will get a bill for the amount you went over. Tonight’s restaurant is CHIANTI GRILL.
URL:https://kotaconnections.net/activity/kc-meeting-chianti-grill-2/
END:VEVENT
END:VCALENDAR