BEGIN:VCALENDAR
VERSION:2.0
PRODID:-//Kota Connections, Inc. - ECPv6.8.2.1//NONSGML v1.0//EN
CALSCALE:GREGORIAN
METHOD:PUBLISH
X-WR-CALNAME:Kota Connections, Inc.
X-ORIGINAL-URL:https://kotaconnections.net
X-WR-CALDESC:Events for Kota Connections, Inc.
REFRESH-INTERVAL;VALUE=DURATION:PT1H
X-Robots-Tag:noindex
X-PUBLISHED-TTL:PT1H
BEGIN:VTIMEZONE
TZID:UTC
BEGIN:STANDARD
TZOFFSETFROM:+0000
TZOFFSETTO:+0000
TZNAME:UTC
DTSTART:20230101T000000
END:STANDARD
END:VTIMEZONE
BEGIN:VEVENT
DTSTART;TZID=UTC:20230626T183000
DTEND;TZID=UTC:20230626T203000
DTSTAMP:20260422T224623
CREATED:20230626T013502Z
LAST-MODIFIED:20230626T013502Z
UID:512594-1687804200-1687811400@kotaconnections.net
SUMMARY:Bowling @ Bogarts
DESCRIPTION:Join the group at the Bowling alley tonight for a few games. **There will be limited space available on this event as Kota Connections will only have a few lanes.**
URL:https://kotaconnections.net/activity/bowling-bogarts-9/
END:VEVENT
BEGIN:VEVENT
DTSTART;TZID=UTC:20230627T180000
DTEND;TZID=UTC:20230627T203000
DTSTAMP:20260422T224623
CREATED:20230621T022638Z
LAST-MODIFIED:20230621T022638Z
UID:512574-1687888800-1687897800@kotaconnections.net
SUMMARY:Softball
DESCRIPTION:Game schedule will be given to all teams at the fields.
URL:https://kotaconnections.net/activity/softball-11/
LOCATION:Aronson Park\, 8250 202nd St W\, Lakeville\, MN\, 55044\, United States
END:VEVENT
BEGIN:VEVENT
DTSTART;TZID=UTC:20230628T180000
DTEND;TZID=UTC:20230628T213000
DTSTAMP:20260422T224623
CREATED:20230621T024050Z
LAST-MODIFIED:20230621T024050Z
UID:512590-1687975200-1687987800@kotaconnections.net
SUMMARY:KC Meeting @ Canterbury
DESCRIPTION:Kota Connections will be holding the meeting at Canterbury Park. July calendars will be handed out tonight. After that\, the group will stay to watch a number of races.
URL:https://kotaconnections.net/activity/kc-meeting-canterbury-2/
LOCATION:Canterbury Park\, 1100 Canterbury Road\, Shakopee\, MN\, 55379\, United States
END:VEVENT
BEGIN:VEVENT
DTSTART;TZID=UTC:20230629T180000
DTEND;TZID=UTC:20230629T213000
DTSTAMP:20260422T224623
CREATED:20230621T024259Z
LAST-MODIFIED:20230621T024259Z
UID:512592-1688061600-1688074200@kotaconnections.net
SUMMARY:KC Meeting @ PE Dance
DESCRIPTION:Kota Connections will combine the Meeting with the Project Explore Dance. There will be a live band and a raffle for prizes. July calendars will also be handed out tonight.
URL:https://kotaconnections.net/activity/kc-meeting-pe-dance/
END:VEVENT
BEGIN:VEVENT
DTSTART;TZID=UTC:20230703T183000
DTEND;TZID=UTC:20230703T213000
DTSTAMP:20260422T224623
CREATED:20230702T015217Z
LAST-MODIFIED:20230702T015217Z
UID:512597-1688409000-1688419800@kotaconnections.net
SUMMARY:MN Twins
DESCRIPTION:Kota Connections has 4 tickets\, 1 staff and 3 clients\, to attend the MN Twins game today. **Target field does not accept cash\, so a card is required for concessions purchases.**
URL:https://kotaconnections.net/activity/mn-twins-36/
LOCATION:Target Field\, 1 Twins Way\, Minneapolis\, MN\, 55403\, United States
END:VEVENT
BEGIN:VEVENT
DTSTART;VALUE=DATE:20230704
DTEND;VALUE=DATE:20230705
DTSTAMP:20260422T224623
CREATED:20230702T015950Z
LAST-MODIFIED:20230702T015950Z
UID:512609-1688428800-1688515199@kotaconnections.net
SUMMARY:July 4th *OFFICE CLOSED*
DESCRIPTION:Kota Connections will be closed today in observance of Independence Day.
URL:https://kotaconnections.net/activity/july-4th-office-closed/
END:VEVENT
BEGIN:VEVENT
DTSTART;TZID=UTC:20230705T183000
DTEND;TZID=UTC:20230705T213000
DTSTAMP:20260422T224623
CREATED:20230702T015252Z
LAST-MODIFIED:20230702T015252Z
UID:512599-1688581800-1688592600@kotaconnections.net
SUMMARY:MN Twins
DESCRIPTION:Kota Connections has 4 tickets\, 1 staff and 3 clients\, to attend the MN Twins game today. **Target field does not accept cash\, so a card is required for concessions purchases.**
URL:https://kotaconnections.net/activity/mn-twins-37/
LOCATION:Target Field\, 1 Twins Way\, Minneapolis\, MN\, 55403\, United States
END:VEVENT
BEGIN:VEVENT
DTSTART;TZID=UTC:20230708T110000
DTEND;TZID=UTC:20230708T140000
DTSTAMP:20260422T224623
CREATED:20230702T020108Z
LAST-MODIFIED:20230702T020108Z
UID:512611-1688814000-1688824800@kotaconnections.net
SUMMARY:Como Zoo + Lunch
DESCRIPTION:Kota Connections will be taking a group to Como Zoo today. The group will also have lunch at the Zoo. There will be a required donation to Como Zoo in order to attend this event. This is a Kota Connections requirement\, not a zoo requirement.
URL:https://kotaconnections.net/activity/como-zoo-lunch-3/
END:VEVENT
BEGIN:VEVENT
DTSTART;TZID=UTC:20230708T130000
DTEND;TZID=UTC:20230708T160000
DTSTAMP:20260422T224623
CREATED:20230702T015337Z
LAST-MODIFIED:20230702T015337Z
UID:512601-1688821200-1688832000@kotaconnections.net
SUMMARY:MN Twins
DESCRIPTION:Kota Connections has 4 tickets\, 1 staff and 3 clients\, to attend the MN Twins game today. **Target field does not accept cash\, so a card is required for concessions purchases.**
URL:https://kotaconnections.net/activity/mn-twins-38/
LOCATION:Target Field\, 1 Twins Way\, Minneapolis\, MN\, 55403\, United States
END:VEVENT
BEGIN:VEVENT
DTSTART;TZID=UTC:20230710T183000
DTEND;TZID=UTC:20230710T203000
DTSTAMP:20260422T224623
CREATED:20230702T020157Z
LAST-MODIFIED:20230702T020157Z
UID:512613-1689013800-1689021000@kotaconnections.net
SUMMARY:Bowling @ Bogarts
DESCRIPTION:Join the group at the Bowling alley tonight for a few games. **There will be limited space available on this event as Kota Connections will only have a few lanes.**
URL:https://kotaconnections.net/activity/bowling-bogarts-10/
END:VEVENT
BEGIN:VEVENT
DTSTART;TZID=UTC:20230711T180000
DTEND;TZID=UTC:20230711T190000
DTSTAMP:20260422T224623
CREATED:20230705T025807Z
LAST-MODIFIED:20230705T025807Z
UID:512642-1689098400-1689102000@kotaconnections.net
SUMMARY:Purple vs. Thunder
DESCRIPTION:Purple plays Thunder at 6 PM on field 3
URL:https://kotaconnections.net/activity/purple-vs-thunder/
LOCATION:Aronson Park Field 3\, 8250 202nd St W\, Lakeville\, MN\, 55044\, United States
CATEGORIES:Softball Games,Softball League
END:VEVENT
BEGIN:VEVENT
DTSTART;TZID=UTC:20230711T180000
DTEND;TZID=UTC:20230711T190000
DTSTAMP:20260422T224623
CREATED:20230705T025917Z
LAST-MODIFIED:20230705T025917Z
UID:512644-1689098400-1689102000@kotaconnections.net
SUMMARY:Blue Bandits vs. Minions
DESCRIPTION:Blue Bandits play Minions on field 4 at 6 PM
URL:https://kotaconnections.net/activity/blue-bandits-vs-minions/
LOCATION:Aronson Park Field 4\, 8250 202nd St W\, Lakeville\, MN\, 55044\, United States
CATEGORIES:Softball Games,Softball League
END:VEVENT
BEGIN:VEVENT
DTSTART;TZID=UTC:20230711T180000
DTEND;TZID=UTC:20230711T190000
DTSTAMP:20260422T224623
CREATED:20230705T030037Z
LAST-MODIFIED:20230705T030037Z
UID:512646-1689098400-1689102000@kotaconnections.net
SUMMARY:Green Machine vs. 'Double Header' Team
DESCRIPTION:Green Machine plays the team with a double header at 6 PM on field 5
URL:https://kotaconnections.net/activity/green-machine-vs-double-header-team/
LOCATION:Aronson Park Field 5\, 8250 202nd St W\, Lakeville\, MN\, 55044\, United States
CATEGORIES:Softball Games,Softball League
END:VEVENT
BEGIN:VEVENT
DTSTART;TZID=UTC:20230711T180000
DTEND;TZID=UTC:20230711T203000
DTSTAMP:20260422T224623
CREATED:20230702T020338Z
LAST-MODIFIED:20230702T020338Z
UID:512617-1689098400-1689107400@kotaconnections.net
SUMMARY:Softball
DESCRIPTION:Game schedule will be given to all teams at the fields.
URL:https://kotaconnections.net/activity/softball-12/
LOCATION:Aronson Park\, 8250 202nd St W\, Lakeville\, MN\, 55044\, United States
CATEGORIES:Softball Games,Softball League
END:VEVENT
BEGIN:VEVENT
DTSTART;TZID=UTC:20230711T190000
DTEND;TZID=UTC:20230711T200000
DTSTAMP:20260422T224623
CREATED:20230705T030151Z
LAST-MODIFIED:20230705T030151Z
UID:512648-1689102000-1689105600@kotaconnections.net
SUMMARY:Blue Bandits vs. Red Storm
DESCRIPTION:Blue Bandits play Red Storm at 7:15 PM on field 4
URL:https://kotaconnections.net/activity/blue-bandits-vs-red-storm/
LOCATION:Aronson Park Field 4\, 8250 202nd St W\, Lakeville\, MN\, 55044\, United States
CATEGORIES:Softball Games,Softball League
END:VEVENT
BEGIN:VEVENT
DTSTART;TZID=UTC:20230711T190000
DTEND;TZID=UTC:20230711T200000
DTSTAMP:20260422T224623
CREATED:20230705T030322Z
LAST-MODIFIED:20230705T030322Z
UID:512650-1689102000-1689105600@kotaconnections.net
SUMMARY:Lightning vs. 'Double Header' Team
DESCRIPTION:Lightning play the team with a double header at 7:15 PM on field 3
URL:https://kotaconnections.net/activity/lightning-vs-double-header-team/
LOCATION:Aronson Park Field 3\, 8250 202nd St W\, Lakeville\, MN\, 55044\, United States
CATEGORIES:Softball Games,Softball League
END:VEVENT
BEGIN:VEVENT
DTSTART;TZID=UTC:20230712T100000
DTEND;TZID=UTC:20230712T160000
DTSTAMP:20260422T224623
CREATED:20230702T020722Z
LAST-MODIFIED:20230702T020722Z
UID:512623-1689156000-1689177600@kotaconnections.net
SUMMARY:Valleyfair and Waterpark
DESCRIPTION:Take the day off of work and join the group for a trip to Valleyfair and the waterpark. **Valleyfair does not accept cash. Card is required to make purchases.***
URL:https://kotaconnections.net/activity/valleyfair-and-waterpark/
LOCATION:Valleyfair\, 1 Walley Fair Drive\, Shakopee\, MN\, 55379\, United States
END:VEVENT
BEGIN:VEVENT
DTSTART;TZID=UTC:20230713T173000
DTEND;TZID=UTC:20230713T213000
DTSTAMP:20260422T224623
CREATED:20230702T020853Z
LAST-MODIFIED:20230702T020853Z
UID:512625-1689269400-1689283800@kotaconnections.net
SUMMARY:Dinner and Movie Night
DESCRIPTION:Go out to dinner tonight before heading to a movie. The theater and movie choices will be decided closer to the event.
URL:https://kotaconnections.net/activity/dinner-and-movie-night/
END:VEVENT
BEGIN:VEVENT
DTSTART;TZID=UTC:20230714T170000
DTEND;TZID=UTC:20230714T210000
DTSTAMP:20260422T224623
CREATED:20230702T021218Z
LAST-MODIFIED:20230702T021218Z
UID:512629-1689354000-1689368400@kotaconnections.net
SUMMARY:Pan-O-Prog Cruise Night
DESCRIPTION:Come join the group watching old cars drive thru downtown Lakeville. The group will arrive around 5 and the cars will start driving around 6:30. The activity does not cost anything. $20 is suggested to buy food.
URL:https://kotaconnections.net/activity/pan-o-prog-cruise-night-3/
LOCATION:Downtown Lakeville\, Holyoke Avenue\, Lakeville\, 55044\, United States
END:VEVENT
BEGIN:VEVENT
DTSTART;TZID=UTC:20230715T160000
DTEND;TZID=UTC:20230715T203000
DTSTAMP:20260422T224623
CREATED:20230702T021424Z
LAST-MODIFIED:20230702T021424Z
UID:512631-1689436800-1689453000@kotaconnections.net
SUMMARY:Pan-O-Prog Parade
DESCRIPTION:Join the group watching the Parade as part of Pan-O-Prog in downtown Lakeville. Groups will arrive around 4 and the parade will start around 5:30 PM. The activity is free but $20 is suggested for food.
URL:https://kotaconnections.net/activity/pan-o-prog-parade-3/
LOCATION:Downtown Lakeville\, Holyoke Avenue\, Lakeville\, 55044\, United States
END:VEVENT
BEGIN:VEVENT
DTSTART;TZID=UTC:20230717T183000
DTEND;TZID=UTC:20230717T203000
DTSTAMP:20260422T224623
CREATED:20230702T020233Z
LAST-MODIFIED:20230702T020233Z
UID:512615-1689618600-1689625800@kotaconnections.net
SUMMARY:Bowling @ Bogarts
DESCRIPTION:Join the group at the Bowling alley tonight for a few games. **There will be limited space available on this event as Kota Connections will only have a few lanes.**
URL:https://kotaconnections.net/activity/bowling-bogarts-11/
END:VEVENT
BEGIN:VEVENT
DTSTART;TZID=UTC:20230718T180000
DTEND;TZID=UTC:20230718T203000
DTSTAMP:20260422T224623
CREATED:20230702T020431Z
LAST-MODIFIED:20230702T020431Z
UID:512619-1689703200-1689712200@kotaconnections.net
SUMMARY:Softball
DESCRIPTION:Game schedule will be given to all teams at the fields.
URL:https://kotaconnections.net/activity/softball-13/
LOCATION:Aronson Park\, 8250 202nd St W\, Lakeville\, MN\, 55044\, United States
CATEGORIES:Softball Games,Softball League
END:VEVENT
BEGIN:VEVENT
DTSTART;TZID=UTC:20230719T183000
DTEND;TZID=UTC:20230719T193000
DTSTAMP:20260422T224623
CREATED:20230702T021530Z
LAST-MODIFIED:20230702T021530Z
UID:512633-1689791400-1689795000@kotaconnections.net
SUMMARY:Virtual Bingo
DESCRIPTION:Come join the Zoom meeting to play BINGO against your peers and see if you can be lucky enough to win tonight.
URL:https://kotaconnections.net/activity/virtual-bingo-84/
END:VEVENT
BEGIN:VEVENT
DTSTART;TZID=UTC:20230720T170000
DTEND;TZID=UTC:20230720T203000
DTSTAMP:20260422T224623
CREATED:20230702T021628Z
LAST-MODIFIED:20230702T021628Z
UID:512635-1689872400-1689885000@kotaconnections.net
SUMMARY:KC Meeting + Pool Party
DESCRIPTION:Come to the once a summer Pool Party for the KC Meeting. Be prepared to get a little wet. Kota Connections staff will provide the food and clients are asked to bring a canned food item for donation.
URL:https://kotaconnections.net/activity/kc-meeting-pool-party/
END:VEVENT
BEGIN:VEVENT
DTSTART;TZID=UTC:20230721T190000
DTEND;TZID=UTC:20230721T220000
DTSTAMP:20260422T224623
CREATED:20230702T015451Z
LAST-MODIFIED:20230702T015451Z
UID:512603-1689966000-1689976800@kotaconnections.net
SUMMARY:MN Twins
DESCRIPTION:Kota Connections has 4 tickets\, 1 staff and 3 clients\, to attend the MN Twins game today. **Target field does not accept cash\, so a card is required for concessions purchases.**
URL:https://kotaconnections.net/activity/mn-twins-39/
LOCATION:Target Field\, 1 Twins Way\, Minneapolis\, MN\, 55403\, United States
END:VEVENT
BEGIN:VEVENT
DTSTART;TZID=UTC:20230722T083000
DTEND;TZID=UTC:20230722T103000
DTSTAMP:20260422T224623
CREATED:20230702T021807Z
LAST-MODIFIED:20230702T021807Z
UID:512637-1690014600-1690021800@kotaconnections.net
SUMMARY:Target Shop + COFFEE ONLY
DESCRIPTION:Come get your Target needs with your peers on this event. Cost of this event is $10 for a coffee beverage and then extra money for Shopping.
URL:https://kotaconnections.net/activity/target-shop-coffee-only/
END:VEVENT
BEGIN:VEVENT
DTSTART;TZID=UTC:20230723T130000
DTEND;TZID=UTC:20230723T160000
DTSTAMP:20260422T224623
CREATED:20230702T015552Z
LAST-MODIFIED:20230702T015552Z
UID:512605-1690117200-1690128000@kotaconnections.net
SUMMARY:MN Twins
DESCRIPTION:Kota Connections has 4 tickets\, 1 staff and 3 clients\, to attend the MN Twins game today. **Target field does not accept cash\, so a card is required for concessions purchases.**
URL:https://kotaconnections.net/activity/mn-twins-40/
LOCATION:Target Field\, 1 Twins Way\, Minneapolis\, MN\, 55403\, United States
END:VEVENT
BEGIN:VEVENT
DTSTART;TZID=UTC:20230724T180000
DTEND;TZID=UTC:20230724T203000
DTSTAMP:20260422T224623
CREATED:20230702T021958Z
LAST-MODIFIED:20230702T021958Z
UID:512639-1690221600-1690230600@kotaconnections.net
SUMMARY:*Kota Connections Staff First Aid and CPR*
DESCRIPTION:*This is staff training event. First Aid and CPR training for the staff who need it.*
URL:https://kotaconnections.net/activity/kota-connections-staff-first-aid-and-cpr/
LOCATION:Kota Connections\, 8500 210th St W Suite 148\, Lakeville\, MN\, 55044\, United States
END:VEVENT
BEGIN:VEVENT
DTSTART;TZID=UTC:20230725T180000
DTEND;TZID=UTC:20230725T203000
DTSTAMP:20260422T224623
CREATED:20230702T020544Z
LAST-MODIFIED:20230702T020544Z
UID:512621-1690308000-1690317000@kotaconnections.net
SUMMARY:Softball
DESCRIPTION:Game schedule will be given to all teams at the fields.
URL:https://kotaconnections.net/activity/softball-14/
LOCATION:Aronson Park\, 8250 202nd St W\, Lakeville\, MN\, 55044\, United States
CATEGORIES:Softball Games,Softball League
END:VEVENT
BEGIN:VEVENT
DTSTART;TZID=UTC:20230725T183000
DTEND;TZID=UTC:20230725T213000
DTSTAMP:20260422T224623
CREATED:20230702T015658Z
LAST-MODIFIED:20230702T015658Z
UID:512607-1690309800-1690320600@kotaconnections.net
SUMMARY:MN Twins
DESCRIPTION:Kota Connections has 4 tickets\, 1 staff and 3 clients\, to attend the MN Twins game today. **Target field does not accept cash\, so a card is required for concessions purchases.**
URL:https://kotaconnections.net/activity/mn-twins-41/
LOCATION:Target Field\, 1 Twins Way\, Minneapolis\, MN\, 55403\, United States
END:VEVENT
END:VCALENDAR