BEGIN:VCALENDAR
VERSION:2.0
PRODID:-//Kota Connections, Inc. - ECPv6.8.2.1//NONSGML v1.0//EN
CALSCALE:GREGORIAN
METHOD:PUBLISH
X-WR-CALNAME:Kota Connections, Inc.
X-ORIGINAL-URL:https://kotaconnections.net
X-WR-CALDESC:Events for Kota Connections, Inc.
REFRESH-INTERVAL;VALUE=DURATION:PT1H
X-Robots-Tag:noindex
X-PUBLISHED-TTL:PT1H
BEGIN:VTIMEZONE
TZID:UTC
BEGIN:STANDARD
TZOFFSETFROM:+0000
TZOFFSETTO:+0000
TZNAME:UTC
DTSTART:20230101T000000
END:STANDARD
END:VTIMEZONE
BEGIN:VEVENT
DTSTART;TZID=UTC:20230808T180000
DTEND;TZID=UTC:20230808T210000
DTSTAMP:20260422T224301
CREATED:20230723T183814Z
LAST-MODIFIED:20230723T183814Z
UID:512671-1691517600-1691528400@kotaconnections.net
SUMMARY:Dakota County Fair
DESCRIPTION:Kota Connections will be taking clients to the Dakota County fair tonight. The cost is for parking as there is no entrance fee to get in. Extra money is suggested for food and other purchases that could be made.
URL:https://kotaconnections.net/activity/dakota-county-fair-2/
LOCATION:Dakota County Fairgrounds\, 4008 220th St W\, Farmington\, MN\, 55024\, United States
END:VEVENT
BEGIN:VEVENT
DTSTART;TZID=UTC:20230809T173000
DTEND;TZID=UTC:20230809T203000
DTSTAMP:20260422T224301
CREATED:20230723T184608Z
LAST-MODIFIED:20230723T184608Z
UID:512675-1691602200-1691613000@kotaconnections.net
SUMMARY:Red Barn Pizza
DESCRIPTION:A group will be heading to Northfield to go to the Red Barn Pizza farm for a dinner of pizza. Pizza’s will most likely be shared by 2 people each.
URL:https://kotaconnections.net/activity/red-barn-pizza-4/
LOCATION:MN
END:VEVENT
BEGIN:VEVENT
DTSTART;TZID=UTC:20230810T180000
DTEND;TZID=UTC:20230810T220000
DTSTAMP:20260422T224301
CREATED:20230723T184156Z
LAST-MODIFIED:20230723T184156Z
UID:512673-1691690400-1691704800@kotaconnections.net
SUMMARY:Dakota County Fair + Demo Derby
DESCRIPTION:Kota Connections will be taking clients to the Dakota County fair and Demo Derby tonight. The cost is for parking and the demo derby as there is no entrance fee to get in. Extra money is suggested for food and other purchases that could be made.
URL:https://kotaconnections.net/activity/dakota-county-fair-demo-derby-2/
LOCATION:Dakota County Fairgrounds\, 4008 220th St W\, Farmington\, MN\, 55024\, United States
END:VEVENT
BEGIN:VEVENT
DTSTART;TZID=UTC:20230812T083000
DTEND;TZID=UTC:20230812T213000
DTSTAMP:20260422T224301
CREATED:20230723T185009Z
LAST-MODIFIED:20230723T185009Z
UID:512680-1691829000-1691875800@kotaconnections.net
SUMMARY:Target Shop
DESCRIPTION:Come get your Target needs with your peers on this event. Cost of this event is $15 for a coffee beverage\, snack\, and then extra money for Shopping.
URL:https://kotaconnections.net/activity/target-shop-2/
LOCATION:MN
END:VEVENT
BEGIN:VEVENT
DTSTART;TZID=UTC:20230814T183000
DTEND;TZID=UTC:20230814T203000
DTSTAMP:20260422T224301
CREATED:20230723T185139Z
LAST-MODIFIED:20230723T185139Z
UID:512682-1692037800-1692045000@kotaconnections.net
SUMMARY:Bowling @ Bogarts
DESCRIPTION:Join the group at the Bowling alley tonight for a few games. **There will be limited space available on this event as Kota Connections will only have a few lanes.**
URL:https://kotaconnections.net/activity/bowling-bogarts-12/
LOCATION:MN
END:VEVENT
BEGIN:VEVENT
DTSTART;TZID=UTC:20230815T183000
DTEND;TZID=UTC:20230815T213000
DTSTAMP:20260422T224301
CREATED:20230723T185546Z
LAST-MODIFIED:20230723T185546Z
UID:512686-1692124200-1692135000@kotaconnections.net
SUMMARY:KC Movie Night
DESCRIPTION:Come to the Kota Connections for an outdoor movie if the weather permits. If the weather does not permit\, the movie will be inside. Snacks will be available for purchase.
URL:https://kotaconnections.net/activity/kc-movie-night-3/
LOCATION:Kota Connections\, 8500 210th St W Suite 148\, Lakeville\, MN\, 55044\, United States
END:VEVENT
BEGIN:VEVENT
DTSTART;TZID=UTC:20230816T120000
DTEND;TZID=UTC:20230816T153000
DTSTAMP:20260422T224301
CREATED:20230723T183043Z
LAST-MODIFIED:20230723T183043Z
UID:512663-1692187200-1692199800@kotaconnections.net
SUMMARY:MN Twins
DESCRIPTION:Kota Connections has 4 tickets\, 1 staff and 3 clients\, to attend the MN Twins game today. **Target field does not accept cash\, so a card is required for concessions purchases.**
URL:https://kotaconnections.net/activity/mn-twins-44/
LOCATION:Target Field\, 1 Twins Way\, Minneapolis\, MN\, 55403\, United States
END:VEVENT
BEGIN:VEVENT
DTSTART;TZID=UTC:20230816T173000
DTEND;TZID=UTC:20230816T203000
DTSTAMP:20260422T224301
CREATED:20230723T184838Z
LAST-MODIFIED:20230723T184838Z
UID:512677-1692207000-1692217800@kotaconnections.net
SUMMARY:Red Barn Pizza
DESCRIPTION:A group will be heading to Northfield to go to the Red Barn Pizza farm for a dinner of pizza. Pizza’s will most likely be shared by 2 people each.
URL:https://kotaconnections.net/activity/red-barn-pizza-5/
LOCATION:MN
END:VEVENT
BEGIN:VEVENT
DTSTART;TZID=UTC:20230817T170000
DTEND;TZID=UTC:20230817T200000
DTSTAMP:20260422T224301
CREATED:20230723T185857Z
LAST-MODIFIED:20230723T185857Z
UID:512688-1692291600-1692302400@kotaconnections.net
SUMMARY:Taste of Lakeville
DESCRIPTION:Downtown Lakeville will have a bunch of different food vendors giving out samplings of food and alcohol. This is a 21+ event and an ID or license is required.
URL:https://kotaconnections.net/activity/taste-of-lakeville-3/
LOCATION:Lakeville Area Arts Center\, 20965 Holyoke Avenue\, Lakeville\, 55044\, United States
END:VEVENT
BEGIN:VEVENT
DTSTART;TZID=UTC:20230818T180000
DTEND;TZID=UTC:20230818T210000
DTSTAMP:20260422T224302
CREATED:20230723T190112Z
LAST-MODIFIED:20230723T190112Z
UID:512690-1692381600-1692392400@kotaconnections.net
SUMMARY:Valleyfair
DESCRIPTION:Take the evening and head out to Valleyfair to go on some rides or just walk around the park. **Valleyfair does not accept cash. Card is required to make purchases.***
URL:https://kotaconnections.net/activity/valleyfair-10/
LOCATION:Valleyfair\, 1 Walley Fair Drive\, Shakopee\, MN\, 55379\, United States
END:VEVENT
BEGIN:VEVENT
DTSTART;TZID=UTC:20230821T183000
DTEND;TZID=UTC:20230821T203000
DTSTAMP:20260422T224302
CREATED:20230723T185217Z
LAST-MODIFIED:20230723T185217Z
UID:512684-1692642600-1692649800@kotaconnections.net
SUMMARY:Bowling @ Bogarts
DESCRIPTION:Join the group at the Bowling alley tonight for a few games. **There will be limited space available on this event as Kota Connections will only have a few lanes.**
URL:https://kotaconnections.net/activity/bowling-bogarts-13/
LOCATION:MN
END:VEVENT
BEGIN:VEVENT
DTSTART;TZID=UTC:20230822T180000
DTEND;TZID=UTC:20230822T203000
DTSTAMP:20260422T224302
CREATED:20230723T190349Z
LAST-MODIFIED:20230723T190349Z
UID:512692-1692727200-1692736200@kotaconnections.net
SUMMARY:KC Meeting at the Farm
DESCRIPTION:Tonight’s KC Meeting will be at a client’s family farm. They have miniature horses\, bunnies\, and other things at the farm. The cost of this event is $5 or a Snack Card.
URL:https://kotaconnections.net/activity/kc-meeting-at-the-farm/
LOCATION:MN
END:VEVENT
BEGIN:VEVENT
DTSTART;TZID=UTC:20230823T180000
DTEND;TZID=UTC:20230823T203000
DTSTAMP:20260422T224302
CREATED:20230723T190446Z
LAST-MODIFIED:20230723T190446Z
UID:512694-1692813600-1692822600@kotaconnections.net
SUMMARY:KC Meeting at the Farm
DESCRIPTION:Tonight’s KC Meeting will be at a client’s family farm. They have miniature horses\, bunnies\, and other things at the farm. The cost of this event is $5 or a Snack Card.
URL:https://kotaconnections.net/activity/kc-meeting-at-the-farm-2/
LOCATION:MN
END:VEVENT
BEGIN:VEVENT
DTSTART;TZID=UTC:20230824T180000
DTEND;TZID=UTC:20230824T220000
DTSTAMP:20260422T224302
CREATED:20230723T190718Z
LAST-MODIFIED:20230723T190718Z
UID:512696-1692900000-1692914400@kotaconnections.net
SUMMARY:MN State Fair Evening
DESCRIPTION:Kota Connections will be taking individuals to the State Fair this evening. Cost if $15 to get in and extra money is suggested for any purchases at the fair. Kota Connections suggests $40 for this event.
URL:https://kotaconnections.net/activity/mn-state-fair-evening/
LOCATION:MN
END:VEVENT
BEGIN:VEVENT
DTSTART;TZID=UTC:20230827T130000
DTEND;TZID=UTC:20230827T163000
DTSTAMP:20260422T224302
CREATED:20230723T183139Z
LAST-MODIFIED:20230723T183139Z
UID:512665-1693141200-1693153800@kotaconnections.net
SUMMARY:MN Twins
DESCRIPTION:Kota Connections has 4 tickets\, 1 staff and 3 clients\, to attend the MN Twins game today. **Target field does not accept cash\, so a card is required for concessions purchases.**
URL:https://kotaconnections.net/activity/mn-twins-45/
LOCATION:Target Field\, 1 Twins Way\, Minneapolis\, MN\, 55403\, United States
END:VEVENT
BEGIN:VEVENT
DTSTART;TZID=UTC:20230828T183000
DTEND;TZID=UTC:20230828T213000
DTSTAMP:20260422T224302
CREATED:20230723T183301Z
LAST-MODIFIED:20230723T183301Z
UID:512667-1693247400-1693258200@kotaconnections.net
SUMMARY:MN Twins
DESCRIPTION:Kota Connections has 4 tickets\, 1 staff and 3 clients\, to attend the MN Twins game today. **Target field does not accept cash\, so a card is required for concessions purchases.**
URL:https://kotaconnections.net/activity/mn-twins-46/
LOCATION:Target Field\, 1 Twins Way\, Minneapolis\, MN\, 55403\, United States
END:VEVENT
BEGIN:VEVENT
DTSTART;TZID=UTC:20230829T183000
DTEND;TZID=UTC:20230829T213000
DTSTAMP:20260422T224302
CREATED:20230723T191044Z
LAST-MODIFIED:20230723T191044Z
UID:512700-1693333800-1693344600@kotaconnections.net
SUMMARY:KC Softball MN Twins Game
DESCRIPTION:Tonight’s MN Twins game is an event put on by the KC Fund Softball League. Tickets have already been purchased and there are no more tickets available for this game.
URL:https://kotaconnections.net/activity/kc-softball-mn-twins-game/
LOCATION:Target Field\, 1 Twins Way\, Minneapolis\, MN\, 55403\, United States
END:VEVENT
BEGIN:VEVENT
DTSTART;TZID=UTC:20230830T120000
DTEND;TZID=UTC:20230830T153000
DTSTAMP:20260422T224302
CREATED:20230723T183351Z
LAST-MODIFIED:20230723T183351Z
UID:512669-1693396800-1693409400@kotaconnections.net
SUMMARY:MN Twins
DESCRIPTION:Kota Connections has 4 tickets\, 1 staff and 3 clients\, to attend the MN Twins game today. **Target field does not accept cash\, so a card is required for concessions purchases.**
URL:https://kotaconnections.net/activity/mn-twins-47/
LOCATION:Target Field\, 1 Twins Way\, Minneapolis\, MN\, 55403\, United States
END:VEVENT
BEGIN:VEVENT
DTSTART;TZID=UTC:20230831T090000
DTEND;TZID=UTC:20230831T170000
DTSTAMP:20260422T224302
CREATED:20230723T190843Z
LAST-MODIFIED:20230723T190843Z
UID:512698-1693472400-1693501200@kotaconnections.net
SUMMARY:State Fair Day
DESCRIPTION:Kota Connections will be taking individuals to the State Fair during the day today. Cost is $15 to get in and extra money is suggested for any purchases at the fair. Kota Connections suggests $50 for this event.
URL:https://kotaconnections.net/activity/state-fair-day/
LOCATION:MN
END:VEVENT
BEGIN:VEVENT
DTSTART;VALUE=DATE:20230904
DTEND;VALUE=DATE:20230905
DTSTAMP:20260422T224302
CREATED:20230822T011109Z
LAST-MODIFIED:20230822T011109Z
UID:512703-1693785600-1693871999@kotaconnections.net
SUMMARY:Labor Day *OFFICE CLOSED*
DESCRIPTION:Kota Connections is closed today in observance of Labor Day.
URL:https://kotaconnections.net/activity/labor-day-office-closed-3/
LOCATION:MN
END:VEVENT
BEGIN:VEVENT
DTSTART;TZID=UTC:20230905T183000
DTEND;TZID=UTC:20230905T213000
DTSTAMP:20260422T224302
CREATED:20230822T011340Z
LAST-MODIFIED:20230822T011340Z
UID:512705-1693938600-1693949400@kotaconnections.net
SUMMARY:Movie Night
DESCRIPTION:The group will attend Movie Night at a local theater. The theater will be chosen closer to the activity date. There will be movie options that everyone can choose from for what movie they want to see. Cost of the event is $15 for a movie ticket and extra spending money is suggested for concessions.
URL:https://kotaconnections.net/activity/movie-night-28/
LOCATION:MN
END:VEVENT
BEGIN:VEVENT
DTSTART;TZID=UTC:20230906T173000
DTEND;TZID=UTC:20230906T200000
DTSTAMP:20260422T224302
CREATED:20230822T011555Z
LAST-MODIFIED:20230822T011555Z
UID:512709-1694021400-1694030400@kotaconnections.net
SUMMARY:Red Barn Pizza
DESCRIPTION:A group will be heading to Northfield to go to the Red Barn Pizza farm for a dinner of pizza. Pizza’s will most likely be shared by 2 people each.
URL:https://kotaconnections.net/activity/red-barn-pizza-6/
LOCATION:MN
END:VEVENT
BEGIN:VEVENT
DTSTART;TZID=UTC:20230909T130000
DTEND;TZID=UTC:20230909T160000
DTSTAMP:20260422T224302
CREATED:20230822T012007Z
LAST-MODIFIED:20230822T012007Z
UID:512717-1694264400-1694275200@kotaconnections.net
SUMMARY:MN Twins
DESCRIPTION:Kota Connections has 4 tickets\, 1 staff and 3 clients\, to attend the MN Twins game today. **Target field does not accept cash\, so a card is required for concessions purchases.**
URL:https://kotaconnections.net/activity/mn-twins-48/
LOCATION:Target Field\, 1 Twins Way\, Minneapolis\, MN\, 55403\, United States
END:VEVENT
BEGIN:VEVENT
DTSTART;TZID=UTC:20230909T183000
DTEND;TZID=UTC:20230909T213000
DTSTAMP:20260422T224302
CREATED:20230822T011815Z
LAST-MODIFIED:20230822T011815Z
UID:512713-1694284200-1694295000@kotaconnections.net
SUMMARY:Gopher Football Game
DESCRIPTION:Kota Connections has 4 tickets to the Gopher Football game today. 1 Staff will bring 3 clients to the game. Tickets are 85 which\, includes parking\, and spending money is suggested as well.
URL:https://kotaconnections.net/activity/gopher-football-game-3/
LOCATION:TCF Bank Stadium
END:VEVENT
BEGIN:VEVENT
DTSTART;TZID=UTC:20230911T130000
DTEND;TZID=UTC:20230911T160000
DTSTAMP:20260422T224302
CREATED:20230822T012053Z
LAST-MODIFIED:20230822T012053Z
UID:512719-1694437200-1694448000@kotaconnections.net
SUMMARY:MN Twins
DESCRIPTION:Kota Connections has 4 tickets\, 1 staff and 3 clients\, to attend the MN Twins game today. **Target field does not accept cash\, so a card is required for concessions purchases.**
URL:https://kotaconnections.net/activity/mn-twins-49/
LOCATION:Target Field\, 1 Twins Way\, Minneapolis\, MN\, 55403\, United States
END:VEVENT
BEGIN:VEVENT
DTSTART;TZID=UTC:20230912T183000
DTEND;TZID=UTC:20230912T213000
DTSTAMP:20260422T224302
CREATED:20230822T011423Z
LAST-MODIFIED:20230822T011423Z
UID:512707-1694543400-1694554200@kotaconnections.net
SUMMARY:Movie Night
DESCRIPTION:The group will attend Movie Night at a local theater. The theater will be chosen closer to the activity date. There will be movie options that everyone can choose from for what movie they want to see. Cost of the event is $15 for a movie ticket and extra spending money is suggested for concessions.
URL:https://kotaconnections.net/activity/movie-night-29/
LOCATION:MN
END:VEVENT
BEGIN:VEVENT
DTSTART;TZID=UTC:20230913T120000
DTEND;TZID=UTC:20230913T150000
DTSTAMP:20260422T224302
CREATED:20230822T012139Z
LAST-MODIFIED:20230822T012139Z
UID:512721-1694606400-1694617200@kotaconnections.net
SUMMARY:MN Twins
DESCRIPTION:Kota Connections has 4 tickets\, 1 staff and 3 clients\, to attend the MN Twins game today. **Target field does not accept cash\, so a card is required for concessions purchases.**
URL:https://kotaconnections.net/activity/mn-twins-50/
LOCATION:Target Field\, 1 Twins Way\, Minneapolis\, MN\, 55403\, United States
END:VEVENT
BEGIN:VEVENT
DTSTART;TZID=UTC:20230913T183000
DTEND;TZID=UTC:20230913T200000
DTSTAMP:20260422T224302
CREATED:20230822T014309Z
LAST-MODIFIED:20230822T014309Z
UID:512729-1694629800-1694635200@kotaconnections.net
SUMMARY:Open Office
DESCRIPTION:Come play Videogames\, card games\, pool\, darts\, or a bunch of other games with your peers. *Snacks will be available for purchase.*
URL:https://kotaconnections.net/activity/open-office-3/
LOCATION:Kota Connections\, 8500 210th St W Suite 148\, Lakeville\, MN\, 55044\, United States
END:VEVENT
BEGIN:VEVENT
DTSTART;TZID=UTC:20230914T183000
DTEND;TZID=UTC:20230914T203000
DTSTAMP:20260422T224302
CREATED:20230822T014404Z
LAST-MODIFIED:20230822T014404Z
UID:512731-1694716200-1694723400@kotaconnections.net
SUMMARY:Open Office
DESCRIPTION:Come play Videogames\, card games\, pool\, darts\, or a bunch of other games with your peers. *Snacks will be available for purchase.*
URL:https://kotaconnections.net/activity/open-office-4/
LOCATION:Kota Connections\, 8500 210th St W Suite 148\, Lakeville\, MN\, 55044\, United States
END:VEVENT
BEGIN:VEVENT
DTSTART;TZID=UTC:20230916T110000
DTEND;TZID=UTC:20230916T160000
DTSTAMP:20260422T224302
CREATED:20230822T015029Z
LAST-MODIFIED:20230822T015029Z
UID:512733-1694862000-1694880000@kotaconnections.net
SUMMARY:*PRE-PAID EVENT* Chanhassen Dinner Theater: Jersey Boys
DESCRIPTION:Kota Connections has a group attending Jersey Boys at the Chanhassen Dinner Theater. These tickets were pre-paid and is a closed activity.
URL:https://kotaconnections.net/activity/pre-paid-event-chanhassen-dinner-theater-jersey-boys/
LOCATION:MN
END:VEVENT
END:VCALENDAR