BEGIN:VCALENDAR
VERSION:2.0
PRODID:-//Kota Connections, Inc. - ECPv6.8.2.1//NONSGML v1.0//EN
CALSCALE:GREGORIAN
METHOD:PUBLISH
X-WR-CALNAME:Kota Connections, Inc.
X-ORIGINAL-URL:https://kotaconnections.net
X-WR-CALDESC:Events for Kota Connections, Inc.
REFRESH-INTERVAL;VALUE=DURATION:PT1H
X-Robots-Tag:noindex
X-PUBLISHED-TTL:PT1H
BEGIN:VTIMEZONE
TZID:UTC
BEGIN:STANDARD
TZOFFSETFROM:+0000
TZOFFSETTO:+0000
TZNAME:UTC
DTSTART:20230101T000000
END:STANDARD
END:VTIMEZONE
BEGIN:VEVENT
DTSTART;TZID=UTC:20230304T123000
DTEND;TZID=UTC:20230304T150000
DTSTAMP:20260421T214443
CREATED:20230315T154203Z
LAST-MODIFIED:20230315T154203Z
UID:512400-1677933000-1677942000@kotaconnections.net
SUMMARY:Wild Bills Lunch and Bingo
DESCRIPTION:Join the group at Wild Bills in Apple Valley for lunch and some bingo. The group has been pretty lucky lately with getting some pretty big winners. Maybe you could be next! $20 for food and $20 for Bingo.
URL:https://kotaconnections.net/activity/wild-bills-lunch-and-bingo/
END:VEVENT
BEGIN:VEVENT
DTSTART;TZID=UTC:20230306T183000
DTEND;TZID=UTC:20230306T210000
DTSTAMP:20260421T214443
CREATED:20230315T154511Z
LAST-MODIFIED:20230315T154511Z
UID:512404-1678127400-1678136400@kotaconnections.net
SUMMARY:Grand Slam
DESCRIPTION:Come play some mini golf\, videogames\, hit the batting cages\, and even get some food at Grand Slam tonight.
URL:https://kotaconnections.net/activity/grand-slam-6/
END:VEVENT
BEGIN:VEVENT
DTSTART;TZID=UTC:20230307T183000
DTEND;TZID=UTC:20230307T210000
DTSTAMP:20260421T214443
CREATED:20230315T154620Z
LAST-MODIFIED:20230315T154620Z
UID:512406-1678213800-1678222800@kotaconnections.net
SUMMARY:MN T-Wolves
DESCRIPTION:Kota Connections has 4 tickets\, 1 staff and 3 clients\, to attend the MN Timberwolves game tonight. **Target center does not accept cash\, so a card is required for concessions purchases.**
URL:https://kotaconnections.net/activity/mn-t-wolves-7/
LOCATION:Target Center\, 600 N 1st Ave\, Minneapolis\, MN\, 55403\, United States
END:VEVENT
BEGIN:VEVENT
DTSTART;TZID=UTC:20230307T190000
DTEND;TZID=UTC:20230307T213000
DTSTAMP:20260421T214443
CREATED:20230315T154952Z
LAST-MODIFIED:20230315T154952Z
UID:512416-1678215600-1678224600@kotaconnections.net
SUMMARY:MN Wild
DESCRIPTION:Kota Connections has 4 tickets\, 1 staff and 3 clients\, to attend the MN Wild game tonight. **Xcel center does not accept cash\, so a card is required for concessions purchases.**
URL:https://kotaconnections.net/activity/mn-wild-5/
LOCATION:Xcel Center\, 199 W Kellogg Blvd\, St. Paul\, MN\, 55102\, United States
END:VEVENT
BEGIN:VEVENT
DTSTART;TZID=UTC:20230308T183000
DTEND;TZID=UTC:20230308T193000
DTSTAMP:20260421T214443
CREATED:20230315T155359Z
LAST-MODIFIED:20230315T155359Z
UID:512426-1678300200-1678303800@kotaconnections.net
SUMMARY:Virtual Bingo
DESCRIPTION:Come join the Zoom meeting to play BINGO against your peers and see if you can be lucky enough to win tonight.
URL:https://kotaconnections.net/activity/virtual-bingo-80/
END:VEVENT
BEGIN:VEVENT
DTSTART;TZID=UTC:20230310T190000
DTEND;TZID=UTC:20230310T213000
DTSTAMP:20260421T214443
CREATED:20230315T154658Z
LAST-MODIFIED:20230315T154658Z
UID:512408-1678474800-1678483800@kotaconnections.net
SUMMARY:MN T-Wolves
DESCRIPTION:Kota Connections has 4 tickets\, 1 staff and 3 clients\, to attend the MN Timberwolves game tonight. **Target center does not accept cash\, so a card is required for concessions purchases.**
URL:https://kotaconnections.net/activity/mn-t-wolves-8/
LOCATION:Target Center\, 600 N 1st Ave\, Minneapolis\, MN\, 55403\, United States
END:VEVENT
BEGIN:VEVENT
DTSTART;TZID=UTC:20230311T083000
DTEND;TZID=UTC:20230311T100000
DTSTAMP:20260421T214443
CREATED:20230315T155443Z
LAST-MODIFIED:20230315T155443Z
UID:512428-1678523400-1678528800@kotaconnections.net
SUMMARY:MOA Walk
DESCRIPTION:Join the group on a walk around the Mall of America before the stores open up. This is a fitness walk activity\, not a window shopping activity. Clients will be able to tack how many steps/miles they walk on this event.
URL:https://kotaconnections.net/activity/moa-walk-4/
LOCATION:Mall of America\, 60 E Broadway\, Bloomington\, MN\, 55425\, United States
END:VEVENT
BEGIN:VEVENT
DTSTART;TZID=UTC:20230313T183000
DTEND;TZID=UTC:20230313T210000
DTSTAMP:20260421T214443
CREATED:20230315T155544Z
LAST-MODIFIED:20230315T155544Z
UID:512430-1678732200-1678741200@kotaconnections.net
SUMMARY:Bowling @ Bogarts
DESCRIPTION:Join the group at the Bowling alley tonight for a few games. **There will be limited space available on this event as Kota Connections will only have 2 lanes.**
URL:https://kotaconnections.net/activity/bowling-bogarts/
END:VEVENT
BEGIN:VEVENT
DTSTART;TZID=UTC:20230314T183000
DTEND;TZID=UTC:20230314T203000
DTSTAMP:20260421T214443
CREATED:20230315T155839Z
LAST-MODIFIED:20230315T155839Z
UID:512434-1678818600-1678825800@kotaconnections.net
SUMMARY:KC Meeting
DESCRIPTION:Come to the office in Lakeville for the KC Meeting. April activity calendars and sign up cards will be handed out tonight. If you have any ideas for future activities\, this would be a great place to bring that up.
URL:https://kotaconnections.net/activity/kc-meeting-13/
LOCATION:Kota Connections\, 8500 210th St W Suite 148\, Lakeville\, MN\, 55044\, United States
END:VEVENT
BEGIN:VEVENT
DTSTART;TZID=UTC:20230315T190000
DTEND;TZID=UTC:20230315T213000
DTSTAMP:20260421T214443
CREATED:20230315T154732Z
LAST-MODIFIED:20230315T154732Z
UID:512410-1678906800-1678915800@kotaconnections.net
SUMMARY:MN T-Wolves
DESCRIPTION:Kota Connections has 4 tickets\, 1 staff and 3 clients\, to attend the MN Timberwolves game tonight. **Target center does not accept cash\, so a card is required for concessions purchases.**
URL:https://kotaconnections.net/activity/mn-t-wolves-9/
LOCATION:Target Center\, 600 N 1st Ave\, Minneapolis\, MN\, 55403\, United States
END:VEVENT
BEGIN:VEVENT
DTSTART;TZID=UTC:20230316T183000
DTEND;TZID=UTC:20230316T203000
DTSTAMP:20260421T214443
CREATED:20230315T155916Z
LAST-MODIFIED:20230315T155916Z
UID:512436-1678991400-1678998600@kotaconnections.net
SUMMARY:KC Meeting
DESCRIPTION:Come to the office in Lakeville for the KC Meeting. April activity calendars and sign up cards will be handed out tonight. If you have any ideas for future activities\, this would be a great place to bring that up.
URL:https://kotaconnections.net/activity/kc-meeting-14/
LOCATION:Kota Connections\, 8500 210th St W Suite 148\, Lakeville\, MN\, 55044\, United States
END:VEVENT
BEGIN:VEVENT
DTSTART;TZID=UTC:20230318T083000
DTEND;TZID=UTC:20230318T220000
DTSTAMP:20260421T214443
CREATED:20230315T160020Z
LAST-MODIFIED:20230315T160020Z
UID:512438-1679128200-1679176800@kotaconnections.net
SUMMARY:Target Shopping
DESCRIPTION:Come get your Target needs with your peers on this event. Cost of this event is $15 for snack and/or beverage and then extra money for Shopping.
URL:https://kotaconnections.net/activity/target-shopping-3/
END:VEVENT
BEGIN:VEVENT
DTSTART;TZID=UTC:20230318T130000
DTEND;TZID=UTC:20230318T163000
DTSTAMP:20260421T214443
CREATED:20230315T155037Z
LAST-MODIFIED:20230315T155037Z
UID:512418-1679144400-1679157000@kotaconnections.net
SUMMARY:MN Wild
DESCRIPTION:Kota Connections has 4 tickets\, 1 staff and 3 clients\, to attend the MN Wild game tonight. **Xcel center does not accept cash\, so a card is required for concessions purchases.**
URL:https://kotaconnections.net/activity/mn-wild-6/
LOCATION:Xcel Center\, 199 W Kellogg Blvd\, St. Paul\, MN\, 55102\, United States
END:VEVENT
BEGIN:VEVENT
DTSTART;TZID=UTC:20230319T130000
DTEND;TZID=UTC:20230319T163000
DTSTAMP:20260421T214444
CREATED:20230315T155140Z
LAST-MODIFIED:20230315T155140Z
UID:512420-1679230800-1679243400@kotaconnections.net
SUMMARY:MN Wild
DESCRIPTION:Kota Connections has 4 tickets\, 1 staff and 3 clients\, to attend the MN Wild game tonight. **Xcel center does not accept cash\, so a card is required for concessions purchases.**
URL:https://kotaconnections.net/activity/mn-wild-7/
LOCATION:Xcel Center\, 199 W Kellogg Blvd\, St. Paul\, MN\, 55102\, United States
END:VEVENT
BEGIN:VEVENT
DTSTART;TZID=UTC:20230320T183000
DTEND;TZID=UTC:20230320T210000
DTSTAMP:20260421T214444
CREATED:20230315T155652Z
LAST-MODIFIED:20230315T155652Z
UID:512432-1679337000-1679346000@kotaconnections.net
SUMMARY:Bowling @ Bogarts
DESCRIPTION:Join the group at the Bowling alley tonight for a few games. **There will be limited space available on this event as Kota Connections will only have 2 lanes.**
URL:https://kotaconnections.net/activity/bowling-bogarts-2/
END:VEVENT
BEGIN:VEVENT
DTSTART;TZID=UTC:20230321T183000
DTEND;TZID=UTC:20230321T213000
DTSTAMP:20260421T214444
CREATED:20230315T160129Z
LAST-MODIFIED:20230315T160129Z
UID:512440-1679423400-1679434200@kotaconnections.net
SUMMARY:Movie Night
DESCRIPTION:The group will attend Movie Night at a local theater. The theater will be chosen closer to the activity date. There will be movie options that everyone can choose from for what movie they want to see. Cost of the event is $15 for a movie ticket and extra spending money is suggested for concessions.
URL:https://kotaconnections.net/activity/movie-night-26/
END:VEVENT
BEGIN:VEVENT
DTSTART;TZID=UTC:20230322T190000
DTEND;TZID=UTC:20230322T213000
DTSTAMP:20260421T214444
CREATED:20230315T154812Z
LAST-MODIFIED:20230315T154812Z
UID:512412-1679511600-1679520600@kotaconnections.net
SUMMARY:MN T-Wolves
DESCRIPTION:Kota Connections has 4 tickets\, 1 staff and 3 clients\, to attend the MN Timberwolves game tonight. **Target center does not accept cash\, so a card is required for concessions purchases.**
URL:https://kotaconnections.net/activity/mn-t-wolves-10/
LOCATION:Target Center\, 600 N 1st Ave\, Minneapolis\, MN\, 55403\, United States
END:VEVENT
BEGIN:VEVENT
DTSTART;TZID=UTC:20230323T183000
DTEND;TZID=UTC:20230323T210000
DTSTAMP:20260421T214444
CREATED:20230315T160338Z
LAST-MODIFIED:20230315T160338Z
UID:512444-1679596200-1679605200@kotaconnections.net
SUMMARY:Nickelodeon @ MOA
DESCRIPTION:Join the group at Mall of America to go on rides at Nickelodeon Universe.
URL:https://kotaconnections.net/activity/nickelodeon-moa/
LOCATION:Mall of America\, 60 E Broadway\, Bloomington\, MN\, 55425\, United States
END:VEVENT
BEGIN:VEVENT
DTSTART;TZID=UTC:20230325T123000
DTEND;TZID=UTC:20230325T150000
DTSTAMP:20260421T214444
CREATED:20230315T154248Z
LAST-MODIFIED:20230315T154248Z
UID:512402-1679747400-1679756400@kotaconnections.net
SUMMARY:Babes Lunch and Bingo
DESCRIPTION:Join the group at Babes in Apple Valley for lunch and some bingo. The group has been pretty lucky lately with getting some pretty big winners. Maybe you could be next! $20 for food and $20 for Bingo.
URL:https://kotaconnections.net/activity/babes-lunch-and-bingo/
END:VEVENT
BEGIN:VEVENT
DTSTART;TZID=UTC:20230325T160000
DTEND;TZID=UTC:20230325T193000
DTSTAMP:20260421T214444
CREATED:20230315T155217Z
LAST-MODIFIED:20230315T155217Z
UID:512422-1679760000-1679772600@kotaconnections.net
SUMMARY:MN Wild
DESCRIPTION:Kota Connections has 4 tickets\, 1 staff and 3 clients\, to attend the MN Wild game tonight. **Xcel center does not accept cash\, so a card is required for concessions purchases.**
URL:https://kotaconnections.net/activity/mn-wild-8/
LOCATION:Xcel Center\, 199 W Kellogg Blvd\, St. Paul\, MN\, 55102\, United States
END:VEVENT
BEGIN:VEVENT
DTSTART;TZID=UTC:20230327T190000
DTEND;TZID=UTC:20230327T213000
DTSTAMP:20260421T214444
CREATED:20230315T155251Z
LAST-MODIFIED:20230315T155251Z
UID:512424-1679943600-1679952600@kotaconnections.net
SUMMARY:MN Wild
DESCRIPTION:Kota Connections has 4 tickets\, 1 staff and 3 clients\, to attend the MN Wild game tonight. **Xcel center does not accept cash\, so a card is required for concessions purchases.**
URL:https://kotaconnections.net/activity/mn-wild-9/
LOCATION:Xcel Center\, 199 W Kellogg Blvd\, St. Paul\, MN\, 55102\, United States
END:VEVENT
BEGIN:VEVENT
DTSTART;TZID=UTC:20230328T183000
DTEND;TZID=UTC:20230328T213000
DTSTAMP:20260421T214444
CREATED:20230315T160207Z
LAST-MODIFIED:20230315T160207Z
UID:512442-1680028200-1680039000@kotaconnections.net
SUMMARY:Movie Night
DESCRIPTION:The group will attend Movie Night at a local theater. The theater will be chosen closer to the activity date. There will be movie options that everyone can choose from for what movie they want to see. Cost of the event is $15 for a movie ticket and extra spending money is suggested for concessions.
URL:https://kotaconnections.net/activity/movie-night-27/
END:VEVENT
BEGIN:VEVENT
DTSTART;TZID=UTC:20230330T183000
DTEND;TZID=UTC:20230330T210000
DTSTAMP:20260421T214444
CREATED:20230315T160420Z
LAST-MODIFIED:20230315T160420Z
UID:512446-1680201000-1680210000@kotaconnections.net
SUMMARY:Nickelodeon @ MOA
DESCRIPTION:Join the group at Mall of America to go on rides at Nickelodeon Universe.
URL:https://kotaconnections.net/activity/nickelodeon-moa-2/
LOCATION:Mall of America\, 60 E Broadway\, Bloomington\, MN\, 55425\, United States
END:VEVENT
BEGIN:VEVENT
DTSTART;TZID=UTC:20230331T190000
DTEND;TZID=UTC:20230331T213000
DTSTAMP:20260421T214444
CREATED:20230315T154854Z
LAST-MODIFIED:20230315T154854Z
UID:512414-1680289200-1680298200@kotaconnections.net
SUMMARY:MN T-Wolves
DESCRIPTION:Kota Connections has 4 tickets\, 1 staff and 3 clients\, to attend the MN Timberwolves game tonight. **Target center does not accept cash\, so a card is required for concessions purchases.**
URL:https://kotaconnections.net/activity/mn-t-wolves-11/
LOCATION:Target Center\, 600 N 1st Ave\, Minneapolis\, MN\, 55403\, United States
END:VEVENT
BEGIN:VEVENT
DTSTART;TZID=UTC:20230401T083000
DTEND;TZID=UTC:20230401T220000
DTSTAMP:20260421T214444
CREATED:20230316T141635Z
LAST-MODIFIED:20230316T141635Z
UID:512448-1680337800-1680386400@kotaconnections.net
SUMMARY:MOA Walk
DESCRIPTION:Join the group on a walk around the Mall of America before the stores open up. This is a fitness walk activity\, not a window shopping activity. Clients will be able to tack how many steps/miles they walk on this event.
URL:https://kotaconnections.net/activity/moa-walk-5/
LOCATION:Mall of America\, 60 E Broadway\, Bloomington\, MN\, 55425\, United States
END:VEVENT
BEGIN:VEVENT
DTSTART;TZID=UTC:20230403T190000
DTEND;TZID=UTC:20230403T213000
DTSTAMP:20260421T214444
CREATED:20230316T141759Z
LAST-MODIFIED:20230316T141759Z
UID:512450-1680548400-1680557400@kotaconnections.net
SUMMARY:MN Wild
DESCRIPTION:Kota Connections has 4 tickets\, 1 staff and 3 clients\, to attend the MN Wild game tonight. **Xcel center does not accept cash\, so a card is required for concessions purchases.**
URL:https://kotaconnections.net/activity/mn-wild-10/
LOCATION:Xcel Center\, 199 W Kellogg Blvd\, St. Paul\, MN\, 55102\, United States
END:VEVENT
BEGIN:VEVENT
DTSTART;TZID=UTC:20230406T180000
DTEND;TZID=UTC:20230406T203000
DTSTAMP:20260421T214444
CREATED:20230316T142104Z
LAST-MODIFIED:20230316T142104Z
UID:512454-1680804000-1680813000@kotaconnections.net
SUMMARY:Red Lobster
DESCRIPTION:Join the group at Red Lobster in Burnsville for dinner. $35 is the requested amount tonight.
URL:https://kotaconnections.net/activity/red-lobster/
END:VEVENT
BEGIN:VEVENT
DTSTART;VALUE=DATE:20230407
DTEND;VALUE=DATE:20230408
DTSTAMP:20260421T214444
CREATED:20230316T144206Z
LAST-MODIFIED:20230316T144206Z
UID:512494-1680825600-1680911999@kotaconnections.net
SUMMARY:***OFFICE CLOSED***
DESCRIPTION:The Office will be closed for Good Friday today.
URL:https://kotaconnections.net/activity/office-closed-10/
END:VEVENT
BEGIN:VEVENT
DTSTART;VALUE=DATE:20230409
DTEND;VALUE=DATE:20230410
DTSTAMP:20260421T214444
CREATED:20230316T144243Z
LAST-MODIFIED:20230316T144243Z
UID:512496-1680998400-1681084799@kotaconnections.net
SUMMARY:Easter
DESCRIPTION:Today is Easter Sunday.
URL:https://kotaconnections.net/activity/easter/
END:VEVENT
BEGIN:VEVENT
DTSTART;TZID=UTC:20230410T183000
DTEND;TZID=UTC:20230410T210000
DTSTAMP:20260421T214444
CREATED:20230316T142158Z
LAST-MODIFIED:20230316T142158Z
UID:512456-1681151400-1681160400@kotaconnections.net
SUMMARY:Bowling @ Bogarts
DESCRIPTION:Join the group at the Bowling alley tonight for a few games. **There will be limited space available on this event as Kota Connections will only have 2 lanes.**
URL:https://kotaconnections.net/activity/bowling-bogarts-3/
END:VEVENT
END:VCALENDAR