BEGIN:VCALENDAR
VERSION:2.0
PRODID:-//Kota Connections, Inc. - ECPv6.8.2.1//NONSGML v1.0//EN
CALSCALE:GREGORIAN
METHOD:PUBLISH
X-WR-CALNAME:Kota Connections, Inc.
X-ORIGINAL-URL:https://kotaconnections.net
X-WR-CALDESC:Events for Kota Connections, Inc.
REFRESH-INTERVAL;VALUE=DURATION:PT1H
X-Robots-Tag:noindex
X-PUBLISHED-TTL:PT1H
BEGIN:VTIMEZONE
TZID:UTC
BEGIN:STANDARD
TZOFFSETFROM:+0000
TZOFFSETTO:+0000
TZNAME:UTC
DTSTART:20230101T000000
END:STANDARD
END:VTIMEZONE
BEGIN:VEVENT
DTSTART;TZID=UTC:20230520T080000
DTEND;TZID=UTC:20230520T220000
DTSTAMP:20260421T231238
CREATED:20230430T152200Z
LAST-MODIFIED:20230430T152200Z
UID:512537-1684569600-1684620000@kotaconnections.net
SUMMARY:McDonald's and Worlds Largest Candy Store
DESCRIPTION:This morning we will have a group head to McDonalds for some breakfast. After breakfast\, we will make a trip out to the World’s Largest Candy Store. Bring extra cash if you intend to buy candy at the store.
URL:https://kotaconnections.net/activity/mcdonalds-and-worlds-largest-candy-store/
END:VEVENT
END:VCALENDAR