BEGIN:VCALENDAR
VERSION:2.0
PRODID:-//Kota Connections, Inc. - ECPv6.8.2.1//NONSGML v1.0//EN
CALSCALE:GREGORIAN
METHOD:PUBLISH
X-WR-CALNAME:Kota Connections, Inc.
X-ORIGINAL-URL:https://kotaconnections.net
X-WR-CALDESC:Events for Kota Connections, Inc.
REFRESH-INTERVAL;VALUE=DURATION:PT1H
X-Robots-Tag:noindex
X-PUBLISHED-TTL:PT1H
BEGIN:VTIMEZONE
TZID:UTC
BEGIN:STANDARD
TZOFFSETFROM:+0000
TZOFFSETTO:+0000
TZNAME:UTC
DTSTART:20230101T000000
END:STANDARD
END:VTIMEZONE
BEGIN:VEVENT
DTSTART;TZID=UTC:20230502T180000
DTEND;TZID=UTC:20230502T200000
DTSTAMP:20260422T022507
CREATED:20230430T125146Z
LAST-MODIFIED:20230430T125146Z
UID:512499-1683050400-1683057600@kotaconnections.net
SUMMARY:Softball Practices
DESCRIPTION:Aronson Park is open for teams to practice and prepare for the upcoming season.
URL:https://kotaconnections.net/activity/softball-practices/
LOCATION:Aronson Park\, 8250 202nd St W\, Lakeville\, MN\, 55044\, United States
CATEGORIES:Softball League
END:VEVENT
END:VCALENDAR