BEGIN:VCALENDAR
VERSION:2.0
PRODID:-//Kota Connections, Inc. - ECPv6.8.2.1//NONSGML v1.0//EN
CALSCALE:GREGORIAN
METHOD:PUBLISH
X-WR-CALNAME:Kota Connections, Inc.
X-ORIGINAL-URL:https://kotaconnections.net
X-WR-CALDESC:Events for Kota Connections, Inc.
REFRESH-INTERVAL;VALUE=DURATION:PT1H
X-Robots-Tag:noindex
X-PUBLISHED-TTL:PT1H
BEGIN:VTIMEZONE
TZID:UTC
BEGIN:STANDARD
TZOFFSETFROM:+0000
TZOFFSETTO:+0000
TZNAME:UTC
DTSTART:20230101T000000
END:STANDARD
END:VTIMEZONE
BEGIN:VEVENT
DTSTART;TZID=UTC:20230419T183000
DTEND;TZID=UTC:20230419T203000
DTSTAMP:20260421T214014
CREATED:20230316T143610Z
LAST-MODIFIED:20230316T143610Z
UID:512482-1681929000-1681936200@kotaconnections.net
SUMMARY:KC Meeting
DESCRIPTION:Come to the office in Lakeville for the KC Meeting. May activity calendars and sign up cards will be handed out tonight. If you have any ideas for future activities\, this would be a great place to bring that up.
URL:https://kotaconnections.net/activity/kc-meeting-15/
LOCATION:Kota Connections\, 8500 210th St W Suite 148\, Lakeville\, MN\, 55044\, United States
END:VEVENT
END:VCALENDAR