BEGIN:VCALENDAR
VERSION:2.0
PRODID:-//Kota Connections, Inc. - ECPv6.8.2.1//NONSGML v1.0//EN
CALSCALE:GREGORIAN
METHOD:PUBLISH
X-WR-CALNAME:Kota Connections, Inc.
X-ORIGINAL-URL:https://kotaconnections.net
X-WR-CALDESC:Events for Kota Connections, Inc.
REFRESH-INTERVAL;VALUE=DURATION:PT1H
X-Robots-Tag:noindex
X-PUBLISHED-TTL:PT1H
BEGIN:VTIMEZONE
TZID:UTC
BEGIN:STANDARD
TZOFFSETFROM:+0000
TZOFFSETTO:+0000
TZNAME:UTC
DTSTART:20230101T000000
END:STANDARD
END:VTIMEZONE
BEGIN:VEVENT
DTSTART;TZID=UTC:20230321T183000
DTEND;TZID=UTC:20230321T213000
DTSTAMP:20260421T201403
CREATED:20230315T160129Z
LAST-MODIFIED:20230315T160129Z
UID:512440-1679423400-1679434200@kotaconnections.net
SUMMARY:Movie Night
DESCRIPTION:The group will attend Movie Night at a local theater. The theater will be chosen closer to the activity date. There will be movie options that everyone can choose from for what movie they want to see. Cost of the event is $15 for a movie ticket and extra spending money is suggested for concessions.
URL:https://kotaconnections.net/activity/movie-night-26/
END:VEVENT
END:VCALENDAR