BEGIN:VCALENDAR
VERSION:2.0
PRODID:-//Kota Connections, Inc. - ECPv6.8.2.1//NONSGML v1.0//EN
CALSCALE:GREGORIAN
METHOD:PUBLISH
X-WR-CALNAME:Kota Connections, Inc.
X-ORIGINAL-URL:https://kotaconnections.net
X-WR-CALDESC:Events for Kota Connections, Inc.
REFRESH-INTERVAL;VALUE=DURATION:PT1H
X-Robots-Tag:noindex
X-PUBLISHED-TTL:PT1H
BEGIN:VTIMEZONE
TZID:UTC
BEGIN:STANDARD
TZOFFSETFROM:+0000
TZOFFSETTO:+0000
TZNAME:UTC
DTSTART:20230101T000000
END:STANDARD
END:VTIMEZONE
BEGIN:VEVENT
DTSTART;TZID=UTC:20230302T180000
DTEND;TZID=UTC:20230302T210000
DTSTAMP:20260421T200445
CREATED:20230315T154033Z
LAST-MODIFIED:20230315T154033Z
UID:512398-1677780000-1677790800@kotaconnections.net
SUMMARY:Buck Hill Skiing or Tubing
DESCRIPTION:Come to Buck Hill tonight and enjoy some tubing or skiing. Tubing is about $35 and Skiing is about $100 if you need to rent equipment.
URL:https://kotaconnections.net/activity/buck-hill-skiing-or-tubing-3/
END:VEVENT
END:VCALENDAR