BEGIN:VCALENDAR
VERSION:2.0
PRODID:-//Kota Connections, Inc. - ECPv6.8.2.1//NONSGML v1.0//EN
CALSCALE:GREGORIAN
METHOD:PUBLISH
X-WR-CALNAME:Kota Connections, Inc.
X-ORIGINAL-URL:https://kotaconnections.net
X-WR-CALDESC:Events for Kota Connections, Inc.
REFRESH-INTERVAL;VALUE=DURATION:PT1H
X-Robots-Tag:noindex
X-PUBLISHED-TTL:PT1H
BEGIN:VTIMEZONE
TZID:UTC
BEGIN:STANDARD
TZOFFSETFROM:+0000
TZOFFSETTO:+0000
TZNAME:UTC
DTSTART:20230101T000000
END:STANDARD
END:VTIMEZONE
BEGIN:VEVENT
DTSTART;TZID=UTC:20230222T183000
DTEND;TZID=UTC:20230222T193000
DTSTAMP:20260421T214130
CREATED:20230117T043356Z
LAST-MODIFIED:20230117T043356Z
UID:512395-1677090600-1677094200@kotaconnections.net
SUMMARY:Virtual Bingo
DESCRIPTION:Come join the Zoom meeting to play BINGO against your peers and see if you can be lucky enough to win tonight.
URL:https://kotaconnections.net/activity/virtual-bingo-79/
END:VEVENT
END:VCALENDAR