BEGIN:VCALENDAR
VERSION:2.0
PRODID:-//Kota Connections, Inc. - ECPv6.8.2.1//NONSGML v1.0//EN
CALSCALE:GREGORIAN
METHOD:PUBLISH
X-WR-CALNAME:Kota Connections, Inc.
X-ORIGINAL-URL:https://kotaconnections.net
X-WR-CALDESC:Events for Kota Connections, Inc.
REFRESH-INTERVAL;VALUE=DURATION:PT1H
X-Robots-Tag:noindex
X-PUBLISHED-TTL:PT1H
BEGIN:VTIMEZONE
TZID:UTC
BEGIN:STANDARD
TZOFFSETFROM:+0000
TZOFFSETTO:+0000
TZNAME:UTC
DTSTART:20230101T000000
END:STANDARD
END:VTIMEZONE
BEGIN:VEVENT
DTSTART;TZID=UTC:20230221T183000
DTEND;TZID=UTC:20230221T213000
DTSTAMP:20260421T214031
CREATED:20230117T042109Z
LAST-MODIFIED:20230117T042109Z
UID:512379-1677004200-1677015000@kotaconnections.net
SUMMARY:Movie Night
DESCRIPTION:The group will attend Movie Night at a local theater. The theater will be chosen closer to the activity date. There will be movie options that everyone can choose from for what movie they want to see. Cost of the event is $15 for a movie ticket and extra spending money is suggested for concessions.
URL:https://kotaconnections.net/activity/movie-night-25/
END:VEVENT
BEGIN:VEVENT
DTSTART;TZID=UTC:20230221T190000
DTEND;TZID=UTC:20230221T213000
DTSTAMP:20260421T214031
CREATED:20230117T040740Z
LAST-MODIFIED:20230117T040740Z
UID:512358-1677006000-1677015000@kotaconnections.net
SUMMARY:MN Wild Game
DESCRIPTION:Kota Connections has 4 tickets\, 1 staff and 3 clients\, to attend the MN Wild game tonight. **Xcel center does not accept cash\, so a card is required for concessions purchases.**
URL:https://kotaconnections.net/activity/mn-wild-game-21/
LOCATION:Xcel Center\, 199 W Kellogg Blvd\, St. Paul\, MN\, 55102\, United States
END:VEVENT
END:VCALENDAR