BEGIN:VCALENDAR
VERSION:2.0
PRODID:-//Kota Connections, Inc. - ECPv6.8.2.1//NONSGML v1.0//EN
CALSCALE:GREGORIAN
METHOD:PUBLISH
X-WR-CALNAME:Kota Connections, Inc.
X-ORIGINAL-URL:https://kotaconnections.net
X-WR-CALDESC:Events for Kota Connections, Inc.
REFRESH-INTERVAL;VALUE=DURATION:PT1H
X-Robots-Tag:noindex
X-PUBLISHED-TTL:PT1H
BEGIN:VTIMEZONE
TZID:UTC
BEGIN:STANDARD
TZOFFSETFROM:+0000
TZOFFSETTO:+0000
TZNAME:UTC
DTSTART:20230101T000000
END:STANDARD
END:VTIMEZONE
BEGIN:VEVENT
DTSTART;TZID=UTC:20230220T183000
DTEND;TZID=UTC:20230220T210000
DTSTAMP:20260421T214028
CREATED:20230117T042658Z
LAST-MODIFIED:20230117T042658Z
UID:512387-1676917800-1676926800@kotaconnections.net
SUMMARY:Bowling
DESCRIPTION:Join the group at the Bowling alley tonight for a few games. **There will be limited space available on this event as Kota Connections will only have 2 lanes.**
URL:https://kotaconnections.net/activity/bowling/
END:VEVENT
END:VCALENDAR