BEGIN:VCALENDAR
VERSION:2.0
PRODID:-//Kota Connections, Inc. - ECPv6.8.2.1//NONSGML v1.0//EN
CALSCALE:GREGORIAN
METHOD:PUBLISH
X-WR-CALNAME:Kota Connections, Inc.
X-ORIGINAL-URL:https://kotaconnections.net
X-WR-CALDESC:Events for Kota Connections, Inc.
REFRESH-INTERVAL;VALUE=DURATION:PT1H
X-Robots-Tag:noindex
X-PUBLISHED-TTL:PT1H
BEGIN:VTIMEZONE
TZID:UTC
BEGIN:STANDARD
TZOFFSETFROM:+0000
TZOFFSETTO:+0000
TZNAME:UTC
DTSTART:20230101T000000
END:STANDARD
END:VTIMEZONE
BEGIN:VEVENT
DTSTART;TZID=UTC:20230218T083000
DTEND;TZID=UTC:20230218T213000
DTSTAMP:20260421T214049
CREATED:20230117T043125Z
LAST-MODIFIED:20230117T043125Z
UID:512393-1676709000-1676755800@kotaconnections.net
SUMMARY:Target Shopping
DESCRIPTION:Come get your Target needs with your peers on this event. Cost of this event is $15 for snack and/or beverage and then extra money for Shopping.
URL:https://kotaconnections.net/activity/target-shopping-2/
END:VEVENT
END:VCALENDAR