BEGIN:VCALENDAR
VERSION:2.0
PRODID:-//Kota Connections, Inc. - ECPv6.8.2.1//NONSGML v1.0//EN
CALSCALE:GREGORIAN
METHOD:PUBLISH
X-WR-CALNAME:Kota Connections, Inc.
X-ORIGINAL-URL:https://kotaconnections.net
X-WR-CALDESC:Events for Kota Connections, Inc.
REFRESH-INTERVAL;VALUE=DURATION:PT1H
X-Robots-Tag:noindex
X-PUBLISHED-TTL:PT1H
BEGIN:VTIMEZONE
TZID:UTC
BEGIN:STANDARD
TZOFFSETFROM:+0000
TZOFFSETTO:+0000
TZNAME:UTC
DTSTART:20230101T000000
END:STANDARD
END:VTIMEZONE
BEGIN:VEVENT
DTSTART;TZID=UTC:20230216T080000
DTEND;TZID=UTC:20230216T170000
DTSTAMP:20260421T214050
CREATED:20230117T043000Z
LAST-MODIFIED:20230117T043000Z
UID:512391-1676534400-1676566800@kotaconnections.net
SUMMARY:KC Meeting
DESCRIPTION:Come to the office in Lakeville for the KC Meeting. March activity calendars and sign up cards will be handed out tonight. If you have any ideas for future activities\, this would be a great place to bring that up.
URL:https://kotaconnections.net/activity/kc-meeting-12/
LOCATION:Kota Connections\, 8500 210th St W Suite 148\, Lakeville\, MN\, 55044\, United States
END:VEVENT
BEGIN:VEVENT
DTSTART;TZID=UTC:20230216T190000
DTEND;TZID=UTC:20230216T213000
DTSTAMP:20260421T214050
CREATED:20230117T035759Z
LAST-MODIFIED:20230117T035759Z
UID:512339-1676574000-1676583000@kotaconnections.net
SUMMARY:MN T-Wolves
DESCRIPTION:Kota Connections has 4 tickets\, 1 staff and 3 clients\, to attend the MN Timberwolves game tonight. **Target center does not accept cash\, so a card is required for concessions purchases.**
URL:https://kotaconnections.net/activity/mn-t-wolves-4/
LOCATION:Target Center\, 600 N 1st Ave\, Minneapolis\, MN\, 55403\, United States
END:VEVENT
END:VCALENDAR