BEGIN:VCALENDAR
VERSION:2.0
PRODID:-//Kota Connections, Inc. - ECPv6.8.2.1//NONSGML v1.0//EN
CALSCALE:GREGORIAN
METHOD:PUBLISH
X-WR-CALNAME:Kota Connections, Inc.
X-ORIGINAL-URL:https://kotaconnections.net
X-WR-CALDESC:Events for Kota Connections, Inc.
REFRESH-INTERVAL;VALUE=DURATION:PT1H
X-Robots-Tag:noindex
X-PUBLISHED-TTL:PT1H
BEGIN:VTIMEZONE
TZID:UTC
BEGIN:STANDARD
TZOFFSETFROM:+0000
TZOFFSETTO:+0000
TZNAME:UTC
DTSTART:20230101T000000
END:STANDARD
END:VTIMEZONE
BEGIN:VEVENT
DTSTART;TZID=UTC:20230210T183000
DTEND;TZID=UTC:20230210T210000
DTSTAMP:20260421T214051
CREATED:20230117T042210Z
LAST-MODIFIED:20230117T042210Z
UID:512381-1676053800-1676062800@kotaconnections.net
SUMMARY:PE Dance
DESCRIPTION:Kota Connections will be bringing a group the attend the Project Explore dance at Valley Middle School.
URL:https://kotaconnections.net/activity/pe-dance-5/
LOCATION:Apple Valley Middle School\, 900 Garden View Drive\, Apple Valley\, Minnesota\, 55124
END:VEVENT
END:VCALENDAR