BEGIN:VCALENDAR
VERSION:2.0
PRODID:-//Kota Connections, Inc. - ECPv6.8.2.1//NONSGML v1.0//EN
CALSCALE:GREGORIAN
METHOD:PUBLISH
X-WR-CALNAME:Kota Connections, Inc.
X-ORIGINAL-URL:https://kotaconnections.net
X-WR-CALDESC:Events for Kota Connections, Inc.
REFRESH-INTERVAL;VALUE=DURATION:PT1H
X-Robots-Tag:noindex
X-PUBLISHED-TTL:PT1H
BEGIN:VTIMEZONE
TZID:UTC
BEGIN:STANDARD
TZOFFSETFROM:+0000
TZOFFSETTO:+0000
TZNAME:UTC
DTSTART:20230101T000000
END:STANDARD
END:VTIMEZONE
BEGIN:VEVENT
DTSTART;TZID=UTC:20230204T083000
DTEND;TZID=UTC:20230204T220000
DTSTAMP:20260421T214015
CREATED:20230117T041356Z
LAST-MODIFIED:20230117T041356Z
UID:512368-1675499400-1675548000@kotaconnections.net
SUMMARY:Breakfast at Pannekoeken Huis
DESCRIPTION:Join the group at the Pannekoeken Huis in St. Louis Park this morning for Breakfast.
URL:https://kotaconnections.net/activity/breakfast-at-pannekoeken-huis/
END:VEVENT
END:VCALENDAR