BEGIN:VCALENDAR
VERSION:2.0
PRODID:-//Kota Connections, Inc. - ECPv6.8.2.1//NONSGML v1.0//EN
CALSCALE:GREGORIAN
METHOD:PUBLISH
X-WR-CALNAME:Kota Connections, Inc.
X-ORIGINAL-URL:https://kotaconnections.net
X-WR-CALDESC:Events for Kota Connections, Inc.
REFRESH-INTERVAL;VALUE=DURATION:PT1H
X-Robots-Tag:noindex
X-PUBLISHED-TTL:PT1H
BEGIN:VTIMEZONE
TZID:UTC
BEGIN:STANDARD
TZOFFSETFROM:+0000
TZOFFSETTO:+0000
TZNAME:UTC
DTSTART:20230101T000000
END:STANDARD
END:VTIMEZONE
BEGIN:VEVENT
DTSTART;TZID=UTC:20230128T083000
DTEND;TZID=UTC:20230128T103000
DTSTAMP:20260422T021838
CREATED:20221230T210724Z
LAST-MODIFIED:20221230T210724Z
UID:512309-1674894600-1674901800@kotaconnections.net
SUMMARY:MOA Walk
DESCRIPTION:Join the group on a walk around the Mall of America before the stores open up. This is a fitness walk activity\, not a window shopping activity. Clients will be able to tack how many steps/miles they walk on this event.
URL:https://kotaconnections.net/activity/moa-walk-2/
LOCATION:Mall of America\, 60 E Broadway\, Bloomington\, MN\, 55425\, United States
END:VEVENT
BEGIN:VEVENT
DTSTART;TZID=UTC:20230128T200000
DTEND;TZID=UTC:20230128T223000
DTSTAMP:20260422T021838
CREATED:20221230T205659Z
LAST-MODIFIED:20221230T205659Z
UID:512289-1674936000-1674945000@kotaconnections.net
SUMMARY:*FOR SALE* MN Timberwolves Vs. Kings
DESCRIPTION:If interested in purchasing these tickets\, contact the office at (952)469-1555. 4 tickets at $40 per ticket.
URL:https://kotaconnections.net/activity/for-sale-mn-timberwolves-vs-kings/
LOCATION:Target Center\, 600 N 1st Ave\, Minneapolis\, MN\, 55403\, United States
END:VEVENT
BEGIN:VEVENT
DTSTART;TZID=UTC:20230128T200000
DTEND;TZID=UTC:20230128T223000
DTSTAMP:20260422T021838
CREATED:20221230T210319Z
LAST-MODIFIED:20221230T210319Z
UID:512301-1674936000-1674945000@kotaconnections.net
SUMMARY:MN Wild Vs. Sabres
DESCRIPTION:Kota Connections has 4 tickets to tonight’s Wild game. 1 staff can being up to 3 clients. *Xcel Center does not accept cash so a card will be necessary to make purchases at the stadium.*
URL:https://kotaconnections.net/activity/mn-wild-vs-sabres/
LOCATION:Xcel Center\, 199 W Kellogg Blvd\, St. Paul\, MN\, 55102\, United States
END:VEVENT
END:VCALENDAR