BEGIN:VCALENDAR
VERSION:2.0
PRODID:-//Kota Connections, Inc. - ECPv6.8.2.1//NONSGML v1.0//EN
CALSCALE:GREGORIAN
METHOD:PUBLISH
X-WR-CALNAME:Kota Connections, Inc.
X-ORIGINAL-URL:https://kotaconnections.net
X-WR-CALDESC:Events for Kota Connections, Inc.
REFRESH-INTERVAL;VALUE=DURATION:PT1H
X-Robots-Tag:noindex
X-PUBLISHED-TTL:PT1H
BEGIN:VTIMEZONE
TZID:UTC
BEGIN:STANDARD
TZOFFSETFROM:+0000
TZOFFSETTO:+0000
TZNAME:UTC
DTSTART:20230101T000000
END:STANDARD
END:VTIMEZONE
BEGIN:VEVENT
DTSTART;TZID=UTC:20230119T183000
DTEND;TZID=UTC:20230119T210000
DTSTAMP:20260421T231240
CREATED:20221230T210456Z
LAST-MODIFIED:20221230T210456Z
UID:512303-1674153000-1674162000@kotaconnections.net
SUMMARY:*FOR SALE* MN Timberwolves Vs. Raptors
DESCRIPTION:Contact the Kota Connections office at (952)469-1555 if interested in purchasing these tickets. Kota Connections cannot use these tickets. $30 per ticket. 4 tickets available.
URL:https://kotaconnections.net/activity/for-sale-mn-timberwolves-vs-raptors/
LOCATION:Target Center\, 600 N 1st Ave\, Minneapolis\, MN\, 55403\, United States
END:VEVENT
BEGIN:VEVENT
DTSTART;TZID=UTC:20230119T183000
DTEND;TZID=UTC:20230119T213000
DTSTAMP:20260421T231240
CREATED:20221230T211626Z
LAST-MODIFIED:20221230T211626Z
UID:512321-1674153000-1674163800@kotaconnections.net
SUMMARY:Buck Hill
DESCRIPTION:Come join this event at Buck Hill. It can either be a tubing or a skiing/snowboarding event. $30 for Tubing and $110 for Skiing.
URL:https://kotaconnections.net/activity/buck-hill-2/
END:VEVENT
END:VCALENDAR