BEGIN:VCALENDAR
VERSION:2.0
PRODID:-//Kota Connections, Inc. - ECPv6.8.2.1//NONSGML v1.0//EN
CALSCALE:GREGORIAN
METHOD:PUBLISH
X-WR-CALNAME:Kota Connections, Inc.
X-ORIGINAL-URL:https://kotaconnections.net
X-WR-CALDESC:Events for Kota Connections, Inc.
REFRESH-INTERVAL;VALUE=DURATION:PT1H
X-Robots-Tag:noindex
X-PUBLISHED-TTL:PT1H
BEGIN:VTIMEZONE
TZID:UTC
BEGIN:STANDARD
TZOFFSETFROM:+0000
TZOFFSETTO:+0000
TZNAME:UTC
DTSTART:20230101T000000
END:STANDARD
END:VTIMEZONE
BEGIN:VEVENT
DTSTART;TZID=UTC:20230118T180000
DTEND;TZID=UTC:20230118T210000
DTSTAMP:20260421T230704
CREATED:20221230T211406Z
LAST-MODIFIED:20221230T211406Z
UID:512319-1674064800-1674075600@kotaconnections.net
SUMMARY:KC Meeting + Dinner + Bingo @ Wild Bills
DESCRIPTION:Kota Connections will have a group attend the Bingo at Wild Bills. This event will also be the KC Meeting and a dinner activity as well. $40 includes the cost for food and Bingo
URL:https://kotaconnections.net/activity/kc-meeting-dinner-bingo-wild-bills/
END:VEVENT
END:VCALENDAR