BEGIN:VCALENDAR
VERSION:2.0
PRODID:-//Kota Connections, Inc. - ECPv6.8.2.1//NONSGML v1.0//EN
CALSCALE:GREGORIAN
METHOD:PUBLISH
X-WR-CALNAME:Kota Connections, Inc.
X-ORIGINAL-URL:https://kotaconnections.net
X-WR-CALDESC:Events for Kota Connections, Inc.
REFRESH-INTERVAL;VALUE=DURATION:PT1H
X-Robots-Tag:noindex
X-PUBLISHED-TTL:PT1H
BEGIN:VTIMEZONE
TZID:UTC
BEGIN:STANDARD
TZOFFSETFROM:+0000
TZOFFSETTO:+0000
TZNAME:UTC
DTSTART:20230101T000000
END:STANDARD
END:VTIMEZONE
BEGIN:VEVENT
DTSTART;TZID=UTC:20230108T180000
DTEND;TZID=UTC:20230108T203000
DTSTAMP:20260421T230641
CREATED:20221230T210101Z
LAST-MODIFIED:20221230T210101Z
UID:512295-1673200800-1673209800@kotaconnections.net
SUMMARY:MN Wild Vs. Blues
DESCRIPTION:Kota Connections has 4 tickets to tonight’s Wild game. 1 staff can being up to 3 clients. *Xcel Center does not accept cash so a card will be necessary to make purchases at the stadium.*
URL:https://kotaconnections.net/activity/mn-wild-vs-blues/
LOCATION:Xcel Center\, 199 W Kellogg Blvd\, St. Paul\, MN\, 55102\, United States
END:VEVENT
END:VCALENDAR