BEGIN:VCALENDAR
VERSION:2.0
PRODID:-//Kota Connections, Inc. - ECPv6.8.2.1//NONSGML v1.0//EN
CALSCALE:GREGORIAN
METHOD:PUBLISH
X-WR-CALNAME:Kota Connections, Inc.
X-ORIGINAL-URL:https://kotaconnections.net
X-WR-CALDESC:Events for Kota Connections, Inc.
REFRESH-INTERVAL;VALUE=DURATION:PT1H
X-Robots-Tag:noindex
X-PUBLISHED-TTL:PT1H
BEGIN:VTIMEZONE
TZID:UTC
BEGIN:STANDARD
TZOFFSETFROM:+0000
TZOFFSETTO:+0000
TZNAME:UTC
DTSTART:20230101T000000
END:STANDARD
END:VTIMEZONE
BEGIN:VEVENT
DTSTART;TZID=UTC:20230104T190000
DTEND;TZID=UTC:20230104T213000
DTSTAMP:20260421T230643
CREATED:20221230T204956Z
LAST-MODIFIED:20221230T204956Z
UID:512275-1672858800-1672867800@kotaconnections.net
SUMMARY:MN Timberwolves Vs. Trail Blazers
DESCRIPTION:Kota Connections has 4 tickets to tonight’s Timberwolves game. 1 staff can being up to 3 clients. *Target Center does not accept cash so a card will be necessary to make purchases at the stadium.*
URL:https://kotaconnections.net/activity/mn-timberwolves-vs-trail-blazers/
LOCATION:Target Center\, 600 N 1st Ave\, Minneapolis\, MN\, 55403\, United States
END:VEVENT
BEGIN:VEVENT
DTSTART;TZID=UTC:20230104T203000
DTEND;TZID=UTC:20230104T230000
DTSTAMP:20260421T230644
CREATED:20221230T210030Z
LAST-MODIFIED:20221230T210030Z
UID:512293-1672864200-1672873200@kotaconnections.net
SUMMARY:MN Wild Vs. Lightning
DESCRIPTION:Kota Connections has 4 tickets to tonight’s Wild game. 1 staff can being up to 3 clients. *Xcel Center does not accept cash so a card will be necessary to make purchases at the stadium.*
URL:https://kotaconnections.net/activity/mn-wild-vs-lightning-2/
LOCATION:Xcel Center\, 199 W Kellogg Blvd\, St. Paul\, MN\, 55102\, United States
END:VEVENT
END:VCALENDAR