BEGIN:VCALENDAR
VERSION:2.0
PRODID:-//Kota Connections, Inc. - ECPv6.8.2.1//NONSGML v1.0//EN
CALSCALE:GREGORIAN
METHOD:PUBLISH
X-WR-CALNAME:Kota Connections, Inc.
X-ORIGINAL-URL:https://kotaconnections.net
X-WR-CALDESC:Events for Kota Connections, Inc.
REFRESH-INTERVAL;VALUE=DURATION:PT1H
X-Robots-Tag:noindex
X-PUBLISHED-TTL:PT1H
BEGIN:VTIMEZONE
TZID:UTC
BEGIN:STANDARD
TZOFFSETFROM:+0000
TZOFFSETTO:+0000
TZNAME:UTC
DTSTART:20220101T000000
END:STANDARD
END:VTIMEZONE
BEGIN:VEVENT
DTSTART;TZID=UTC:20221222T140000
DTEND;TZID=UTC:20221222T160000
DTSTAMP:20260422T003558
CREATED:20221228T041309Z
LAST-MODIFIED:20221228T041309Z
UID:512261-1671717600-1671724800@kotaconnections.net
SUMMARY:Christmas Cookie Baking
DESCRIPTION:Come bake some Christmas cookies for the holidays. You will also be able to decorate your cookies and interact with peers.
URL:https://kotaconnections.net/activity/christmas-cookie-baking-3/
END:VEVENT
BEGIN:VEVENT
DTSTART;TZID=UTC:20221222T180000
DTEND;TZID=UTC:20221222T203000
DTSTAMP:20260422T003558
CREATED:20221228T041349Z
LAST-MODIFIED:20221228T041349Z
UID:512263-1671732000-1671741000@kotaconnections.net
SUMMARY:Christmas Cookie Baking
DESCRIPTION:Come bake some Christmas cookies for the holidays. You will also be able to decorate your cookies and interact with peers.
URL:https://kotaconnections.net/activity/christmas-cookie-baking-4/
LOCATION:Kota Connections\, 8500 210th St W Suite 148\, Lakeville\, MN\, 55044\, United States
END:VEVENT
END:VCALENDAR