BEGIN:VCALENDAR
VERSION:2.0
PRODID:-//Kota Connections, Inc. - ECPv6.8.2.1//NONSGML v1.0//EN
CALSCALE:GREGORIAN
METHOD:PUBLISH
X-WR-CALNAME:Kota Connections, Inc.
X-ORIGINAL-URL:https://kotaconnections.net
X-WR-CALDESC:Events for Kota Connections, Inc.
REFRESH-INTERVAL;VALUE=DURATION:PT1H
X-Robots-Tag:noindex
X-PUBLISHED-TTL:PT1H
BEGIN:VTIMEZONE
TZID:UTC
BEGIN:STANDARD
TZOFFSETFROM:+0000
TZOFFSETTO:+0000
TZNAME:UTC
DTSTART:20220101T000000
END:STANDARD
END:VTIMEZONE
BEGIN:VEVENT
DTSTART;TZID=UTC:20221215T140000
DTEND;TZID=UTC:20221215T160000
DTSTAMP:20260422T002731
CREATED:20221228T040832Z
LAST-MODIFIED:20221228T040832Z
UID:512251-1671112800-1671120000@kotaconnections.net
SUMMARY:Open Office/Videogame Day
DESCRIPTION:Come play some board games\, card games\, video games\, or even some pool or darts. *Snacks available for purchase.*
URL:https://kotaconnections.net/activity/open-office-videogame-day/
LOCATION:Kota Connections\, 8500 210th St W Suite 148\, Lakeville\, MN\, 55044\, United States
END:VEVENT
BEGIN:VEVENT
DTSTART;TZID=UTC:20221215T180000
DTEND;TZID=UTC:20221215T203000
DTSTAMP:20260422T002731
CREATED:20221228T040907Z
LAST-MODIFIED:20221228T040907Z
UID:512253-1671127200-1671136200@kotaconnections.net
SUMMARY:Open Office/Videogame Night
DESCRIPTION:Come play some board games\, card games\, video games\, or even some pool or darts. *Snacks available for purchase.*
URL:https://kotaconnections.net/activity/open-office-videogame-night-4/
LOCATION:Kota Connections\, 8500 210th St W Suite 148\, Lakeville\, MN\, 55044\, United States
END:VEVENT
END:VCALENDAR