BEGIN:VCALENDAR
VERSION:2.0
PRODID:-//Kota Connections, Inc. - ECPv6.8.2.1//NONSGML v1.0//EN
CALSCALE:GREGORIAN
METHOD:PUBLISH
X-WR-CALNAME:Kota Connections, Inc.
X-ORIGINAL-URL:https://kotaconnections.net
X-WR-CALDESC:Events for Kota Connections, Inc.
REFRESH-INTERVAL;VALUE=DURATION:PT1H
X-Robots-Tag:noindex
X-PUBLISHED-TTL:PT1H
BEGIN:VTIMEZONE
TZID:UTC
BEGIN:STANDARD
TZOFFSETFROM:+0000
TZOFFSETTO:+0000
TZNAME:UTC
DTSTART:20220101T000000
END:STANDARD
END:VTIMEZONE
BEGIN:VEVENT
DTSTART;TZID=UTC:20221206T180000
DTEND;TZID=UTC:20221206T213000
DTSTAMP:20260422T021837
CREATED:20221228T040203Z
LAST-MODIFIED:20221228T040203Z
UID:512241-1670349600-1670362200@kotaconnections.net
SUMMARY:Movie Night
DESCRIPTION:Join the group at a Movie Theater for Movie Night. The theater will be chosen closer to the event date and movie choices will be given to the clients attending. The cost of the event is $15 plus spending money for snacks/beverages.
URL:https://kotaconnections.net/activity/movie-night-20/
END:VEVENT
END:VCALENDAR